BEGIN:VCALENDAR
VERSION:2.0
PRODID:-//jEvents 2.0 for Joomla//EN
CALSCALE:GREGORIAN
METHOD:PUBLISH
BEGIN:VEVENT
UID:28378f75941c310f7b89dd2c906cf224
CATEGORIES:2. Bezirk
CREATED:20211220T135459
SUMMARY:Workshop Eingewöhnung in Kinderbetreuung 
LOCATION:EKiZ Kind&amp;Kegel\, 1020 Praterstraße 14/8
DESCRIPTION:<p>Eingewöhung in die Kinderbetreuung - Workshop</p><p>Wie kann ich mich au
 f die Eingewöhung als Eltern gut vorbereiten.</p><p>Was sollten Eltern wiss
 en (kindliche Entwicklung, institutionelles Hintergrundwissen, Familienorga
 nisatorische Eckpunkte, emotionale Aspekte, ......) und was kann beim Einge
 wöhungsprozess unterstützen.</p><p>Dienstag, 17.05.2022, 18.30.-20.30</p><p
 >Kosten: € 20.-</p><p>Anmeldung erforderlich</p>
CONTACT:info@kind-und-kegel.at, 01 503 71 88
X-EXTRAINFO:[preis='2000'][anmeldung='true']
DTSTAMP:20260425T154200
DTSTART:20220517T163000
DTEND:20220517T183000
SEQUENCE:0
TRANSP:OPAQUE
END:VEVENT
END:VCALENDAR