BEGIN:VCALENDAR
VERSION:2.0
PRODID:-//jEvents 2.0 for Joomla//EN
CALSCALE:GREGORIAN
METHOD:PUBLISH
BEGIN:VEVENT
UID:bf4abc7817c4eff1bc7f9bc6ffbf1acb
CATEGORIES:6. Bezirk
CREATED:20211229T205149
SUMMARY:“Reisen mit Baby & Kleinkind" ONLINE-Impulstalk mit Gesprächsrunde
LOCATION:Online per Zoom
DESCRIPTION:<p>“Reisen mit Baby &amp; Kleinkind"<br /> ONLINE-Impulstalk mit Gesprächsr
 unde</p><p>Georg und Elena sind nicht nur Weltenbummler mit Leib und Seele,
  sondern - seit Mai 2019 - auch junge Eltern des kleinen Weltenbummlers Lia
 m. Seit nahezu neun Jahren berichtet Elena von ihren Reiseerfahrungen in de
 r gesamten Welt auf ihrem Reiseblog <a href="http://www.creativelena.com/?f
 bclid=IwAR2aKXX82WTBmRpovCdAXf-QKRimu5sKkTYb5wNgUuh80-_OXGABhqB-Tvw">www.cr
 eativelena.com</a> – neuerdings auch mit Baby bzw. Kleinkind. <br /> Siehe 
 dazu <a href="https://www.creativelena.com/reiseblog/familienreisen?fbclid=
 IwAR1rZ4G9eU85pOJF_1xen5Miui09_ZUWJT5yA-2d2lAQg5PdI4Lin8mg6F4">https://www.
 creativelena.com/reiseblog/familienreisen</a></p><p>Anlässlich dieses Reise
 -Vortrages sprechen sowohl Papa Georg als auch Mama Elena von ihren bisheri
 gen Reiseerfahrungen mit Liam. Sie geben viele Tipps, Anregungen und Ideen,
  wie sich das Reisen mit einem kleinen Weltenbummler an der Seite bestmögli
 ch gestalten und organisieren lässt.</p><p>Wann: 22. Jänner 2022<br /> Uhrz
 eit: 10.00 – 11.00 Uhr</p><p>Kosten: Unkostenbeitrag € 5,- pro Bildschirm</
 p><p>Damit unterstützt ihr die Reisevorhaben von Elena und Georg, sowie die
  Veranstalterin, Martina vom Biolino Institut!</p><p>Nach dem Anmeldung bek
 ommt ihr einen Link zu unserer Zoom-Veranstaltung.</p><p>Anmeldung unter:<b
 r /> martina.novak@biolino.at</p><p> </p><p>Wir freuen uns auf dich!</p><p>
 Elena und Martina</p>
CONTACT:martnia.novak@biolino.at, 067762892970
X-EXTRAINFO:[preis='500'][anmeldung='true']
DTSTAMP:20260423T124508
DTSTART:20220122T090000
DTEND:20220122T100000
SEQUENCE:0
TRANSP:OPAQUE
END:VEVENT
END:VCALENDAR