BEGIN:VCALENDAR
VERSION:2.0
PRODID:-//jEvents 2.0 for Joomla//EN
CALSCALE:GREGORIAN
METHOD:PUBLISH
BEGIN:VEVENT
UID:9f50cac52fa565e595f5694fb8f26317
CATEGORIES:Wien Umgebung
CREATED:20220103T170855
SUMMARY:Faschings-Kreativparty 
LOCATION:craftort Lanzendorf bei Wien
DESCRIPTION:Wir feiern eine bunte Faschingsparty mit Malen, Basteln und Spielen.\n Alle
 , die möchten, können gerne verkleidet kommen.\nWann: Sonntag, 27.02.22  \n
  Bitte die Uhrzeiten je nach Alter des Kindes beachten. \nFür Kinder von 1,
 5 bis 4 Jahre (+ 1 Begleitperson) -&gt; 10-12 Uhr\n Für Kinder von 5 bis 10
  Jahre (ohne Begleitperson!) -&gt; 15-17 Uhr\nKosten: 39,-€, Geschwisterkin
 der 33,-€ (inkl. Material, Obst &amp; Saft)\n \n ANMELDUNG mit Namen &amp; 
 Telefonnummer, Namen &amp; Alter des Kindes per E-Mail an: info@craftort.at
  (mailto:info@craftort.at)\n Mindestteilnehmerzahl: 5\n \n Wo: „craftort“, 
 Andreas Radlinger-Str. 1a, 2326 Lanzendorf b. Wien \n &gt;Öffentliche Verke
 hrsmittel: S-Bahn (vom Hbf Wien) bis Lanzendorf-Rannersdorf Bhf + Bus bis G
 ärtnerei oder Fußweg (ca 15 Min),  \n &gt;Mit dem Auto: S1 Abfahrt Rannersd
 orf. Öffentliche Parkplätze vorhanden.\nIch freue mich auf kunterbunte Work
 shops mit euch, eure Sonja!\n \n Änderungen und Durchführung vorbehalten. E
 s gelten die dann aktuellen Covid-19 Schutz- &amp; Hygienemaßnahmen für Nie
 derösterreich.\nDie nächsten Termine: \n So. 20.03.22 Frühlings-Kreativwork
 shop\n So, 10.04.22 Oster-Kreativworkshop\n Details in der jeweiligen Faceb
 ook-Veranstaltung und auf der Webseite. \n Anmeldung per E-Mail erforderlic
 h.\n
X-ALT-DESC;FMTTYPE=text/html:<p>Wir feiern eine bunte Faschingsparty mit Malen, Basteln und Spielen.<br 
 /> Alle, die möchten, können gerne verkleidet kommen.</p><p>Wann: <strong>S
 onntag, 27.02.22 </strong> <br /> Bitte die Uhrzeiten je nach Alter des Kin
 des beachten. </p><p>Für Kinder von 1,5 bis 4 Jahre (+ 1 Begleitperson) -&g
 t; 10-12 Uhr<br /> Für Kinder von 5 bis 10 Jahre (ohne Begleitperson!) -&gt
 ; 15-17 Uhr</p><p>Kosten: 39,-€, Geschwisterkinder 33,-€ (inkl. Material, O
 bst &amp; Saft)<br /> <br /> ANMELDUNG mit Namen &amp; Telefonnummer, Namen
  &amp; Alter des Kindes per E-Mail an: <a href="mailto:info@craftort.at">in
 fo@craftort.at</a><br /> Mindestteilnehmerzahl: 5<br /> <br /> Wo: „craftor
 t“, Andreas Radlinger-Str. 1a, 2326 Lanzendorf b. Wien <br /> &gt;Öffentlic
 he Verkehrsmittel: S-Bahn (vom Hbf Wien) bis Lanzendorf-Rannersdorf Bhf + B
 us bis Gärtnerei oder Fußweg (ca 15 Min),  <br /> &gt;Mit dem Auto: S1 Abfa
 hrt Rannersdorf. Öffentliche Parkplätze vorhanden.</p><p>Ich freue mich auf
  kunterbunte Workshops mit euch, eure Sonja!<br /> <br /> Änderungen und Du
 rchführung vorbehalten. Es gelten die dann aktuellen Covid-19 Schutz- &amp;
  Hygienemaßnahmen für Niederösterreich.</p><p><strong>Die nächsten Termine:
  </strong><br /> <strong>So. 20.03.22</strong> <strong>Frühlings-Kreativwor
 kshop</strong><br /> <strong>So, 10.04.22 Oster-Kreativworkshop</strong><br
  /> Details in der jeweiligen Facebook-Veranstaltung und auf der Webseite. 
 <br /> Anmeldung per E-Mail erforderlich.</p>
CONTACT:www.craftort.at
X-EXTRAINFO:[preis='3900'][anmeldung='true']
DTSTAMP:20260423T113314
DTSTART:20220227T090000
DTEND:20220227T110000
SEQUENCE:0
TRANSP:OPAQUE
END:VEVENT
END:VCALENDAR