BEGIN:VCALENDAR
VERSION:2.0
PRODID:-//jEvents 2.0 for Joomla//EN
CALSCALE:GREGORIAN
METHOD:PUBLISH
BEGIN:VEVENT
UID:ca16c8804a29393bf2465dd0fed68d95
CATEGORIES:1. Bezirk
CREATED:20220110T123259
SUMMARY:#Elternimpulse: Liebevolle Grenzen setzen
LOCATION:Online via Zoom
DESCRIPTION:Montag, 28. Februar 2022, wahlweise 9.30 – 11.00 Uhr oder 19.30 – 21.00 Uhr
 \nOnline-Workshop\nGrenzen setzen, ohne zu verletzen, erziehen ohne Strafen
 , “Leuchtturm-Führen” und konstruktiv Konflikte lösen: Wie kann das im Fami
 lienalltag gelingen?\nNeben Gedankenexperimenten und spannenden Hintergrund
 informationen aus der Gehirnforschung und Entwicklungspsychologie bekommt i
 hr in diesem Workshop vor allem einen praktischen Leitfaden, wie ihr euer F
 amilienleben beziehungsorientiert gestalten könnt, sowie die Möglichkeit, k
 onkrete Fragen zu stellen.\n Veranstalter*in: Katholisches Bildungswerk Wie
 n in Kooperation mit meinefamilie.at\nOrt: Online via Zoom\nKosen: €15,- pr
 o Bildschirm oder 10€ im #Elternimpuls-Abo (https://beziehungsvoll.at/elter
 nimpulse/)\nAnmeldung: per Mail an: anmeldung@bildungswerk.at (mailto:bildu
 ngszentrum@bildungswerk.at) – bitte mit Bekanntgabe, ob ihr am Vormittags- 
 oder Abendtermin teilnehmen wollt.\n Über die #Elternimpulse – Reihe\nIn de
 n #Elternimpulsen erhaltet Ihr jeden Monat neue Impulse und Begleitung für 
 Euren Familienalltag, sowie Antworten auf all Eure Fragen rund um die Theme
 n Familienleben, Kindererziehung und achtsames Eltern-Sein – und das bequem
  von zuhause aus. \nDadurch lernt ihr Euch, Eure Kinder und Eure Familie be
 sser zu verstehen und auf dieser Basis Euer Miteinander wertschätzender, ac
 htsamer und harmonischer zu gestalten. \nDie Elternimpulse finden in Kooper
 ation mit dem Katholischen Bildungswerk – Elternbildung und meinefamilie.at
  statt – die Teilnahme ist daher sehr kostengünstig (rund 15€/Workshop)\nWe
 rdet Teil der #Elternimpulse-Community!\nWeitere Infos findet ihr hier (htt
 ps://beziehungsvoll.at/elternimpulse/)\n \n
X-ALT-DESC;FMTTYPE=text/html:<p><strong>Montag, 28. Februar 2022, wahlweise 9.30 – 11.00 Uhr oder 19.30 
 – 21.00 Uhr</strong><br />Online-Workshop</p><p>Grenzen setzen, ohne zu ver
 letzen, erziehen ohne Strafen, “Leuchtturm-Führen” und konstruktiv Konflikt
 e lösen: Wie kann das im Familienalltag gelingen?</p><p>Neben Gedankenexper
 imenten und spannenden Hintergrundinformationen aus der Gehirnforschung und
  Entwicklungspsychologie bekommt ihr in diesem Workshop vor allem einen pra
 ktischen Leitfaden, wie ihr euer Familienleben beziehungsorientiert gestalt
 en könnt, sowie die Möglichkeit, konkrete Fragen zu stellen.</p><div class=
 "wp-block-spacer"> </div><p><strong>Veranstalter*in:</strong> Katholisches 
 Bildungswerk Wien in Kooperation mit meinefamilie.at<br /><strong>Ort: </st
 rong>Online via Zoom<br /><strong>Kosen:</strong> €15,- pro Bildschirm oder
  10€ <a href="https://beziehungsvoll.at/elternimpulse/" target="_blank" rel
 ="noopener noreferrer">im #Elternimpuls-Abo</a><br /><strong>Anmeldung</str
 ong>: per Mail an: <a href="mailto:bildungszentrum@bildungswerk.at" target=
 "_blank" rel="noopener noreferrer">anmeldung@bildungswerk.at</a> – bitte mi
 t Bekanntgabe, ob ihr am Vormittags- oder Abendtermin teilnehmen wollt.</p>
 <div class="wp-block-spacer"> </div><p><strong><em>Über die</em></strong> <
 strong><em>#Elternimpulse – Reihe</em></strong></p><p><em>In den #Elternimp
 ulsen erhaltet Ihr jeden Monat neue Impulse und Begleitung für Euren Famili
 enalltag, sowie Antworten auf all Eure Fragen rund um die Themen Familienle
 ben, Kindererziehung und achtsames Eltern-Sein – und das bequem von zuhause
  aus. </em></p><p><em>Dadurch lernt ihr Euch, Eure Kinder und Eure Familie 
 besser zu verstehen und auf dieser Basis Euer Miteinander wertschätzender, 
 achtsamer und harmonischer zu gestalten. </em></p><p><em>Die Elternimpulse 
 finden in Kooperation mit dem Katholischen Bildungswerk – Elternbildung und
  meinefamilie.at statt – die Teilnahme ist daher sehr kostengünstig (rund 1
 5€/Workshop)</em></p><p><em>Werdet Teil der #Elternimpulse-Community!</em><
 br /><em>Weitere Infos <a href="https://beziehungsvoll.at/elternimpulse/" t
 arget="_blank" rel="noopener noreferrer">findet ihr hier</a></em></p><p> </
 p>
CONTACT:anmeldung@bildungswerk.at
X-EXTRAINFO:[preis='1500'][anmeldung='true']
DTSTAMP:20260423T112258
DTSTART:20220228T183000
DTEND:20220228T200000
SEQUENCE:0
TRANSP:OPAQUE
END:VEVENT
END:VCALENDAR