BEGIN:VCALENDAR
VERSION:2.0
PRODID:-//jEvents 2.0 for Joomla//EN
CALSCALE:GREGORIAN
METHOD:PUBLISH
BEGIN:VEVENT
UID:5b3e76246a2a3bde426d529a01d5348c
CATEGORIES:3. Bezirk
CREATED:20220111T115928
SUMMARY:Lustvoll Trotzen - Authentische Begleitung von starken Gefühlen und der körperlichen Entwicklung von Kindern zwischen 1- 6 Jahren
LOCATION:LieblingsMAMA Praxis: Apostelgasse 29-31/1/9
DESCRIPTION:Dein Kind ist wütend, traurig, glücklich und dass alles innerhalb von Minut
 en? Du liebst dein Kind, aber manchmal läuft einfach alles aus dem Ruder un
 d du weißt selbst nicht mehr wohin mit deiner Emotion? Und was hat das jetz
 t mit kindlicher sexueller Entwicklung zu tun?\nKinder leben und lernen im 
 Hier und Jetzt. Sie erleben Gefühle in einem anderen Ausmaß und in einer an
 deren Impulsivität als wir Erwachsene. Das Erlernen und Einordnen dieser Ge
 fühle ist einer der Grundsteine der sexualpädagogischen Arbeit und eine wic
 htige Prävention vor sexuellen Übergriffen. \nZiel ist es Kindern eine Spra
 che für ihren Körper zu geben. Sie sollen angenehme von unangenehmen Berühr
 ungen und gute von schlechten Gefühlen unterscheiden können. Dafür braucht 
 es nicht „das Aufklärungsgespräch“, sondern eine offene und neugierige Halt
 ung deinem Kind gegenüber.\nÜberschäumende Freude und unbändige Wut liegen 
 ganz nah beisammen. So ein Gefühlsausbruch fordert ganz schön viel – und zw
 ar von allen Beteiligten. Oft neigen wir dazu unsere eigenen Gefühle zu unt
 erdrücken um das Fass nicht zum Überlaufen zu bringen, doch damit nehmen wi
 r unseren Kindern etwas Wichtiges: Beispiele mit Wut, Frust, Trauer, Ungedu
 ld,…umzugehen.\nWir richten den Blick auf eure ureigenen Werte und zeigen e
 uch wie das Bewusstsein darüber für Entlastung sorgen kann. \nDu erhältst i
 n unserem Seminar wichtigen Input zur Autonomiephase und den Umgang mit die
 ser herausfordernden Zeit, sowie einen Einblick in die kindliche sexuelle E
 ntwicklung und Do’s and Dont’s in dieser Altersgruppe.\nWir freuen uns auf 
 Austausch und eure persönlichen Erfahrungen. In einem geschützten Rahmen ge
 hen wir auf jede Familiensituationen individuell ein.\nDu erhältst von uns 
 maßgeschneiderte Handlungswerkzeuge für den Alltag in deiner Familie, sowie
  Mut und Sicherheit mit dem Thema Sexualität.\nEbenfalls erhältst du bei de
 r Teilnahme an diesem Seminar eine umfangreiche Bücherliste für Kinder sowi
 e einen kleinen Mutmacher für zu Hause.\nIn Kooperation mit der wunderbaren
  Tamara Felbinger, BA: Sexualpädagogin.\nwww.tamara-felbinger.at (https://w
 ww.tamara-felbinger.at)
X-ALT-DESC;FMTTYPE=text/html:<p class="" style="white-space: pre-wrap;">Dein Kind ist wütend, traurig, g
 lücklich und dass alles innerhalb von Minuten? Du liebst dein Kind, aber ma
 nchmal läuft einfach alles aus dem Ruder und du weißt selbst nicht mehr woh
 in mit deiner Emotion? Und was hat das jetzt mit kindlicher sexueller Entwi
 cklung zu tun?</p><p class="" style="white-space: pre-wrap;">Kinder leben u
 nd lernen im Hier und Jetzt. Sie erleben Gefühle in einem anderen Ausmaß un
 d in einer anderen Impulsivität als wir Erwachsene. Das Erlernen und Einord
 nen dieser Gefühle ist einer der Grundsteine der sexualpädagogischen Arbeit
  und eine wichtige Prävention vor sexuellen Übergriffen. <br />Ziel ist es 
 Kindern eine Sprache für ihren Körper zu geben. Sie sollen angenehme von un
 angenehmen Berührungen und gute von schlechten Gefühlen unterscheiden könne
 n. Dafür braucht es nicht „das Aufklärungsgespräch“, sondern eine offene un
 d neugierige Haltung deinem Kind gegenüber.</p><p class="" style="white-spa
 ce: pre-wrap;">Überschäumende Freude und unbändige Wut liegen ganz nah beis
 ammen. So ein Gefühlsausbruch fordert ganz schön viel – und zwar von allen 
 Beteiligten. Oft neigen wir dazu unsere eigenen Gefühle zu unterdrücken um 
 das Fass nicht zum Überlaufen zu bringen, doch damit nehmen wir unseren Kin
 dern etwas Wichtiges: Beispiele mit Wut, Frust, Trauer, Ungeduld,…umzugehen
 .</p><p class="" style="white-space: pre-wrap;">Wir richten den Blick auf e
 ure ureigenen Werte und zeigen euch wie das Bewusstsein darüber für Entlast
 ung sorgen kann. <br />Du erhältst in unserem Seminar wichtigen Input zur A
 utonomiephase und den Umgang mit dieser herausfordernden Zeit, sowie einen 
 Einblick in die kindliche sexuelle Entwicklung und Do’s and Dont’s in diese
 r Altersgruppe.</p><p class="" style="white-space: pre-wrap;">Wir freuen un
 s auf Austausch und eure persönlichen Erfahrungen. In einem geschützten Rah
 men gehen wir auf jede Familiensituationen individuell ein.<br />Du erhälts
 t von uns maßgeschneiderte Handlungswerkzeuge für den Alltag in deiner Fami
 lie, sowie Mut und Sicherheit mit dem Thema Sexualität.</p><p class="" styl
 e="white-space: pre-wrap;">Ebenfalls erhältst du bei der Teilnahme an diese
 m Seminar eine umfangreiche Bücherliste für Kinder sowie einen kleinen Mutm
 acher für zu Hause.</p><h4 style="white-space: pre-wrap;">In Kooperation mi
 t der wunderbaren Tamara Felbinger, BA: Sexualpädagogin.<br /><a href="http
 s://www.tamara-felbinger.at" target="_blank" rel="noopener noreferrer">www.
 tamara-felbinger.at</a></h4>
CONTACT:Sabine Grasmuk-Siegl, MSc Familienberaterin, Psychologische Beraterin https://www.lieblingsmama.at/spezialangebote
X-EXTRAINFO:[preis='9900'][anmeldung='true']
DTSTAMP:20260423T141645
DTSTART:20220214T160000
DTEND:20220214T193000
SEQUENCE:0
TRANSP:OPAQUE
END:VEVENT
END:VCALENDAR