BEGIN:VCALENDAR
VERSION:2.0
PRODID:-//jEvents 2.0 for Joomla//EN
CALSCALE:GREGORIAN
METHOD:PUBLISH
BEGIN:VEVENT
UID:a6f04d030bd02fe5caedb9469e82bbe2
CATEGORIES:1. Bezirk
CREATED:20220113T103107
SUMMARY:Networking to go
LOCATION:Burggarten\, Wien
DESCRIPTION:Auch im neuen Jahr starten wir wieder mit unserem NETWORKING TO GO!\n \nWie
  immer wollen wir etwas Zeit miteinander verbringen, diesmal schon vor der 
 Mittagspause, da essen und spazieren nicht immer so einfach ist – deine Kin
 der sind auch herzlich Willkommen! \n \nGeplant ist ein Spaziergang Rund um
  den Burgring. Wir starten im Burggarten an der Mozartstatue und spazieren 
 dann entspannt ca. 90 Minuten am Ring lang - eine ganze Runde. Je nachdem, 
 wie viele Teilnehmerinnen es geben wird, habe ich mir überlegt, dass wir un
 sere Gesprächspartnerinnen alle 7 bis 10 Minuten wechseln, damit am Ende je
 de mal mit jeder gesprochen hat.\n \nBitte mitbringen:\n- natürlich gute La
 une \n- wenn du magst, etwas zu trinken\n- bequeme Schuhe\n- und gerne auch
  dein Promo- und Werbematerial\n \nDas "Netzwerken to Go" ist für dich kost
 enlos, bitte melde dich aber trotzdem per Ticketlink an (https://www.busine
 ssmoms.at/events/networking-to-go-2/)! \n \nWichtige Infos:\n- Genaue Locat
 ion: im Burggarten vor der Mozartstatue!\n- Findet nur bei trockenem Wetter
  statt (bei ganz miserablem Wetter bekommst du einen Link von mir zum Onlin
 e-Netzwerken)\n- bitte beachte die 2G+-Regel, obwohl wir draußen sind, ist 
 mir deine Sicherheit sehr wichtig.\n \nIch freu mich auf dein Kommen!\n \n
X-ALT-DESC;FMTTYPE=text/html:<p>Auch im neuen Jahr starten wir wieder mit unserem NETWORKING TO GO!</p><
 p> </p><p>Wie immer wollen wir etwas Zeit miteinander verbringen, diesmal s
 chon vor der Mittagspause, da essen und spazieren nicht immer so einfach is
 t – deine Kinder sind auch herzlich Willkommen! </p><p> </p><p>Geplant ist 
 ein Spaziergang Rund um den Burgring. Wir starten im Burggarten an der Moza
 rtstatue und spazieren dann entspannt ca. 90 Minuten am Ring lang - eine ga
 nze Runde. Je nachdem, wie viele Teilnehmerinnen es geben wird, habe ich mi
 r überlegt, dass wir unsere Gesprächspartnerinnen alle 7 bis 10 Minuten wec
 hseln, damit am Ende jede mal mit jeder gesprochen hat.</p><p> </p><p>Bitte
  mitbringen:</p><p>- natürlich gute Laune <br />- wenn du magst, etwas zu t
 rinken<br />- bequeme Schuhe<br />- und gerne auch dein Promo- und Werbemat
 erial</p><p> </p><p>Das "Netzwerken to Go" ist für dich kostenlos, bitte me
 lde dich aber trotzdem per Ticketlink an (https://www.businessmoms.at/event
 s/networking-to-go-2/)! </p><p> </p><p>Wichtige Infos:</p><p>- Genaue Locat
 ion: im Burggarten vor der Mozartstatue!<br />- Findet nur bei trockenem We
 tter statt (bei ganz miserablem Wetter bekommst du einen Link von mir zum O
 nline-Netzwerken)<br />- bitte beachte die 2G+-Regel, obwohl wir draußen si
 nd, ist mir deine Sicherheit sehr wichtig.</p><p> </p><p>Ich freu mich auf 
 dein Kommen!</p><p> </p>
CONTACT:https://www.businessmoms.at/events/networking-to-go-2/
X-EXTRAINFO:[preis='000'][anmeldung='true']
DTSTAMP:20260423T171529
DTSTART:20220204T100000
DTEND:20220204T123000
SEQUENCE:0
TRANSP:OPAQUE
END:VEVENT
END:VCALENDAR