BEGIN:VCALENDAR
VERSION:2.0
PRODID:-//jEvents 2.0 for Joomla//EN
CALSCALE:GREGORIAN
METHOD:PUBLISH
BEGIN:VEVENT
UID:b43d51fdc6d18361ebfb4d7ba5da8930
CATEGORIES:1. Bezirk
CREATED:20220113T110251
SUMMARY:Networking to go
LOCATION:Burggarten\, Wien
DESCRIPTION:Im Frühling gehts weiter mit unserem NETWORKING TO GO!  Wie immer wollen wi
 r etwas Zeit miteinander verbringen, diesmal schon vor der Mittagspause, da
  essen und spazieren nicht immer so einfach ist – deine Kinder sind auch he
 rzlich Willkommen!  Geplant ist ein Spaziergang Rund um den Burgring. Wir s
 tarten im Burggarten an der Mozartstatue und spazieren dann entspannt ca. 9
 0 Minuten am Ring lang - eine ganze Runde. Je nachdem, wie viele Teilnehmer
 innen es geben wird, habe ich mir überlegt, dass wir unsere Gesprächspartne
 rinnen alle 7 bis 10 Minuten wechseln, damit am Ende jede mal mit jeder ges
 prochen hat.  Bitte mitbringen:- natürlich gute Laune\n- wenn du magst, etw
 as zu trinken\n- bequeme Schuhe\n- und gerne auch dein Promo- und Werbemate
 rial  Das "Netzwerken to Go" ist für dich kostenlos, bitte melde dich aber 
 trotzdem per Ticketlink an (https://www.businessmoms.at/events/networking-t
 o-go-3/ (https://www.businessmoms.at/events/networking-to-go-3/))  Wichtige
  Infos:- Genaue Location: im Burggarten vor der Mozartstatue!\n- Findet nur
  bei trockenem Wetter statt (bei ganz miserablem Wetter bekommst du einen L
 ink von mir zum Online-Netzwerken)\n- bitte beachte die 2G+-Regel, obwohl w
 ir draußen sind, ist mir deine Sicherheit sehr wichtig.   Ich freu mich auf
  dein Kommen!
X-ALT-DESC;FMTTYPE=text/html:<div class="kvgmc6g5 cxmmr5t8 oygrvhab hcukyx3x c1et5uql"><strong>Im Frühli
 ng gehts weiter mit unserem NETWORKING TO GO!</strong></div><div> </div><di
 v class="cxmmr5t8 oygrvhab hcukyx3x c1et5uql o9v6fnle"> </div><div class="c
 xmmr5t8 oygrvhab hcukyx3x c1et5uql o9v6fnle">Wie immer wollen wir etwas Zei
 t miteinander verbringen, diesmal schon vor der Mittagspause, da essen und 
 spazieren nicht immer so einfach ist – deine Kinder sind auch herzlich Will
 kommen!</div><div class="cxmmr5t8 oygrvhab hcukyx3x c1et5uql o9v6fnle"> </d
 iv><div> </div><div class="cxmmr5t8 oygrvhab hcukyx3x c1et5uql o9v6fnle">Ge
 plant ist ein Spaziergang Rund um den Burgring. Wir starten im Burggarten a
 n der Mozartstatue und spazieren dann entspannt ca. 90 Minuten am Ring lang
  - eine ganze Runde. Je nachdem, wie viele Teilnehmerinnen es geben wird, h
 abe ich mir überlegt, dass wir unsere Gesprächspartnerinnen alle 7 bis 10 M
 inuten wechseln, damit am Ende jede mal mit jeder gesprochen hat.</div><div
 > </div><div class="cxmmr5t8 oygrvhab hcukyx3x c1et5uql o9v6fnle"> </div><d
 iv class="cxmmr5t8 oygrvhab hcukyx3x c1et5uql o9v6fnle"><strong>Bitte mitbr
 ingen:</strong></div><div class="cxmmr5t8 oygrvhab hcukyx3x c1et5uql o9v6fn
 le">- natürlich gute Laune<br />- wenn du magst, etwas zu trinken<br />- be
 queme Schuhe<br />- und gerne auch dein Promo- und Werbematerial</div><div 
 class="cxmmr5t8 oygrvhab hcukyx3x c1et5uql o9v6fnle"> </div><div> </div><di
 v class="cxmmr5t8 oygrvhab hcukyx3x c1et5uql o9v6fnle">Das "Netzwerken to G
 o" ist für dich kostenlos, bitte melde dich aber trotzdem per Ticketlink an
  (<a href="https://www.businessmoms.at/events/networking-to-go-3/">https://
 www.businessmoms.at/events/networking-to-go-3/</a>)</div><div> </div><div c
 lass="cxmmr5t8 oygrvhab hcukyx3x c1et5uql o9v6fnle"> </div><div class="cxmm
 r5t8 oygrvhab hcukyx3x c1et5uql o9v6fnle"><strong>Wichtige Infos:</strong><
 /div><div class="cxmmr5t8 oygrvhab hcukyx3x c1et5uql o9v6fnle">- Genaue Loc
 ation: im Burggarten vor der Mozartstatue!<br />- Findet nur bei trockenem 
 Wetter statt (bei ganz miserablem Wetter bekommst du einen Link von mir zum
  Online-Netzwerken)<br />- bitte beachte die 2G+-Regel, obwohl wir draußen 
 sind, ist mir deine Sicherheit sehr wichtig.</div><div> </div><div> </div><
 div class="cxmmr5t8 oygrvhab hcukyx3x c1et5uql o9v6fnle"> </div><div class=
 "cxmmr5t8 oygrvhab hcukyx3x c1et5uql o9v6fnle">Ich freu mich auf dein Komme
 n!</div>
CONTACT:https://www.businessmoms.at/events/networking-to-go-3/
X-EXTRAINFO:[preis='000'][anmeldung='true']
DTSTAMP:20260423T094347
DTSTART:20220311T100000
DTEND:20220311T113000
SEQUENCE:0
TRANSP:OPAQUE
END:VEVENT
END:VCALENDAR