BEGIN:VCALENDAR
VERSION:2.0
PRODID:-//jEvents 2.0 for Joomla//EN
CALSCALE:GREGORIAN
METHOD:PUBLISH
BEGIN:VEVENT
UID:3ddc8629f241192ce6d814b7ce843ea7
CATEGORIES:7. Bezirk
CREATED:20220113T122727
SUMMARY:Zielgruppenanalyse mit Personas
LOCATION:Schottenfeldgasse 78/3/2\, 1070 Wien
DESCRIPTION:Was ist der Unterschied zwischen einer klassischen Zielgruppendefinition un
 d der Entwicklung von Personas für dein Unternehmen oder dein Produkt?\nWof
 ür brauchst du Personas? Wie können solche Personas aussehen und was bringt
  es dir konkret, diese Personas für dein Unternehmen oder dein Produkt einz
 usetzen? Falls du dir diese Fragen auch stellst, ist diese Veranstaltung ge
 nau richtig für dich!\n \nIm interaktiven Workshop erkennen wir gezielt die
  Bedürfnisse deiner Kund*innen und entwickeln Personas, die diese abdecken.
  Anschließend werden deine Personas direkt auf den Prüfstand gestellt und i
 n der Gruppe diskutiert. So erhältst du unmittelbar Feedback und kannst geg
 ebenenfalls Anpassungen treffen.\n \nWann: Freitag, 25.03.2022 von 09:00 bi
 s 12:00 Uhr\nWo: im Workshop-Raum von Sabine Reitmayer-Wawer in der Schotte
 nfeldgasse 78/3/2, 1070 Wien\nNatürlich unter Einhaltung der dann geltenden
  Corona-Schutzmaßnahmen (mindestens 2G plus PCR-Test), oder Online (wenn Co
 rona es nicht anders zulässt).\nDeine Investition: 120€ netto, ein Ticket b
 ekommst du hier: https://www.businessmoms.at/events/zielgruppenanalyse-mit-
 personas/ (https://www.businessmoms.at/events/zielgruppenanalyse-mit-person
 as/) \n \nHinweis: Für den Workshop ist eine Teilnehmer*innenanzahl von min
 destens fünf und maximal zehn vorgesehen.\n \nIch freue mich auf Dich!\n
X-ALT-DESC;FMTTYPE=text/html:<p data-pm-slice="1 1 []">Was ist der Unterschied zwischen einer klassische
 n Zielgruppendefinition und der Entwicklung von Personas für dein Unternehm
 en oder dein Produkt?</p><p data-pm-slice="1 1 []">Wofür brauchst du Person
 as? Wie können solche Personas aussehen und was bringt es dir konkret, dies
 e Personas für dein Unternehmen oder dein Produkt einzusetzen? Falls du dir
  diese Fragen auch stellst, ist diese Veranstaltung genau richtig für dich!
 </p><p data-pm-slice="1 1 []"> </p><p>Im interaktiven Workshop erkennen wir
  gezielt die Bedürfnisse deiner Kund*innen und entwickeln Personas, die die
 se abdecken. Anschließend werden deine Personas direkt auf den Prüfstand ge
 stellt und in der Gruppe diskutiert. So erhältst du unmittelbar Feedback un
 d kannst gegebenenfalls Anpassungen treffen.</p><p> </p><p data-pm-slice="1
  1 []"><strong>Wann:</strong> Freitag, 25.03.2022 von 09:00 bis 12:00 Uhr</
 p><p data-pm-slice="1 1 []"><strong>Wo:</strong> im Workshop-Raum von Sabin
 e Reitmayer-Wawer in der Schottenfeldgasse 78/3/2, 1070 Wien</p><p data-pm-
 slice="1 1 []">Natürlich unter Einhaltung der dann geltenden Corona-Schutzm
 aßnahmen (mindestens 2G plus PCR-Test), oder Online (wenn Corona es nicht a
 nders zulässt).</p><p data-pm-slice="1 1 []"><strong>Deine Investition</str
 ong>: 120€ netto, ein Ticket bekommst du hier: <a href="https://www.busines
 smoms.at/events/zielgruppenanalyse-mit-personas/">https://www.businessmoms.
 at/events/zielgruppenanalyse-mit-personas/</a> </p><p data-pm-slice="1 1 []
 "> </p><p data-pm-slice="1 1 []"><strong>Hinweis:</strong> Für den Workshop
  ist eine Teilnehmer*innenanzahl von mindestens fünf und maximal zehn vorge
 sehen.</p><p data-pm-slice="1 1 []"> </p><p data-pm-slice="1 1 []">Ich freu
 e mich auf Dich!</p>
CONTACT:https://www.businessmoms.at/events/zielgruppenanalyse-mit-personas/
X-EXTRAINFO:[preis='12000'][anmeldung='true']
DTSTAMP:20260423T172332
DTSTART:20220325T080000
DTEND:20220325T110000
SEQUENCE:0
TRANSP:OPAQUE
END:VEVENT
END:VCALENDAR