BEGIN:VCALENDAR
VERSION:2.0
PRODID:-//jEvents 2.0 for Joomla//EN
CALSCALE:GREGORIAN
METHOD:PUBLISH
BEGIN:VEVENT
UID:30750d6d21c249242e76d8eddb96f5cf
CATEGORIES:7. Bezirk
CREATED:20220118T113619
SUMMARY:Customer Journey für EPUs
LOCATION:Schottenfeldgasse 78/3/2\, 1070 Wien
DESCRIPTION:Kennst du den Weg deiner Kund*innen, den sie in deinem Unternehmen gehen?\n
  \nHast du dir schon mal Gedanken gemacht, wo – an welchem Punkt ihrer Reis
 e – sie überzeugt werden, bei dir zu kaufen oder wo sie abspringen?\n \nIm 
 interaktiven Workshop gestalten wir mit dir gemeinsam deine Customer Journe
 y Roadmap und anschließend gehst du gleich in den Austausch mit der Gruppe.
  So kannst du Success-Points aber auch Schwachstellen deiner Kund*innenreis
 e sofort erkennen und diese Erkenntnisse für deine Weiterentwicklung des Un
 ternehmens nutzen.\n \nWann: Freitag, 20.05.2022 von 09:00 bis 12:00 Uhr\n 
 \nWo: im Workshop-Raum von Sabine Reitmayer-Wawer in der Schottenfeldgasse 
 78/3/2, 1070 Wien\nNatürlich unter Einhaltung der dann geltenden Corona-Sch
 utzmaßnahmen (mindestens 2G plus PCR-Test), oder Online (wenn Corona es nic
 ht anders zulässt)\n \nDeine Investition: 120€ netto, dein Ticket bekommst 
 du hier: https://www.businessmoms.at/events/customer-journey-fuer-epus/ (ht
 tps://www.businessmoms.at/events/customer-journey-fuer-epus/)\n \nHinweis: 
 Für den Workshop ist eine Teilnehmer*innenanzahl von mindestens fünf und ma
 ximal zehn vorgesehen.\n \nIch freue mich auf Dich!\n
X-ALT-DESC;FMTTYPE=text/html:<p>Kennst du den Weg deiner Kund*innen, den sie in deinem Unternehmen gehen
 ?</p><p> </p><p>Hast du dir schon mal Gedanken gemacht, wo – an welchem Pun
 kt ihrer Reise – sie überzeugt werden, bei dir zu kaufen oder wo sie abspri
 ngen?</p><p> </p><p>Im interaktiven Workshop gestalten wir mit dir gemeinsa
 m deine Customer Journey Roadmap und anschließend gehst du gleich in den Au
 stausch mit der Gruppe. So kannst du Success-Points aber auch Schwachstelle
 n deiner Kund*innenreise sofort erkennen und diese Erkenntnisse für deine W
 eiterentwicklung des Unternehmens nutzen.</p><p> </p><p><strong>Wann:</stro
 ng> Freitag, 20.05.2022 von 09:00 bis 12:00 Uhr</p><p> </p><p><strong>Wo:</
 strong> im Workshop-Raum von Sabine Reitmayer-Wawer in der Schottenfeldgass
 e 78/3/2, 1070 Wien</p><p>Natürlich unter Einhaltung der dann geltenden Cor
 ona-Schutzmaßnahmen (mindestens 2G plus PCR-Test), oder Online (wenn Corona
  es nicht anders zulässt)</p><p> </p><p><strong>Deine Investition:</strong>
  120€ netto, dein Ticket bekommst du hier: <a href="https://www.businessmom
 s.at/events/customer-journey-fuer-epus/">https://www.businessmoms.at/events
 /customer-journey-fuer-epus/</a></p><p> </p><p><strong>Hinweis:</strong> Fü
 r den Workshop ist eine Teilnehmer*innenanzahl von mindestens fünf und maxi
 mal zehn vorgesehen.</p><p> </p><p>Ich freue mich auf Dich!</p>
CONTACT: https://www.businessmoms.at/events/customer-journey-fuer-epus/
X-EXTRAINFO:[preis='12000'][anmeldung='true']
DTSTAMP:20260423T162529
DTSTART:20220520T070000
DTEND:20220520T100000
SEQUENCE:0
TRANSP:OPAQUE
END:VEVENT
END:VCALENDAR