BEGIN:VCALENDAR
VERSION:2.0
PRODID:-//jEvents 2.0 for Joomla//EN
CALSCALE:GREGORIAN
METHOD:PUBLISH
BEGIN:VEVENT
UID:f6a8077477275f4011edaab42463ce58
CATEGORIES:6. Bezirk
CREATED:20220120T203022
SUMMARY:Babymassage in Kleingruppe
LOCATION:6.\, Sandwirtgasse 13/12
DESCRIPTION:<div class="eventContent"><h1>Babymassage im Biolino Institut</h1><h3>Bezie
 hung durch Berührung</h3><h3> </h3><p>Für dein Baby sind deine Berührungen 
 und deine körperliche Nähe sehr wichtig, damit es sich geistig und seelisch
  gesund entwickeln kann. Die innige Zeit stärkt eure Beziehung und ist das 
 Fundament für das Urvertrauen deines Babys. Deine Berührungen beim Streiche
 ln, Massieren, Tragen und Kuscheln, vermitteln ihm Geborgenheit und Sicherh
 eit.</p><p> </p><p><strong>Was erwartet dich:</strong></p><p>Wie dein Baby 
 all dies genießen und davon körperlich und emotional profitieren kann, zeig
 e ich dir in ruhiger Wohlfühl-Atmosphäre im Biolino Institut.</p><p> </p><h
 3>Kursinformationen</h3><p><strong>3 Einheiten zu je 60 Minuten</strong></p
 ><p><strong>gemütliche Kleingruppe mit maximal 4 Babys</strong></p><p><stro
 ng>Termine</strong>: 21. und 28. Februar und 7. März 2022</p><p><strong>Uhr
 zeit</strong>: 13.00 - 14.00 Uhr</p><p><strong>Kosten</strong>: € 79,-</p><
 p>Hier geht`s zu weiteren Informationen und zur Anmeldung: <a href="https:/
 /www.biolino.at/babymassage/kleingruppen-babymassage/">Babymassage</a></p><
 p> </p><p>Du erfährst alle wichtigen Grundlagen der Babymassage und kannst 
 am Ende des Kurses dein Baby bei körperlichen und emotionalen Beschwerden u
 nterstützen. Für die Massage wird ein biologisches Öl zur Verfügung gestell
 t. Du erhältst außerdem ein ausführliches Handout mit allen Techniken und G
 riffen und ein Goodie-Bag.</p><p>Nach der Babymassage gibt es genug Zeit un
 d Raum für Austausch untereinander und die Beantwortung von Fragen. </p><p>
  </p><p><strong>Bitte bring Folgendes zum Babymassagekurs mit</strong>:</p>
 <ul><li>       ein Handtuch</li><li>       gemütliche Kleidung für dich, di
 e auch ölig werden darf</li></ul><p> </p><p>Die Babymassage ist für Babys <
 strong>ab ca. 4 Wochen, bis zum individuellen Krabbelalter (ca. 6-8 Monate)
 </strong> geeignet.</p><p> </p><p><strong>Ich freue mich auf eine entspannt
 e, gemütliche <a href="https://www.biolino.at/babymassage/kleingruppen-baby
 massage/">Babymassage </a>mit deinem Baby und dir!</strong></p><p><em> </em
 ></p><p><em>Alles Liebe,</em></p><p><em>Martina</em></p></div>
CONTACT:martina.novak@biolino.at, 067762892970
X-EXTRAINFO:[preis='7900'][anmeldung='true']
DTSTAMP:20260423T123508
DTSTART:20220221T120000
DTEND:20220221T130000
SEQUENCE:0
TRANSP:OPAQUE
END:VEVENT
END:VCALENDAR