BEGIN:VCALENDAR
VERSION:2.0
PRODID:-//jEvents 2.0 for Joomla//EN
CALSCALE:GREGORIAN
METHOD:PUBLISH
BEGIN:VEVENT
UID:d20696eddb5f66aca9f8b156f27b3f78
CATEGORIES:1. Bezirk
CREATED:20220121T115433
SUMMARY:Networking im Park
LOCATION:Burggarten\, Wien
DESCRIPTION:<p><strong>Unser Netzwerken im Park startet wieder in die Sommersaison!</st
 rong></p><p> </p><p>Wie immer wollen wir unsere Mittagspause gemeinsam verb
 ringen und sie für den Austausch untereinander nützen - deine Kinder sind n
 atürlich auch herzlich Willkommen.</p><p> </p><p>Bitte mitbringen:</p><p>na
 türlich gute Laune<br />wenn du magst, gerne dein Mittagessen<br />etwas zu
  trinken<br />etwas, wo du dich draufsetzen kannst (z.B. eine Picknick-Deck
 e)<br />und gerne auch dein Promo- und Werbematerial, denn es wird wieder e
 ine Business Moms Bag für alle geben, in der du deine Materialien/Visitenka
 rte gerne unterbringen kannst. Deswegen bitte ich dich um eine Anmeldung pe
 r Mail (elisabeth@molzbichler.com)</p><p> </p><p><strong>Das Networking im 
 Park ist für dich kostenlos.</strong></p><p> </p><p>Genaue Location: im Bur
 ggarten auf der großen Wiese unter dem Palmenhaus.<br />Bitte beachte die a
 ktuell geltenden Corona Regeln (2G+), obwohl wir draußen sind, ist mir dein
 e Sicherheit sehr wichtig.</p><p> </p><p>Ich freue mich auf dein Kommen!</p
 >
CONTACT:Business Moms Austria
X-EXTRAINFO:[preis='000'][anmeldung='true']
DTSTAMP:20260423T123630
DTSTART:20220623T090000
DTEND:20220623T113000
SEQUENCE:0
TRANSP:OPAQUE
END:VEVENT
END:VCALENDAR