BEGIN:VCALENDAR
VERSION:2.0
PRODID:-//jEvents 2.0 for Joomla//EN
CALSCALE:GREGORIAN
METHOD:PUBLISH
BEGIN:VEVENT
UID:25afcdf979939316ef76b53112c3013b
CATEGORIES:1. Bezirk
CREATED:20220121T115557
SUMMARY:Networking im Park
LOCATION:Burggarten\, Wien
DESCRIPTION:Unser Netzwerken im Park geht weiter!\n \nWie immer wollen wir unsere Mitta
 gspause gemeinsam verbringen und sie für den Austausch untereinander nützen
  - deine Kinder sind natürlich auch herzlich Willkommen.\n \nBitte mitbring
 en:\nnatürlich gute Laune\nwenn du magst, gerne dein Mittagessen\netwas zu 
 trinken\netwas, wo du dich draufsetzen kannst (z.B. eine Picknick-Decke)\nu
 nd gerne auch dein Promo- und Werbematerial, denn es wird wieder eine Busin
 ess Moms Bag für alle geben, in der du deine Materialien/Visitenkarte gerne
  unterbringen kannst. Deswegen bitte ich dich um eine Anmeldung per Mail (e
 lisabeth@molzbichler.com)\n \nDas Networking im Park ist für dich kostenlos
 .\n \nGenaue Location: im Burggarten auf der großen Wiese unter dem Palmenh
 aus.\nBitte beachte die aktuell geltenden Corona Regeln (2G+), obwohl wir d
 raußen sind, ist mir deine Sicherheit sehr wichtig.\n \nIch freue mich auf 
 dein Kommen!\n
X-ALT-DESC;FMTTYPE=text/html:<p><strong>Unser Netzwerken im Park geht weiter!</strong></p><p> </p><p>Wie
  immer wollen wir unsere Mittagspause gemeinsam verbringen und sie für den 
 Austausch untereinander nützen - deine Kinder sind natürlich auch herzlich 
 Willkommen.</p><p> </p><p>Bitte mitbringen:</p><p>natürlich gute Laune<br /
 >wenn du magst, gerne dein Mittagessen<br />etwas zu trinken<br />etwas, wo
  du dich draufsetzen kannst (z.B. eine Picknick-Decke)<br />und gerne auch 
 dein Promo- und Werbematerial, denn es wird wieder eine Business Moms Bag f
 ür alle geben, in der du deine Materialien/Visitenkarte gerne unterbringen 
 kannst. Deswegen bitte ich dich um eine Anmeldung per Mail (elisabeth@molzb
 ichler.com)</p><p> </p><p><strong>Das Networking im Park ist für dich koste
 nlos.</strong></p><p> </p><p>Genaue Location: im Burggarten auf der großen 
 Wiese unter dem Palmenhaus.<br />Bitte beachte die aktuell geltenden Corona
  Regeln (2G+), obwohl wir draußen sind, ist mir deine Sicherheit sehr wicht
 ig.</p><p> </p><p>Ich freue mich auf dein Kommen!</p>
CONTACT:Business Moms Austria
X-EXTRAINFO:[preis='000'][anmeldung='true']
DTSTAMP:20260423T155225
DTSTART:20220527T090000
DTEND:20220527T113000
SEQUENCE:0
TRANSP:OPAQUE
END:VEVENT
END:VCALENDAR