BEGIN:VCALENDAR
VERSION:2.0
PRODID:-//jEvents 2.0 for Joomla//EN
CALSCALE:GREGORIAN
METHOD:PUBLISH
BEGIN:VEVENT
UID:00c76bb69d1951f1cf372a9bb4a0b782
CATEGORIES:1. Bezirk
CREATED:20220121T115657
SUMMARY:Networking im Park
LOCATION:Burggarten\, Wien
DESCRIPTION:Unser Netzwerken im Park startet wieder in die Frühlingssaison!\n \nWie im 
 letzten Jahr wollen wir unsere Mittagspause gemeinsam verbringen und sie fü
 r den Austausch untereinander nützen - deine Kinder sind natürlich auch her
 zlich Willkommen.\n \nBitte mitbringen:\nnatürlich gute Laune\nwenn du mags
 t, gerne dein Mittagessen\netwas zu trinken\netwas, wo du dich draufsetzen 
 kannst (z.B. eine Picknick-Decke)\nund gerne auch dein Promo- und Werbemate
 rial, denn es wird wieder eine Business Moms Bag für alle geben, in der du 
 deine Materialien/Visitenkarte gerne unterbringen kannst. Deswegen bitte ic
 h dich um eine Anmeldung per Mail (elisabeth@molzbichler.com)\n \nDas Netwo
 rking im Park ist für dich kostenlos.\n \nGenaue Location: im Burggarten au
 f der großen Wiese unter dem Palmenhaus.\nBitte beachte die aktuell geltend
 en Corona Regeln (2G+), obwohl wir draußen sind, ist mir deine Sicherheit s
 ehr wichtig.\n \nIch freue mich auf dein Kommen!\n
X-ALT-DESC;FMTTYPE=text/html:<p><strong>Unser Netzwerken im Park startet wieder in die Frühlingssaison!<
 /strong></p><p> </p><p>Wie im letzten Jahr wollen wir unsere Mittagspause g
 emeinsam verbringen und sie für den Austausch untereinander nützen - deine 
 Kinder sind natürlich auch herzlich Willkommen.</p><p> </p><p>Bitte mitbrin
 gen:</p><p>natürlich gute Laune<br />wenn du magst, gerne dein Mittagessen<
 br />etwas zu trinken<br />etwas, wo du dich draufsetzen kannst (z.B. eine 
 Picknick-Decke)<br />und gerne auch dein Promo- und Werbematerial, denn es 
 wird wieder eine Business Moms Bag für alle geben, in der du deine Material
 ien/Visitenkarte gerne unterbringen kannst. Deswegen bitte ich dich um eine
  Anmeldung per Mail (elisabeth@molzbichler.com)</p><p> </p><p><strong>Das N
 etworking im Park ist für dich kostenlos.</strong></p><p> </p><p>Genaue Loc
 ation: im Burggarten auf der großen Wiese unter dem Palmenhaus.<br />Bitte 
 beachte die aktuell geltenden Corona Regeln (2G+), obwohl wir draußen sind,
  ist mir deine Sicherheit sehr wichtig.</p><p> </p><p>Ich freue mich auf de
 in Kommen!</p>
CONTACT:Business Moms Austria
X-EXTRAINFO:[preis='000'][anmeldung='true']
DTSTAMP:20260423T094404
DTSTART:20220422T090000
DTEND:20220422T113000
SEQUENCE:0
TRANSP:OPAQUE
END:VEVENT
END:VCALENDAR