BEGIN:VCALENDAR
VERSION:2.0
PRODID:-//jEvents 2.0 for Joomla//EN
CALSCALE:GREGORIAN
METHOD:PUBLISH
BEGIN:VEVENT
UID:b98d486ca12c68689d9029c4ed038a1e
CATEGORIES:Wien Umgebung
CREATED:20220125T120827
SUMMARY:Online-Workshop: Achtsam durch die Autonomiephase (“Trotzphase”)
LOCATION:Online via Zoom
DESCRIPTION:Die Autonomiephase (“Trotzphase”) ist ein unglaublich wichtiger und wertvol
 ler Entwicklungsschritt für Kinder zwischen 1,5-4 Jahren, der gleichzeitig 
 für ihre Eltern sehr anstrengend sein kann.\nWenn alles nur mehr verkehrt e
 rscheint, “Nein” das Lieblingswort der Kinder wird (vorausgesetzt es kommt 
 von ihnen selbst), alles selbst gemacht werden will und Gefühle unser Kind 
 überschwemmen, dann hilft vor allem Verständnis, da-sein, aushalten, beglei
 ten und sich selbst auftanken.\nIn diesem Workshop erhaltet ihr einen praxi
 snahen Leitfaden, wie ihr die Autonomiephase eures Kindes wertschätzend und
  in Beziehung mit eurem Kind meistern könnt.\n\nEs geht dabei vor allem um 
 das Wahr- und Ernstnehmen von Bedürfnissen, um das Ruhig bleiben-können bei
  Trotz- und Wutanfällen (hierfür gibt es wirksame Übungen!), um ein liebevo
 lles, aber klares „Nein“, wenn es gebraucht wird, und um ein inneres „ja“ z
 u eurem kleinen Wesen, das gerade zu einem eigenständigen, einzigartigen Me
 nschen heranwächst.\n\n\nWorkshopleitung: Mag. Barbara Grütze, Elternberate
 rin\nVeranstalter*in: VHS Groß-Enzersdorf\nOrt: Online (Zoom)\nWorkshop-Bei
 trag: €30,- pro Person\nAnmeldung: über die Website der VHS Groß-Enzersdorf
  (http://vhs.gross-enzersdorf.gv.at/) (unter “Kurse” –&gt; Workshop-Titel e
 ingeben –&gt; Anmelden)\n\n\nIch freu mich auf euch!\n
X-ALT-DESC;FMTTYPE=text/html:<p>Die Autonomiephase (“Trotzphase”) ist ein unglaublich wichtiger und wert
 voller Entwicklungsschritt für Kinder zwischen 1,5-4 Jahren, der gleichzeit
 ig für ihre Eltern sehr anstrengend sein kann.<br />Wenn alles nur mehr ver
 kehrt erscheint, “Nein” das Lieblingswort der Kinder wird (vorausgesetzt es
  kommt von ihnen selbst), alles selbst gemacht werden will und Gefühle unse
 r Kind überschwemmen, dann hilft vor allem Verständnis, da-sein, aushalten,
  begleiten und sich selbst auftanken.</p><p>In diesem Workshop erhaltet ihr
  einen praxisnahen Leitfaden, wie ihr die Autonomiephase eures Kindes werts
 chätzend und in Beziehung mit eurem Kind meistern könnt.<br /><br />Es geht
  dabei vor allem um das Wahr- und Ernstnehmen von Bedürfnissen, um das Ruhi
 g bleiben-können bei Trotz- und Wutanfällen (hierfür gibt es wirksame Übung
 en!), um ein liebevolles, aber klares „Nein“, wenn es gebraucht wird, und u
 m ein inneres „ja“ zu eurem kleinen Wesen, das gerade zu einem eigenständig
 en, einzigartigen Menschen heranwächst.<br /><br /></p><p><strong>Workshopl
 eitung:</strong> Mag. Barbara Grütze, Elternberaterin<br /><strong>Veransta
 lter*in: </strong>VHS Groß-Enzersdorf<br /><strong>Ort: </strong>Online (Zo
 om)<br /><strong>Workshop-Beitrag:</strong> €30,- pro Person<br /><strong>A
 nmeldung</strong>: über die Website der <a href="http://vhs.gross-enzersdor
 f.gv.at/" target="_blank" rel="noopener noreferrer">VHS Groß-Enzersdorf</a>
  (unter “Kurse” –&gt; Workshop-Titel eingeben –&gt; Anmelden)<br /><br /><b
 r />Ich freu mich auf euch!</p>
CONTACT:vhs@gross-enzersdorf.gv.at
X-EXTRAINFO:[preis='3000'][anmeldung='true']
DTSTAMP:20260423T141545
DTSTART:20220325T083000
DTEND:20220325T103000
SEQUENCE:0
TRANSP:OPAQUE
END:VEVENT
END:VCALENDAR