BEGIN:VCALENDAR
VERSION:2.0
PRODID:-//jEvents 2.0 for Joomla//EN
CALSCALE:GREGORIAN
METHOD:PUBLISH
BEGIN:VEVENT
UID:eaef359438a067cedc6ddb319fc11799
CATEGORIES:8. Bezirk
CREATED:19700101T010000
SUMMARY:Elementares Musizieren (1,5-3 Jahre)
LOCATION:VHS Josefstadt\, Schmidgasse 18\, 1080 Wien
DESCRIPTION:<p>Nach dem Kurs ist die Freude an der Musik von Eltern und Kindern geweckt
 . Ihr Kind hat musikalisches Neuland erforscht und kreative Zugänge zur Mus
 ik und zur Welt entdeckt, seine Sprachkompetenzen wurden gefördert. Sie sel
 bst haben Ihre eigenen musikalischen Fähigkeiten (wieder-)entdeckt und entf
 altet. Sie können die neuen Impulse und Anregungen für das gemeinsame Musik
 erleben zu Hause nützen. <br />Singen und Bewegen zur Musik. Hörbeispiele, 
 Gedichte, Kreisspiele und das Spielen einfacher Instrumente wecken und förd
 ern die Liebe und Freude zu und an der Musik.</p>
CONTACT:josefstadt@vhs.at
X-EXTRAINFO:[preis='4130'][anmeldung='true']
DTSTAMP:20260423T112501
DTSTART:20220217T093000
DTEND:20220217T103000
SEQUENCE:0
RRULE:FREQ=WEEKLY;UNTIL=20220401T000000Z;INTERVAL=7;BYDAY=TH
TRANSP:OPAQUE
END:VEVENT
END:VCALENDAR