BEGIN:VCALENDAR
VERSION:2.0
PRODID:-//jEvents 2.0 for Joomla//EN
CALSCALE:GREGORIAN
METHOD:PUBLISH
BEGIN:VEVENT
UID:d09f62c0cf48ae80bff90c151cc9cf35
CATEGORIES:6. Bezirk
CREATED:19700101T010000
SUMMARY:Klavier mit Baby (4 x 50min Einzelunterricht)
LOCATION:VZ Mariahilf\, Loquaiplatz 9\, 1060 Wien 
DESCRIPTION:<p>Sie wollten immer schon einmal mit dem Klavierspielen anfangen, hatten a
 ber nie Zeit dafür? Nutzen Sie die Karenz und nehmen Ihr Baby mit zum Unter
 richt! Denn Klavierspielen macht nicht nur Spaß, es fördert auch die emotio
 nale Entwicklung von klein auf. Während Sie die Grundtechniken des Klaviers
 pielens lernen, kann ihr Baby zuhören oder den Raum sowie einige kindgerech
 te Musikinstrumente (Rasseln, etc.) erkunden.</p>
CONTACT:mariahilf@vhs.at
X-EXTRAINFO:[preis='15600'][anmeldung='true']
DTSTAMP:20260423T112504
DTSTART:20220214T080000
DTEND:20220214T110000
SEQUENCE:0
RRULE:FREQ=WEEKLY;UNTIL=20220308T000000Z;INTERVAL=4;BYDAY=MO
TRANSP:OPAQUE
END:VEVENT
END:VCALENDAR