BEGIN:VCALENDAR
VERSION:2.0
PRODID:-//jEvents 2.0 for Joomla//EN
CALSCALE:GREGORIAN
METHOD:PUBLISH
BEGIN:VEVENT
UID:f94db87dc95fbec3b2da9eebfac4dca4
CATEGORIES:13. Bezirk
CREATED:19700101T010000
SUMMARY:Babymassage (6 Wochen - Krabbelalter) | Die Babypause
LOCATION:Madame Mama\, Auhofstraße 205\, 1130 Wien
DESCRIPTION:<p class="font_8"><strong><span class="color_34">Babymassage (6 Wochen - Kr
 abbelalter) | Die Babypause</span></strong></p><p class="font_8"> </p><p cl
 ass="font_8"><span class="color_34">In meinem Kurs lernst du die Massagegri
 ffe der indischen Ölmassage, Babyyoga-Übungen, weitere Massagegriffe für be
 sondere Momente (Koliken, Blähungen, Zahnschmerzen, zum Einschlafen etc. ) 
 &amp; ich gebe dir Wissen rund um die Babymassage selbst und die verschiede
 nen Öle mit.</span></p><p class="font_8"><span class="color_34">Die Babymas
 sage ist eine wunderschöne Art sein Baby besser kennenzulernen und eure Bin
 dung zu stärken. Regelmäßige Massage unterstützt die körperliche, geistige 
 und auch seelische Entwicklung des Kindes.</span></p><p class="font_8"><spa
 n class="color_34">Der Kurs kann als spezielle Zeit der Familie gesehen wer
 den, d.h. es sind Mama, Papa &amp; Kind herzlich zum Kurs eingeladen. Es da
 rf sowohl die Mama, als auch der Papa massieren. </span></p><p class="font_
 8"><strong><span class="color_34">Positive Wirkungen</span></strong></p><ul
  class="font_8 color_34"><li><p class="font_8"><span class="color_34">Stärk
 t die Verdauung, beugt damit Blähungen und Koliken vor</span></p></li><li><
 p class="font_8"><span class="color_34">Verbessert die Durchblutung der Hau
 t &amp; Muskulatur</span></p></li><li><p class="font_8"><span class="color_
 34">Stärkt das Immunsystem - Glückshormone werden ausgeschüttet</span></p><
 /li><li><p class="font_8"><span class="color_34">Körperbewusstsein/Körperwa
 hrnehmung</span></p></li><li><p class="font_8"><span class="color_34">förde
 rt die Bindung zwischen Eltern und Baby</span></p></li></ul><p class="font_
 8"><span class="color_34"><span class="wixGuard"> </span></span></p><p clas
 s="font_8"><span class="color_34"><strong>Kursdauer:</strong> 3 Einheiten z
 u jeweils 45-60min </span></p><p class="font_8"><span class="color_34">Eine
  Einheit beinhaltet die Massage bzw. das Erlernen der Massagegriffe, anschl
 ießendes Kuscheln/Nachspüren und theoretisches Basiswissen rund um das Them
 a Babymassage.</span></p><p class="font_8"><span class="color_34">Wir massi
 eren in kleinen Gruppen (max. 3 Babys) oder im Einzelsetting (auch Online-K
 urse) mit warmen gereiftem Sesamöl. </span></p><p class="font_8"><strong><s
 pan class="color_34">Zum Mitnehmen:</span></strong></p><ul class="font_8 co
 lor_34"><li><p class="font_8"><span class="color_34">1 großes Handtuch</spa
 n></p></li><li><p class="font_8"><span class="color_34">2 Stoffwindeln</spa
 n></p></li><li><p class="font_8"><span class="color_34">Baumwollhaube fürs 
 Baby</span></p></li><li><p class="font_8"><span class="color_34">eventuell 
 wasserfeste Unterlage</span></p></li><li><p class="font_8"><span class="col
 or_34">bequeme Kleidung zum Umziehen für dich </span></p></li><li><p class=
 "font_8"><span class="color_34">Behältnis, denn die Reste des Öls dürft ihr
  gerne mitnehmen</span></p></li></ul><p> </p><p><strong>Mehr dazu unter:</s
 trong></p><p>www.diebabypause.com</p><p> </p><p><span class="color_34">Ich 
 freu mich auf dich und dein Baby,</span></p><p><span class="color_34">Andre
 a | Die Babypause</span></p><p> </p><p><strong><span class="color_34">Die B
 abypause</span></strong></p><p><span class="color_34"><a href="http://www.d
 iebabypause.com">www.diebabypause.com</a></span></p><p><span class="color_3
 4"><a href="mailto:office@diebabypause.com">office@diebabypause.com</a></sp
 an></p><p><span class="color_34">+43 664 5354170</span></p>
CONTACT:www.diebabypause.com | office@diebabypause.com
X-EXTRAINFO:[preis='10500'][anmeldung='true']
DTSTAMP:20260423T095930
DTSTART:20220207T080000
DTEND:20220207T084500
SEQUENCE:0
RRULE:FREQ=WEEKLY;COUNT=9999;INTERVAL=1;BYDAY=MO
TRANSP:OPAQUE
END:VEVENT
END:VCALENDAR