BEGIN:VCALENDAR
VERSION:2.0
PRODID:-//jEvents 2.0 for Joomla//EN
CALSCALE:GREGORIAN
METHOD:PUBLISH
BEGIN:VEVENT
UID:8cd72edde74370f565962524034f0807
CATEGORIES:6. Bezirk
CREATED:20220201T102137
SUMMARY:Baby-Atelier
LOCATION:6.\, Sandwirtgasse 13/12
DESCRIPTION:<h1>Biolino Baby-Atelier</h1><h2>Für Kinder ab dem Sitzalter bis 2,5 Jahre<
 /h2><p><strong>Gruppe 1</strong>: 09.30 - 10.30 Uhr<br /> <strong>Gruppe 2<
 /strong>: 11.00 - 12.00 Uhr</p><p><strong>Gruppe 3</strong>: 14.30 - 15.30 
 Uhr</p><p><strong>Spielgruppe mit dem Schwerpunkt haptische Sinnesschulung<
 /strong></p><p>- Experimentieren mit Farben, Konsistenzen und unterschiedli
 chsten Materialien</p><p>Die kleinen Künstlerinnen und Künstler können im B
 iolino Baby-Atelier nach Herzenslust mit selbst hergestellten Bio-Farben ma
 tschen und gatschen, ohne dass Mama oder Papa nachher aufräumen müssen. Übe
 r das ganze Semester verteilt führen wir immer wieder neues Erlebnismateria
 l in die Gruppe ein.<br /> <br /> Klebrig, matschig, bröselig, kratzig: San
 d, Erde, Getreidekörner, Holz und viele andere haptische Anregungen warten 
 auf experimentierfreudige Entdecker*innen. Die Kinder können nach Herzenslu
 st die Bio-Farben und Materialien mischen und dabei mit allen Sinnen erlebe
 n, wie sie ihre Eigenschaften verändern.</p><p> </p><h2>Einstieg jederzeit 
 möglich!</h2><h2>Flexibel mit der Biolino Blockkarte: www.biolino.at/Blockk
 arte</h2><p>weitere Infos unter: <a href="https://www.biolino.at/spielgrupp
 en/baby-atelier/">Baby-Atelier</a></p><p><a href="http://www.biolino.at">ww
 w.biolino.at</a> <a href="mailto:martina.novak@biolino.at">martina.novak@bi
 olino.at</a>  0677 628 929 70</p><p>Sandwirtgasse 13/12, 1060 Wien</p><p> <
 /p><p>Wir freuen uns auf euch! &lt;3</p><p>Martina und das Biolino Team</p>
CONTACT:martina.novak@biolin.at, 067762892970
X-EXTRAINFO:[preis='1700'][anmeldung='true']
DTSTAMP:20260423T143014
DTSTART:20220202T100000
DTEND:20220202T110000
SEQUENCE:0
TRANSP:OPAQUE
END:VEVENT
END:VCALENDAR