BEGIN:VCALENDAR
VERSION:2.0
PRODID:-//jEvents 2.0 for Joomla//EN
CALSCALE:GREGORIAN
METHOD:PUBLISH
BEGIN:VEVENT
UID:53bae0bbace592887c8da13c890a5db2
CATEGORIES:6. Bezirk
CREATED:20220201T102428
SUMMARY:Baby-Spielgruppe
LOCATION:6.\, Sandwirtgasse 13/12
DESCRIPTION:Baby-SpielgruppeSpielgruppe und mehr für die Kleinsten Für Kinder von 2 bis
  10 MonatenKursleitung: Conny und Martina\nKurstag: Donnerstag\nKurszeit: 1
 1.00 - 12.00 Uhr\n \nSpielgruppe mit bindungsorientiertem Schwerpunkt\n- fr
 eies Spiel mit ausgewählten Materialien\n- Kuschel- &amp; Streichelspiele, 
 Lieder\n- jede Menge Austausch mit Hebamme Sabine\nDie Spiel- und Austausch
 gruppe mit Hebamme Sabine ist für Kinder von 2 bis 10 Monaten.\n \nWas erwa
 rtet dich?Nach einer sanften Ankommrunde, gibt es die Möglichkeit unsere Ba
 by-Spielmaterialien zu entdecken und ausgiebig zu erkunden. Der Schwerpunkt
  liegt hier, angelehnt an M. Montessori und E. Pikler, auf dem freien Spiel
 . Situationsorientiert werden auch Kuschel- und Streichelspiele angeleitet 
 und Lieder gesungen. Dabei wird besonders auf die Stimmung der kleinen Entd
 eckerinnen und Entdecker geachtet.\nSpielgruppenleiterin Sabine, steht dir 
 mit all ihrem Wissen als Hebamme, Kleinkindpädagogin und Mutter zur Verfügu
 ng und beantwortet gerne all deine Fragen. Es gibt ausreichend Zeit für den
  Austausch zwischen den Mamas und Papas.\n \nFür dein Kind...\n... babygere
 chte, die Sinne ansprechende Spielmaterialien,\n... erste Kontakte mit ande
 ren Kindern,\n... situationsorientiert auch Kuschel- und Streichelspiele od
 er Lieder.\n \nFür dich...\n... neue Spielideen für dich und dein Kind,\n..
 . fundiertes Wissen zu allen Themen rund um das Babyalter,\n... Raum für Ve
 rnetzung, Austausch und Fragen.\n \nEinstieg jederzeit möglich!Flexibel mit
  der Biolino Blockkarte: www.biolino.at/Blockkarte \nweitere Infos unter\nw
 ww.biolino.at (http://www.biolino.at)\nmartina.novak@biolino.at, (mailto:ma
 rtina.novak@biolino.at,)\n0677 628 929 70\nSandwirtgasse 13/12,\n1060 Wien\
 n \nWir freuen uns auf euch! &lt;3\nMartina und das Biolino Team\n
X-ALT-DESC;FMTTYPE=text/html:<h1>Baby-Spielgruppe</h1><h2>Spielgruppe und mehr für die Kleinsten</h2><h2
 > </h2><h3>Für Kinder von 2 bis 10 Monaten</h3><p><strong>Kursleitung</stro
 ng>: Conny und Martina</p><p><strong>Kurstag</strong>: Donnerstag</p><p><st
 rong>Kurszeit</strong>: 11.00 - 12.00 Uhr</p><p> </p><p><strong>Spielgruppe
  mit bindungsorientiertem Schwerpunkt</strong></p><p>- freies Spiel mit aus
 gewählten Materialien</p><p>- Kuschel- &amp; Streichelspiele, Lieder</p><p>
 - jede Menge Austausch mit Hebamme Sabine</p><p>Die Spiel- und Austauschgru
 ppe <strong>mit Hebamme Sabine</strong> ist für Kinder von <strong>2 bis 10
  Monaten</strong>.</p><p> </p><h3>Was erwartet dich?</h3><p>Nach einer sanf
 ten Ankommrunde, gibt es die Möglichkeit unsere Baby-<strong>Spielmateriali
 en</strong> zu entdecken und ausgiebig zu erkunden. Der Schwerpunkt liegt h
 ier, angelehnt an M. <strong>Montessori</strong> und E. <strong>Pikler</str
 ong>, auf dem <strong>freien Spiel. Situationsorientiert</strong> werden au
 ch <strong>Kuschel- und Streichelspiele</strong> angeleitet und <strong>Lie
 der</strong> gesungen. Dabei wird besonders auf die Stimmung der kleinen En
 tdeckerinnen und Entdecker geachtet.</p><p>Spielgruppenleiterin Sabine, ste
 ht dir mit all ihrem Wissen als Hebamme, Kleinkindpädagogin und Mutter zur 
 Verfügung und beantwortet gerne all deine Fragen. Es gibt ausreichend Zeit 
 für den Austausch zwischen den Mamas und Papas.</p><p> </p><p><strong>Für d
 ein Kind...</strong></p><p>... babygerechte, die Sinne ansprechende Spielma
 terialien,</p><p>... erste Kontakte mit anderen Kindern,</p><p>... situatio
 nsorientiert auch Kuschel- und Streichelspiele oder Lieder.</p><p> </p><p><
 strong>Für dich...</strong></p><p>... neue Spielideen für dich und dein Kin
 d,</p><p>... fundiertes Wissen zu allen Themen rund um das Babyalter,</p><p
 >... Raum für Vernetzung, Austausch und Fragen.</p><p> </p><h2>Einstieg jed
 erzeit möglich!</h2><h2>Flexibel mit der Biolino Blockkarte: www.biolino.at
 /Blockkarte</h2><p> </p><p>weitere Infos unter</p><p><a href="http://www.bi
 olino.at">www.biolino.at</a></p><p><a href="mailto:martina.novak@biolino.at
 ,">martina.novak@biolino.at,</a></p><p>0677 628 929 70</p><p>Sandwirtgasse 
 13/12,</p><p>1060 Wien</p><p> </p><p>Wir freuen uns auf euch! &lt;3</p><p>M
 artina und das Biolino Team</p>
CONTACT:martina.novak@biolino.at, 067762892970
X-EXTRAINFO:[preis='1700'][anmeldung='true']
DTSTAMP:20260423T141629
DTSTART:20220203T083000
DTEND:20220203T093000
SEQUENCE:0
TRANSP:OPAQUE
END:VEVENT
END:VCALENDAR