BEGIN:VCALENDAR
VERSION:2.0
PRODID:-//jEvents 2.0 for Joomla//EN
CALSCALE:GREGORIAN
METHOD:PUBLISH
BEGIN:VEVENT
UID:9ce40001e3592d4d06d12fabc27fc3bd
CATEGORIES:15. Bezirk
CREATED:20220201T191902
SUMMARY:FAMILY WORKOUT von mamaFIT im AUER-WELSBACH-PARK
LOCATION:Auer-Welsbach-Park (Nähe: Radler's Grill Imbiss)
DESCRIPTION:mamaFIT.mit.Verena – Outdoortraining speziell an Familien gerichtet im Auer
 -Welsbach-Park\nWann: Das Training findet NUR am Samstag 05.02.2022 von 10:
 00-11:00 am Vormittag statt.\n \nBeim FAMILY-WORKOUT geht es vorrangig daru
 m, zusammen mit der Familie Zeit zu verbringen und gleichzeitig fit zu blei
 ben/werden. Du kannst gerne deinen Mann mitbringen, eine Freundin, Oma, Sch
 werster,… wen auch immer. Es wird auf deiner Kurskarte 2x abgehakt. Jugendl
 iche ab 16 gelten als zahlend. Kinder darunter trainieren GRATIS mit.\n Die
  Mitnahme deines Kindes ist aber nicht Voraussetzung, um beim Training mitm
 achen zu können. Du kannst auch sehr gerne diese Stunde Sporteinheit auch n
 ur für dich alleine als Auszeit nutzen.\n \nTreffpunkt: Beim Eingang in den
  Park – Nähe U-Bahn-Station U4 "Schönbrunn". Wir treffen uns auf der Wiese 
 hinter “Radler’s Grill Imbiss” (ca. 50m in den Park hinein – rechter Hand)\
 n Ich werde um 9:50 vor Ort sein.\n (U-Bahn Station U4 Schönbrunn, Bushalte
 stelle 10A)\n (Eingang befindet sich auf der Kreuzung Winckelmannstrasse, H
 adikgasse in 1150 Wien)\n \nWas: Wir trainieren vorwiegend mit dem eigenen 
 Körpergewicht aber auch mit Luftballons, Ringbändern, Therabändern, Trinkfl
 aschen, Handtüchern, Kürbissen usw.! Sollte etwas zum Mitbringen sein, wirs
 t du im Vorhinein darüber informiert (WhatsApp-Gruppe).\nKomm vorbei mit de
 inem Kind im Kinderwagen, in der Trage oder noch im Bauch.\n Ziehe dir funk
 tionelle Sportkleidung dem Wetter entsprechend an und auch das passende, sp
 ortliche Schuhwerk! Trinkflasche nicht vergessen!\nDas Training findet ganz
 jährig outdoor bei (fast) jedem Wetter statt. Einstieg ist jederzeit möglic
 h, es handelt sich um ein offenes System und Gruppentraining.\nDetails zum 
 jeweiligen Training bekommst du immer zeitgerecht per WhatsApp (0664 438434
 1), auf FACEBOOK (http://www.facebook.com/mamaFIT.mit.verena.kamper) und IN
 STAGRAM (https://www.instagram.com/mamafit.mit.verena) zugespielt.\n \nKost
 en:\n Einzelstunde: 15 €\n 5er Block: 65 €\n 10er Block: 120 €\n Kombi-Bloc
 k: 120 € (trainiere 5x bei mir / trainiere 5x bei meiner Kollegin im Schlos
 spark Schönbrunn)\n \nAKTIONEN im Jahr 2022:\n **Happy Birthday to you*:\n 
 Komm an deinem Geburtstag zu mamaFIT mit Verena und ich schenke dir deine G
 RATIS Trainingsstunde - auf ein sportliches neues Lebensjahr! (Aktion gilt 
 bis auf Weiteres)\n \n **BRING A FRIEND*:\n Du bist begeisterte mamaFIT Kun
 din und kannst auch eine Freundin/einen Freund für mein Training begeistern
 ? Dann bekommst du, sofern sich deine Freundin/dein Freund mind. einen 5er 
 Block kauft, eine GRATIS Trainingsstunde von mir!\n \n \n Du kannst auch de
 ine UNIQA Vitalcoach-Gutscheine und den SVS GESUNDHEITSHUNDERTER bei mir Ei
 nlösen oder dich über MyClubs (https://www.myclubs.com/at/de/partner/mamafi
 t-mit-verena-kamper) für meine Kurse anmelden!\nIch freue mich auf DICH und
  dein KIND (ob im Bauch oder schon live dabei)!\n \n \nInformationen zu ALL
 EN meinen Kursen findest du auf:\nwww.linktr.ee/mamaFIT.mit.verena\n  (http
 s://www.linktr.ee/mamaFIT.mit.verena)--&gt; Rubrik: "Meine mamaFIT Kurse"\n
X-ALT-DESC;FMTTYPE=text/html:<p><strong>mamaFIT.mit.Verena – Outdoortraining speziell an Familien gerich
 tet im Auer-Welsbach-Park</strong></p><p><strong>Wann</strong>: Das Trainin
 g findet <strong>NUR am Samstag 05.02.2022</strong><u> </u>von 10:00-11:00 
 am Vormittag statt.</p><p> </p><p>Beim <strong>FAMILY-WORKOU</strong>T geht
  es vorrangig darum, zusammen mit der Familie Zeit zu verbringen und gleich
 zeitig fit zu bleiben/werden. Du kannst gerne deinen Mann mitbringen, eine 
 Freundin, Oma, Schwerster,… wen auch immer. Es wird auf deiner Kurskarte 2x
  abgehakt. Jugendliche ab 16 gelten als zahlend. Kinder darunter trainieren
  GRATIS mit.<br /> Die Mitnahme deines Kindes ist aber nicht Voraussetzung,
  um beim Training mitmachen zu können. Du kannst auch sehr gerne diese Stun
 de Sporteinheit auch nur für dich alleine als Auszeit nutzen.</p><p> </p><p
 ><strong>Treffpunkt:</strong> Beim Eingang in den Park – Nähe U-Bahn-Statio
 n U4 "Schönbrunn".<strong> </strong>Wir treffen uns auf der Wiese hinter “R
 adler’s Grill Imbiss” (ca. 50m in den Park hinein – rechter Hand)<br /> Ich
  werde um <strong>9:50 vor Ort</strong> sein.<br /> (U-Bahn Station U4 Schö
 nbrunn, Bushaltestelle 10A)<br /> (Eingang befindet sich auf der Kreuzung W
 inckelmannstrasse, Hadikgasse in 1150 Wien)</p><p> </p><p><strong>Was:</str
 ong> Wir trainieren vorwiegend mit dem eigenen Körpergewicht aber auch mit 
 Luftballons, Ringbändern, Therabändern, Trinkflaschen, Handtüchern, Kürbiss
 en usw.! Sollte etwas zum Mitbringen sein, wirst du im Vorhinein darüber in
 formiert (WhatsApp-Gruppe).</p><p>Komm vorbei mit deinem Kind im Kinderwage
 n, in der Trage oder noch im Bauch.<br /> Ziehe dir funktionelle Sportkleid
 ung dem Wetter entsprechend an und auch das passende, sportliche Schuhwerk!
  Trinkflasche nicht vergessen!</p><p>Das Training findet ganzjährig outdoor
  bei (fast) jedem Wetter statt. Einstieg ist jederzeit möglich, es handelt 
 sich um ein offenes System und Gruppentraining.</p><p>Details zum jeweilige
 n Training bekommst du immer zeitgerecht per WhatsApp (0664 4384341), auf <
 a href="http://www.facebook.com/mamaFIT.mit.verena.kamper">FACEBOOK</a> und
  <a href="https://www.instagram.com/mamafit.mit.verena">INSTAGRAM</a><stron
 g> </strong>zugespielt.</p><p> </p><p><strong>Kosten:</strong><br /> Einzel
 stunde: 15 €<br /> 5er Block: 65 €<br /> 10er Block: 120 €<br /> Kombi-Bloc
 k: 120 € (trainiere 5x bei mir / trainiere 5x bei meiner Kollegin im Schlos
 spark Schönbrunn)</p><p> </p><p><strong>AKTIONEN im Jahr 2022:</strong><br 
 /> **Happy Birthday to you*:<br /> Komm an deinem Geburtstag zu mamaFIT mit
  Verena und ich schenke dir deine GRATIS Trainingsstunde - auf ein sportlic
 hes neues Lebensjahr! (Aktion gilt bis auf Weiteres)<br /> <br /> **BRING A
  FRIEND*:<br /> Du bist begeisterte mamaFIT Kundin und kannst auch eine Fre
 undin/einen Freund für mein Training begeistern? Dann bekommst du, sofern s
 ich deine Freundin/dein Freund mind. einen 5er Block kauft, eine GRATIS Tra
 iningsstunde von mir!<br /> <br /> <br /> Du kannst auch deine UNIQA Vitalc
 oach-Gutscheine und den SVS GESUNDHEITSHUNDERTER bei mir Einlösen oder dich
  über <a href="https://www.myclubs.com/at/de/partner/mamafit-mit-verena-kam
 per">MyClubs</a> für meine Kurse anmelden!</p><p>Ich freue mich auf DICH un
 d dein KIND (ob im Bauch oder schon live dabei)!</p><p> </p><p> </p><p>Info
 rmationen zu ALLEN meinen Kursen findest du auf:</p><p><strong><a href="htt
 ps://www.linktr.ee/mamaFIT.mit.verena">www.linktr.ee/mamaFIT.mit.verena<br 
 /> </a></strong>--&gt; Rubrik: "Meine mamaFIT Kurse"</p>
CONTACT:www.linktr.ee/mamafit.mit.verena
X-EXTRAINFO:[preis='1200'][anmeldung='false']
DTSTAMP:20260423T081746
DTSTART:20220205T090000
DTEND:20220205T100000
SEQUENCE:0
TRANSP:OPAQUE
END:VEVENT
END:VCALENDAR