BEGIN:VCALENDAR
VERSION:2.0
PRODID:-//jEvents 2.0 for Joomla//EN
CALSCALE:GREGORIAN
METHOD:PUBLISH
BEGIN:VEVENT
UID:8e8529a3c9a78f14eed1159b5935d1e4
CATEGORIES:15. Bezirk
CREATED:20220201T192139
SUMMARY:FAMILY WORKOUT von mamaFIT im AUER-WELSBACH-PARK
LOCATION:Auer-Welsbach-Park (Nähe: Radler's Grill Imbiss)
DESCRIPTION:mamaFIT.mit.Verena – Outdoortraining speziell an Familien gerichtet im Auer
 -Welsbach-Park\nWann: Das Training findet NUR am Samstag 19.02.2022 von 10:
 00-11:00 am Vormittag statt.\n \nBeim FAMILY-WORKOUT geht es vorrangig daru
 m, zusammen mit der Familie Zeit zu verbringen und gleichzeitig fit zu blei
 ben/werden. Du kannst gerne deinen Mann mitbringen, eine Freundin, Oma, Sch
 werster,… wen auch immer. Es wird auf deiner Kurskarte 2x abgehakt. Jugendl
 iche ab 16 gelten als zahlend. Kinder darunter trainieren GRATIS mit.\nDie 
 Mitnahme deines Kindes ist aber nicht Voraussetzung, um beim Training mitma
 chen zu können. Du kannst auch sehr gerne diese Stunde Sporteinheit auch nu
 r für dich alleine als Auszeit nutzen.\n \nTreffpunkt: Beim Eingang in den 
 Park – Nähe U-Bahn-Station U4 "Schönbrunn". Wir treffen uns auf der Wiese h
 inter “Radler’s Grill Imbiss” (ca. 50m in den Park hinein – rechter Hand)\n
 Ich werde um 9:50 vor Ort sein.\n(U-Bahn Station U4 Schönbrunn, Bushalteste
 lle 10A)\n(Eingang befindet sich auf der Kreuzung Winckelmannstrasse, Hadik
 gasse in 1150 Wien)\n \nWas: Wir trainieren vorwiegend mit dem eigenen Körp
 ergewicht aber auch mit Luftballons, Ringbändern, Therabändern, Trinkflasch
 en, Handtüchern, Kürbissen usw.! Sollte etwas zum Mitbringen sein, wirst du
  im Vorhinein darüber informiert (WhatsApp-Gruppe).\nKomm vorbei mit deinem
  Kind im Kinderwagen, in der Trage oder noch im Bauch.\nZiehe dir funktione
 lle Sportkleidung dem Wetter entsprechend an und auch das passende, sportli
 che Schuhwerk! Trinkflasche nicht vergessen!\nDas Training findet ganzjähri
 g outdoor bei (fast) jedem Wetter statt. Einstieg ist jederzeit möglich, es
  handelt sich um ein offenes System und Gruppentraining.\nDetails zum jewei
 ligen Training bekommst du immer zeitgerecht per WhatsApp (0664 4384341), a
 uf FACEBOOK (http://www.facebook.com/mamaFIT.mit.verena.kamper) und INSTAGR
 AM (https://www.instagram.com/mamafit.mit.verena) zugespielt.\n \nKosten:\n
 Einzelstunde: 15 €\n5er Block: 65 €\n10er Block: 120 €\nKombi-Block: 120 € 
 (trainiere 5x bei mir / trainiere 5x bei meiner Kollegin im Schlosspark Sch
 önbrunn)\n \nAKTIONEN im Jahr 2022:\n**Happy Birthday to you*:\nKomm an dei
 nem Geburtstag zu mamaFIT mit Verena und ich schenke dir deine GRATIS Train
 ingsstunde - auf ein sportliches neues Lebensjahr! (Aktion gilt bis auf Wei
 teres)\n\n**BRING A FRIEND*:\nDu bist begeisterte mamaFIT Kundin und kannst
  auch eine Freundin/einen Freund für mein Training begeistern? Dann bekomms
 t du, sofern sich deine Freundin/dein Freund mind. einen 5er Block kauft, e
 ine GRATIS Trainingsstunde von mir!\n\n\nDu kannst auch deine UNIQA Vitalco
 ach-Gutscheine und den SVS GESUNDHEITSHUNDERTER bei mir Einlösen oder dich 
 über MyClubs (https://www.myclubs.com/at/de/partner/mamafit-mit-verena-kamp
 er) für meine Kurse anmelden!\nIch freue mich auf DICH und dein KIND (ob im
  Bauch oder schon live dabei)!\n \n \nInformationen zu ALLEN meinen Kursen 
 findest du auf:\nwww.linktr.ee/mamaFIT.mit.verena\n (https://www.linktr.ee/
 mamaFIT.mit.verena)--&gt; Rubrik: "Meine mamaFIT Kurse"\n
X-ALT-DESC;FMTTYPE=text/html:<p><strong>mamaFIT.mit.Verena – Outdoortraining speziell an Familien gerich
 tet im Auer-Welsbach-Park</strong></p><p><strong>Wann</strong>: Das Trainin
 g findet <strong>NUR am Samstag 19.02.2022</strong><u> </u>von 10:00-11:00 
 am Vormittag statt.</p><p> </p><p>Beim <strong>FAMILY-WORKOU</strong>T geht
  es vorrangig darum, zusammen mit der Familie Zeit zu verbringen und gleich
 zeitig fit zu bleiben/werden. Du kannst gerne deinen Mann mitbringen, eine 
 Freundin, Oma, Schwerster,… wen auch immer. Es wird auf deiner Kurskarte 2x
  abgehakt. Jugendliche ab 16 gelten als zahlend. Kinder darunter trainieren
  GRATIS mit.<br />Die Mitnahme deines Kindes ist aber nicht Voraussetzung, 
 um beim Training mitmachen zu können. Du kannst auch sehr gerne diese Stund
 e Sporteinheit auch nur für dich alleine als Auszeit nutzen.</p><p> </p><p>
 <strong>Treffpunkt:</strong> Beim Eingang in den Park – Nähe U-Bahn-Station
  U4 "Schönbrunn".<strong> </strong>Wir treffen uns auf der Wiese hinter “Ra
 dler’s Grill Imbiss” (ca. 50m in den Park hinein – rechter Hand)<br />Ich w
 erde um <strong>9:50 vor Ort</strong> sein.<br />(U-Bahn Station U4 Schönbr
 unn, Bushaltestelle 10A)<br />(Eingang befindet sich auf der Kreuzung Winck
 elmannstrasse, Hadikgasse in 1150 Wien)</p><p> </p><p><strong>Was:</strong>
  Wir trainieren vorwiegend mit dem eigenen Körpergewicht aber auch mit Luft
 ballons, Ringbändern, Therabändern, Trinkflaschen, Handtüchern, Kürbissen u
 sw.! Sollte etwas zum Mitbringen sein, wirst du im Vorhinein darüber inform
 iert (WhatsApp-Gruppe).</p><p>Komm vorbei mit deinem Kind im Kinderwagen, i
 n der Trage oder noch im Bauch.<br />Ziehe dir funktionelle Sportkleidung d
 em Wetter entsprechend an und auch das passende, sportliche Schuhwerk! Trin
 kflasche nicht vergessen!</p><p>Das Training findet ganzjährig outdoor bei 
 (fast) jedem Wetter statt. Einstieg ist jederzeit möglich, es handelt sich 
 um ein offenes System und Gruppentraining.</p><p>Details zum jeweiligen Tra
 ining bekommst du immer zeitgerecht per WhatsApp (0664 4384341), auf <a hre
 f="http://www.facebook.com/mamaFIT.mit.verena.kamper">FACEBOOK</a> und <a h
 ref="https://www.instagram.com/mamafit.mit.verena">INSTAGRAM</a><strong> </
 strong>zugespielt.</p><p> </p><p><strong>Kosten:</strong><br />Einzelstunde
 : 15 €<br />5er Block: 65 €<br />10er Block: 120 €<br />Kombi-Block: 120 € 
 (trainiere 5x bei mir / trainiere 5x bei meiner Kollegin im Schlosspark Sch
 önbrunn)</p><p> </p><p><strong>AKTIONEN im Jahr 2022:</strong><br />**Happy
  Birthday to you*:<br />Komm an deinem Geburtstag zu mamaFIT mit Verena und
  ich schenke dir deine GRATIS Trainingsstunde - auf ein sportliches neues L
 ebensjahr! (Aktion gilt bis auf Weiteres)<br /><br />**BRING A FRIEND*:<br 
 />Du bist begeisterte mamaFIT Kundin und kannst auch eine Freundin/einen Fr
 eund für mein Training begeistern? Dann bekommst du, sofern sich deine Freu
 ndin/dein Freund mind. einen 5er Block kauft, eine GRATIS Trainingsstunde v
 on mir!<br /><br /><br />Du kannst auch deine UNIQA Vitalcoach-Gutscheine u
 nd den SVS GESUNDHEITSHUNDERTER bei mir Einlösen oder dich über <a href="ht
 tps://www.myclubs.com/at/de/partner/mamafit-mit-verena-kamper">MyClubs</a> 
 für meine Kurse anmelden!</p><p>Ich freue mich auf DICH und dein KIND (ob i
 m Bauch oder schon live dabei)!</p><p> </p><p> </p><p>Informationen zu ALLE
 N meinen Kursen findest du auf:</p><p><strong><a href="https://www.linktr.e
 e/mamaFIT.mit.verena">www.linktr.ee/mamaFIT.mit.verena<br /></a></strong>--
 &gt; Rubrik: "Meine mamaFIT Kurse"</p>
CONTACT:www.linktr.ee/mamafit.mit.verena
X-EXTRAINFO:[preis='1200'][anmeldung='false']
DTSTAMP:20260423T081808
DTSTART:20220219T090000
DTEND:20220219T100000
SEQUENCE:0
TRANSP:OPAQUE
END:VEVENT
END:VCALENDAR