BEGIN:VCALENDAR
VERSION:2.0
PRODID:-//jEvents 2.0 for Joomla//EN
CALSCALE:GREGORIAN
METHOD:PUBLISH
BEGIN:VEVENT
UID:e6dd6ee0e45323e27c3e0eadec94f28a
CATEGORIES:2. Bezirk
CREATED:20220202T120622
SUMMARY:Spiel- und Bewegungsraum - 5-30M
LOCATION:EKiZ Kind&amp;Kegel\, 1020 Praterstraße 14/8
DESCRIPTION:Spiel- und BewegungsRaum nach Emmi Pikler \nFür Kinder von 5 - 30Monate\nDe
 r SpielRaum bietet sich als Experimentier- und Lernfeld für Eltern an. Sie 
 bekommen hier die Möglichkeit, ihr Kind in seinen Eigenaktivitäten und im i
 ndividuellen Rhythmus beim freien Spiel mit den Krabbel-, Kletter- und Bala
 nciergeräten zu beobachten.\n7-14 Monate:\n Turnus I: Freitag, 10:15-11:25 
  (14 EH incl. 1 Einführungsabend  + 3 Elternabende) ab 14.1.22 Kosten: € 23
 0.-\n14-18 Monate\nTurnus II: Freitag, 10:15-11:25\n(9 EH incl. 2 Elternabe
 nde)\nKosten: € 150.-\n5-10 Monate:\n Turnus I: Freitag, 12:00-13:15\n(8EH)
 - keine Elternabende Kosten: € 135.,-\nTurnus II: Freitag, 12:00-13:15 \n(7
  EH) – keine Elternabende\nKosten: € 120.-\n18-30 Monate:\n Turnus I: Freit
 ag, 14:00-15:15    (10 EH incl. 1 Einführungsabend  2 Elternabende)\nKosten
 : € 165.-\nTurnus II: Freitag, 14:00-15:15     (9 EH incl. 2 Elternabende) 
       Kosten: € 150.-\n \nTurnus I: jeweils am 18.02, 25.02, 04.03., 11.03.
 , 18.03., 25.03., 08.04.22\n zusätzlich 1x Einführungsabend am Mo, 14.2.202
 2 von 19:00-20:30.\n zusätzlich 2x Elternabende am, 28.02., 21.03.22, jewei
 ls von 19:00-20:30. \n Anmeldung erforderlich!\n \nTurnus II: jeweils am 22
 .04., 29.04., 06.05., 13.05., 20.05, 03.06, 10.06.22\n zusätzlich 2x Eltern
 abende am 02.05., 30.05., jeweils von 19:00-20:30. \n\n Anmeldung erforderl
 ich!\n \n
X-ALT-DESC;FMTTYPE=text/html:<p><strong>S</strong><strong>piel- und BewegungsRaum nach Emmi Pikler </str
 ong></p><p><strong>Für Kinder von 5 - 30Monate</strong></p><p>Der SpielRaum
  bietet sich als Experimentier- und Lernfeld für Eltern an. Sie bekommen hi
 er die Möglichkeit, ihr Kind in seinen Eigenaktivitäten und im individuelle
 n Rhythmus beim freien Spiel mit den Krabbel-, Kletter- und Balanciergeräte
 n zu beobachten.</p><table width="735"><tbody><tr><td><p><strong>7-14 Monat
 e</strong>:<br /> Turnus I: Freitag, 10:15-11:25  (14 EH incl. 1 Einführung
 sabend  + 3 Elternabende) <em>ab 14.1.22</em> Kosten: € 230.-</p><p><strong
 >14-18 Monate</strong></p><p>Turnus II: Freitag, 10:15-11:25</p><p>(9 EH in
 cl. 2 Elternabende)</p><p>Kosten: € 150.-</p></td><td width="226"><p><stron
 g>5-10 Monate:</strong><br /> Turnus I: Freitag, 12:00-13:15</p><p>(8EH)- k
 eine Elternabende Kosten: € 135.,-</p><p>Turnus II: Freitag, 12:00-13:15 </
 p><p>(7 EH) – keine Elternabende</p><p>Kosten: € 120.-</p></td><td width="2
 59"><p><strong>18-30 Monate:</strong><br /> Turnus I: Freitag, 14:00-15:15 
    (10 EH incl. 1 Einführungsabend  2 Elternabende)</p><p>Kosten: € 165.-</
 p><p>Turnus II: Freitag, 14:00-15:15     (9 EH incl. 2 Elternabende)       
 Kosten: € 150.-</p></td></tr><tr><td colspan="3"><p> </p><p>Turnus I: jewei
 ls am 18.02, 25.02, 04.03., 11.03., 18.03., 25.03., 08.04.22<br /> zusätzli
 ch 1x <strong>Einführungsabend am Mo, 14.2.2022 von 19:00-20:30.<br /> </st
 rong>zusätzlich 2x Elternabende am, 28.02., 21.03.22, jeweils von 19:00-20:
 30. <br /> Anmeldung erforderlich!</p></td></tr><tr><td colspan="3"><p> </p
 ><p>Turnus II: jeweils am 22.04., 29.04., 06.05., 13.05., 20.05, 03.06, 10.
 06.22<br /> zusätzlich 2x Elternabende am 02.05., 30.05., jeweils von 19:00
 -20:30. <br /><br /> Anmeldung erforderlich!</p></td></tr></tbody></table><
 p> </p>
CONTACT:www.kind-und-kegel.at, info@kind-und-kegel.at, 01 503 71 88
X-EXTRAINFO:[preis='16500'][anmeldung='true']
DTSTAMP:20260423T081809
DTSTART:20220214T180000
DTEND:20220214T193000
SEQUENCE:0
TRANSP:OPAQUE
END:VEVENT
END:VCALENDAR