BEGIN:VCALENDAR
VERSION:2.0
PRODID:-//jEvents 2.0 for Joomla//EN
CALSCALE:GREGORIAN
METHOD:PUBLISH
BEGIN:VEVENT
UID:249e227bb7619023f5b6f302e5b2c25d
CATEGORIES:23. Bezirk
CREATED:20220202T221500
SUMMARY:fitdankbaby mit Claudia - Fitness für Dich & Dein Baby
LOCATION:Better Tennis Center Alt Erlaa\,  Erlaaer Str. 56A
DESCRIPTION:<p>Für Mamas mit Babys ab 3 Monaten</p><p> </p><p><span style="text-decorat
 ion: underline;">Das erwartet Dich:</span></p><ul><li>Fitnesskurs mit Deine
 m Baby</li><li>Effektives Ganzkörperworkout</li><li>Training in Kleingruppe
 n</li><li>Gemeinsame Zeit mit viel Spaß für Mama UND Baby</li><li>Dein Baby
  ist die gesamte Stunde eingebunden. </li><li>Kreative Babyspiele und -lied
 er, um dein Baby aktiv in seiner Entwicklung zu unterstützen</li></ul><p>Wi
 r treffen uns immer Donnerstags um 9:30 Uhr im Better Tennis Center Alt Erl
 aa, <span class="w8qArf"> </span><span class="LrzXr">Erlaaer Str. 56A</span
 >, 1230 Wien. Ein Einstieg in den laufenden Kurs ist jederzeit möglich. Der
  ganze Kurs dauert 4 Wochen ab 17.3.2022. Der 4-Wochen-Kurs kostet EUR 52,0
 0. </p><p> </p><p><span style="text-decoration: underline;">Buche Deinen Ku
 rs unter:</span></p><p><a href="http://www.fitdankbaby.at/claudia.klinger">
 www.fitdankbaby.at/claudia.klinger</a> </p><p> </p><p><span style="text-dec
 oration: underline;">Verpasse keine News:</span> </p><p><a href="http://www
 .facebook.com/fitdankbabyClaudia">www.facebook.com/fitdankbabyClaudia</a> <
 /p><p><br />Bei Fragen oder wenn du Interesse an einer unverbindlichen <str
 ong>Schnupperstunde</strong> hast kannst Du mich gerne unter <a href="mailt
 o:claudia.klinger@fitdankbaby.at">claudia.klinger@fitdankbaby.at</a> kontak
 tieren. </p><p> </p><p>Ich freue mich darauf schon bald gemeinsam mit Dir z
 u trainieren! </p>
CONTACT:Claudia Klinger - claudia.klinger@fitdankbaby.at
X-EXTRAINFO:[preis='1300'][anmeldung='true']
DTSTAMP:20260423T111736
DTSTART:20220317T081500
DTEND:20220317T093000
SEQUENCE:0
TRANSP:OPAQUE
END:VEVENT
END:VCALENDAR