BEGIN:VCALENDAR
VERSION:2.0
PRODID:-//jEvents 2.0 for Joomla//EN
CALSCALE:GREGORIAN
METHOD:PUBLISH
BEGIN:VEVENT
UID:80df10e71a05247b4fc9c59d98ad9f6b
CATEGORIES:23. Bezirk
CREATED:20220208T092759
SUMMARY:SCHNUPPERSTUNDE - fitdankbaby - Fitness für Dich & Dein Baby
LOCATION:Apotheke Rodaun\, Ketzergasse 368\, 1230 Wien
DESCRIPTION:<p>Für Mamas mit Babys ab 3 Monaten</p><p> </p><p><span style="text-decorat
 ion: underline;">Das erwartet Dich:</span></p><ul><li>Fitnesskurs mit deine
 m Baby</li><li>Effektives Ganzkörperworkout</li><li>Training in Kleingruppe
 n</li><li>Gemeinsame Zeit mit viel Spaß für Mama UND Baby</li><li>Dein Baby
  ist die gesamte Stunde eingebunden. </li><li>Kreative Babyspiele und -lied
 er, um dein Baby aktiv in seiner Entwicklung zu unterstützen</li></ul><p>Ku
 rsort: Apotheke Rodaun, Ketzergasse 368, 1230 Wien. </p><p> </p><p><strong>
 GRATIS SCHNUPPERSTUNDE FÜR NEUKUNDINNEN - BEGRENZTE PLÄTZE VERFÜGBAR</stron
 g></p><p> </p><p><br />Wenn du Interesse an einer unverbindlichen <strong>S
 chnupperstunde</strong> hast, kontaktiere mich unter <a href="mailto:claudi
 a.klinger@fitdankbaby.at">claudia.klinger@fitdankbaby.at</a> oder buche dir
 ekt unter <a href="https://www.fitdankbaby.at/courses/?id_kurs=6824" target
 ="_blank" rel="noopener noreferrer">https://www.fitdankbaby.at/courses/?id_
 kurs=6824</a></p><p> </p><p>Ich freue mich darauf schon gemeinsam mit Dir z
 u trainieren! </p>
CONTACT:Claudia Klinger - claudia.klinger@fitdankbaby.at
X-EXTRAINFO:[preis='000'][anmeldung='true']
DTSTAMP:20260423T095930
DTSTART:20220223T083000
DTEND:20220223T094500
SEQUENCE:0
TRANSP:OPAQUE
END:VEVENT
END:VCALENDAR