BEGIN:VCALENDAR
VERSION:2.0
PRODID:-//jEvents 2.0 for Joomla//EN
CALSCALE:GREGORIAN
METHOD:PUBLISH
BEGIN:VEVENT
UID:e0612788331a37ac9d26861f928594a1
CATEGORIES:8. Bezirk
CREATED:20220208T115300
SUMMARY:ELTERN-KIND-CAFE im MuPP
LOCATION:Mama &amp; Papa Pur
DESCRIPTION:<div class="kvgmc6g5 cxmmr5t8 oygrvhab hcukyx3x c1et5uql" style="text-align
 : center;"><strong>NEU - Das Eltern Kind Café im Mupp ? </strong></div><div
  class="kvgmc6g5 cxmmr5t8 oygrvhab hcukyx3x c1et5uql" style="text-align: ce
 nter;"> </div><div class="kvgmc6g5 cxmmr5t8 oygrvhab hcukyx3x c1et5uql" sty
 le="text-align: center;">Lasst uns miteinander Zeit verbringen, plaudern, K
 affee/Tee und Kuchen genießen und mit den vielen Spielmöglichkeiten des MuP
 P unseren Kinder die Möglichkeiten geben zu entdecken und spielen. </div><d
 iv class="kvgmc6g5 cxmmr5t8 oygrvhab hcukyx3x c1et5uql" style="text-align: 
 center;"> </div><div class="kvgmc6g5 cxmmr5t8 oygrvhab hcukyx3x c1et5uql" s
 tyle="text-align: center;">DONNERSTAGS 10:30 bis 12:00 Uhr</div><div class=
 "kvgmc6g5 cxmmr5t8 oygrvhab hcukyx3x c1et5uql" style="text-align: center;">
  </div><div class="kvgmc6g5 cxmmr5t8 oygrvhab hcukyx3x c1et5uql" style="tex
 t-align: center;">Die ersten Termine sind:</div><div class="kvgmc6g5 cxmmr5
 t8 oygrvhab hcukyx3x c1et5uql" style="text-align: center;">24.Februar 2022<
 /div><div class="kvgmc6g5 cxmmr5t8 oygrvhab hcukyx3x c1et5uql" style="text-
 align: center;">&amp; 03., 10., 17. März 2022</div><div class="kvgmc6g5 cxm
 mr5t8 oygrvhab hcukyx3x c1et5uql" style="text-align: center;"> </div><div c
 lass="kvgmc6g5 cxmmr5t8 oygrvhab hcukyx3x c1et5uql" style="text-align: cent
 er;"> </div><div class="kvgmc6g5 cxmmr5t8 oygrvhab hcukyx3x c1et5uql" style
 ="text-align: center;">KOSTEN: €10,00 pro Einheit (1 Kind/ 1Erwachsener)</d
 iv><div class="kvgmc6g5 cxmmr5t8 oygrvhab hcukyx3x c1et5uql" style="text-al
 ign: center;">5€ jede weitere Person</div><div class="kvgmc6g5 cxmmr5t8 oyg
 rvhab hcukyx3x c1et5uql" style="text-align: center;">inkl. Kaffee/ Tee und 
 Kuchen</div><div class="kvgmc6g5 cxmmr5t8 oygrvhab hcukyx3x c1et5uql" style
 ="text-align: center;"> </div><div class="kvgmc6g5 cxmmr5t8 oygrvhab hcukyx
 3x c1et5uql" style="text-align: center;">Mehr Info auf auf www.mupp.at<br /
 ><br /></div>
CONTACT:infomupp@icloud.com / 0690 10018258
X-EXTRAINFO:[preis='1000'][anmeldung='true']
DTSTAMP:20260423T144457
DTSTART:20220224T093000
DTEND:20220224T110000
SEQUENCE:0
TRANSP:OPAQUE
END:VEVENT
END:VCALENDAR