BEGIN:VCALENDAR
VERSION:2.0
PRODID:-//jEvents 2.0 for Joomla//EN
CALSCALE:GREGORIAN
METHOD:PUBLISH
BEGIN:VEVENT
UID:7afa78125238bfb8fae1d03c9019c97c
CATEGORIES:8. Bezirk
CREATED:20220208T120529
SUMMARY:FASCHINGSFEST im MuPP für Babys und Kleinkinder
LOCATION:Mama &amp; Papa Pur
DESCRIPTION:<div class="kvgmc6g5 cxmmr5t8 oygrvhab hcukyx3x c1et5uql" style="text-align
 : center;">Wir feiern miteinander Fasching!</div><div class="kvgmc6g5 cxmmr
 5t8 oygrvhab hcukyx3x c1et5uql" style="text-align: center;"> </div><div cla
 ss="kvgmc6g5 cxmmr5t8 oygrvhab hcukyx3x c1et5uql" style="text-align: center
 ;">Von 10 bis 12 Uhr feiern wir mit unseren Jüngsten.</div><div class="kvgm
 c6g5 cxmmr5t8 oygrvhab hcukyx3x c1et5uql" style="text-align: center;">Es gi
 bt, neben den Spielbereichen die im MuPP sowieso schon bekannt sind, noch z
 wei besondere Spielbereiche im Bewegungsraum zum Forschen und Spielen.</div
 ><div class="kvgmc6g5 cxmmr5t8 oygrvhab hcukyx3x c1et5uql" style="text-alig
 n: center;"> </div><div class="kvgmc6g5 cxmmr5t8 oygrvhab hcukyx3x c1et5uql
 " style="text-align: center;">EINTRITT: 12,- Euro/Erwachsene</div><div clas
 s="kvgmc6g5 cxmmr5t8 oygrvhab hcukyx3x c1et5uql" style="text-align: center;
 ">8,- Euro/Kind</div><div class="kvgmc6g5 cxmmr5t8 oygrvhab hcukyx3x c1et5u
 ql" style="text-align: center;">4,- Euro/Baby</div><div class="kvgmc6g5 cxm
 mr5t8 oygrvhab hcukyx3x c1et5uql" style="text-align: center;">Inkl. Kaffee,
  Tee, Saft &amp; Kuchen</div><div class="kvgmc6g5 cxmmr5t8 oygrvhab hcukyx3
 x c1et5uql" style="text-align: center;"> </div><div class="kvgmc6g5 cxmmr5t
 8 oygrvhab hcukyx3x c1et5uql" style="text-align: center;"> </div><div class
 ="kvgmc6g5 cxmmr5t8 oygrvhab hcukyx3x c1et5uql" style="text-align: center;"
 > </div><div class="kvgmc6g5 cxmmr5t8 oygrvhab hcukyx3x c1et5uql" style="te
 xt-align: center;">ÜBRIGENS: von 15 bis 18 Uhr dürfen dann alle feiern - Ba
 bys, Kleinkinder und Kinder! Um den Spaßfaktor zu heben, bitte ich auch die
  Erwachsenen verkleidet zu kommen.</div><div class="kvgmc6g5 cxmmr5t8 oygrv
 hab hcukyx3x c1et5uql" style="text-align: center;">Von 15-16 Uhr gibts Kind
 erschminken, die Erwachsenen dürfen sich ein Glitzertattoo abholen.</div><d
 iv class="kvgmc6g5 cxmmr5t8 oygrvhab hcukyx3x c1et5uql" style="text-align: 
 center;">Um 16 Uhr - Kinderdisko mit lustigen Tänzen.</div><div class="kvgm
 c6g5 cxmmr5t8 oygrvhab hcukyx3x c1et5uql" style="text-align: center;">Und a
 b 16:30 schminke ich Euch wieder. </div><div class="kvgmc6g5 cxmmr5t8 oygrv
 hab hcukyx3x c1et5uql" style="text-align: center;"><div class="kvgmc6g5 cxm
 mr5t8 oygrvhab hcukyx3x c1et5uql" style="text-align: center;">BEIM FASCHING
 SFEST GIBT ES KEINE RUTSCHAUTOS!</div><div class="kvgmc6g5 cxmmr5t8 oygrvha
 b hcukyx3x c1et5uql" style="text-align: center;">Ich bitte um Verständnis.<
 /div></div><div class="o9v6fnle cxmmr5t8 oygrvhab hcukyx3x c1et5uql" style=
 "text-align: center;"> </div><div class="o9v6fnle cxmmr5t8 oygrvhab hcukyx3
 x c1et5uql" style="text-align: center;"><br />ANMELDUNG ERFORDERLICH</div><
 div class="o9v6fnle cxmmr5t8 oygrvhab hcukyx3x c1et5uql" style="text-align:
  center;">ACHTUNG - an diesem Tag bitte ich um 2G PLUS. Zum Schutz unserer 
 Kinder.</div><div class="o9v6fnle cxmmr5t8 oygrvhab hcukyx3x c1et5uql" styl
 e="text-align: center;">Melanie Waldbauer<br />infomupp@icloud.com<br />069
 0 10018258<br /><br /></div><div class="o9v6fnle cxmmr5t8 oygrvhab hcukyx3x
  c1et5uql" style="text-align: center;">Mehr Info auf www.mupp.at</div>
CONTACT:infomupp@icloud.com / 0690 10018258
X-EXTRAINFO:[preis='1200'][anmeldung='true']
DTSTAMP:20260423T125221
DTSTART:20220301T090000
DTEND:20220301T110000
SEQUENCE:0
TRANSP:OPAQUE
END:VEVENT
END:VCALENDAR