BEGIN:VCALENDAR
VERSION:2.0
PRODID:-//jEvents 2.0 for Joomla//EN
CALSCALE:GREGORIAN
METHOD:PUBLISH
BEGIN:VEVENT
UID:4f5f12c24466097eb5aa83cad3d6f0a7
CATEGORIES:8. Bezirk
CREATED:20220208T120845
SUMMARY:FASCHINGSFEST im MuPP für Babys, Kleinkinder & Kinder
LOCATION:Mama &amp; Papa Pur
DESCRIPTION:Wir feiern miteinander Fasching! ? Von 15 bis 18 Uhr für Babys, Kleinkinder
  und Kinder!Um den Spaßfaktor zu heben,bitte ich auch die Erwachsenen verkl
 eidet zu kommen. Von 15-16 Uhr gibts Kinderschminken,die Erwachsenen dürfen
  sich ein Glitzertattoo abholen.Um 16 Uhr - Kinderdisko mit lustigen Tänzen
 .Und ab 16:30 schminke ich Euch wieder.  BEIM FASCHINGSFEST GIBT ES KEINE R
 UTSCHAUTOS!Ich bitte um Verständnis.   EINTRITT: 12,- Euro/Erwachsene8,- Eu
 ro/Kind4,- Euro/BabyInkl. Kaffee, Tee, Saft &amp; Kuchen     ÜBRIGENS: Von 
 10 bis 12 Uhr feiern wir mit unseren Jüngsten,extra nur für Babys und Klein
 kinder.Es gibt, neben den Spielbereichen die im MuPP sowieso schon bekannt 
 sind, noch zwei besondere Spielbereiche im Bewegungsraum zum Forschen und S
 pielen. \nANMELDUNG ERFORDERLICHACHTUNG - an diesem Tag bitte ich um 2G PLU
 S. Zum Schutz unserer Kinder.Melanie Waldbauer\ninfomupp@icloud.com\n0690 1
 0018258\n\nMehr Info auf www.mupp.at
X-ALT-DESC;FMTTYPE=text/html:<div class="kvgmc6g5 cxmmr5t8 oygrvhab hcukyx3x c1et5uql" style="text-align
 : center;">Wir feiern miteinander Fasching! ?</div><div class="kvgmc6g5 cxm
 mr5t8 oygrvhab hcukyx3x c1et5uql" style="text-align: center;"> </div><div c
 lass="kvgmc6g5 cxmmr5t8 oygrvhab hcukyx3x c1et5uql" style="text-align: cent
 er;">Von 15 bis 18 Uhr für Babys, Kleinkinder und Kinder!</div><div class="
 kvgmc6g5 cxmmr5t8 oygrvhab hcukyx3x c1et5uql" style="text-align: center;">U
 m den Spaßfaktor zu heben,</div><div class="kvgmc6g5 cxmmr5t8 oygrvhab hcuk
 yx3x c1et5uql" style="text-align: center;">bitte ich auch die Erwachsenen v
 erkleidet zu kommen.</div><div class="kvgmc6g5 cxmmr5t8 oygrvhab hcukyx3x c
 1et5uql" style="text-align: center;"> </div><div class="kvgmc6g5 cxmmr5t8 o
 ygrvhab hcukyx3x c1et5uql" style="text-align: center;">Von 15-16 Uhr gibts 
 Kinderschminken,</div><div class="kvgmc6g5 cxmmr5t8 oygrvhab hcukyx3x c1et5
 uql" style="text-align: center;">die Erwachsenen dürfen sich ein Glitzertat
 too abholen.</div><div class="kvgmc6g5 cxmmr5t8 oygrvhab hcukyx3x c1et5uql"
  style="text-align: center;">Um 16 Uhr - Kinderdisko mit lustigen Tänzen.</
 div><div class="kvgmc6g5 cxmmr5t8 oygrvhab hcukyx3x c1et5uql" style="text-a
 lign: center;">Und ab 16:30 schminke ich Euch wieder. </div><div class="kvg
 mc6g5 cxmmr5t8 oygrvhab hcukyx3x c1et5uql" style="text-align: center;"> </d
 iv><div class="kvgmc6g5 cxmmr5t8 oygrvhab hcukyx3x c1et5uql" style="text-al
 ign: center;"><div class="kvgmc6g5 cxmmr5t8 oygrvhab hcukyx3x c1et5uql" sty
 le="text-align: center;">BEIM FASCHINGSFEST GIBT ES KEINE RUTSCHAUTOS!</div
 ><div class="kvgmc6g5 cxmmr5t8 oygrvhab hcukyx3x c1et5uql" style="text-alig
 n: center;">Ich bitte um Verständnis.</div></div><div class="kvgmc6g5 cxmmr
 5t8 oygrvhab hcukyx3x c1et5uql" style="text-align: center;"> </div><div cla
 ss="kvgmc6g5 cxmmr5t8 oygrvhab hcukyx3x c1et5uql" style="text-align: center
 ;"> </div><div class="kvgmc6g5 cxmmr5t8 oygrvhab hcukyx3x c1et5uql" style="
 text-align: center;"> </div><div class="kvgmc6g5 cxmmr5t8 oygrvhab hcukyx3x
  c1et5uql" style="text-align: center;">EINTRITT: 12,- Euro/Erwachsene</div>
 <div class="kvgmc6g5 cxmmr5t8 oygrvhab hcukyx3x c1et5uql" style="text-align
 : center;">8,- Euro/Kind</div><div class="kvgmc6g5 cxmmr5t8 oygrvhab hcukyx
 3x c1et5uql" style="text-align: center;">4,- Euro/Baby</div><div class="kvg
 mc6g5 cxmmr5t8 oygrvhab hcukyx3x c1et5uql" style="text-align: center;">Inkl
 . Kaffee, Tee, Saft &amp; Kuchen </div><div class="kvgmc6g5 cxmmr5t8 oygrvh
 ab hcukyx3x c1et5uql" style="text-align: center;"> </div><div class="kvgmc6
 g5 cxmmr5t8 oygrvhab hcukyx3x c1et5uql" style="text-align: center;"> </div>
 <div class="kvgmc6g5 cxmmr5t8 oygrvhab hcukyx3x c1et5uql" style="text-align
 : center;"> </div><div class="kvgmc6g5 cxmmr5t8 oygrvhab hcukyx3x c1et5uql"
  style="text-align: center;"> </div><div class="kvgmc6g5 cxmmr5t8 oygrvhab 
 hcukyx3x c1et5uql" style="text-align: center;">ÜBRIGENS: <div class="kvgmc6
 g5 cxmmr5t8 oygrvhab hcukyx3x c1et5uql" style="text-align: center;">Von 10 
 bis 12 Uhr feiern wir mit unseren Jüngsten,</div><div class="kvgmc6g5 cxmmr
 5t8 oygrvhab hcukyx3x c1et5uql" style="text-align: center;">extra nur für B
 abys und Kleinkinder.</div><div class="kvgmc6g5 cxmmr5t8 oygrvhab hcukyx3x 
 c1et5uql" style="text-align: center;">Es gibt, neben den Spielbereichen die
  im MuPP sowieso schon bekannt sind, noch zwei besondere Spielbereiche im B
 ewegungsraum zum Forschen und Spielen.</div></div><div class="o9v6fnle cxmm
 r5t8 oygrvhab hcukyx3x c1et5uql" style="text-align: center;"> </div><div cl
 ass="o9v6fnle cxmmr5t8 oygrvhab hcukyx3x c1et5uql" style="text-align: cente
 r;"><br />ANMELDUNG ERFORDERLICH</div><div class="o9v6fnle cxmmr5t8 oygrvha
 b hcukyx3x c1et5uql" style="text-align: center;">ACHTUNG - an diesem Tag bi
 tte ich um 2G PLUS. Zum Schutz unserer Kinder.</div><div class="o9v6fnle cx
 mmr5t8 oygrvhab hcukyx3x c1et5uql" style="text-align: center;">Melanie Wald
 bauer<br />infomupp@icloud.com<br />0690 10018258<br /><br /></div><div cla
 ss="o9v6fnle cxmmr5t8 oygrvhab hcukyx3x c1et5uql" style="text-align: center
 ;">Mehr Info auf www.mupp.at</div>
CONTACT:infomupp@icloud.com / 0690 10018258
X-EXTRAINFO:[preis='1200'][anmeldung='true']
DTSTAMP:20260423T134527
DTSTART:20220301T140000
DTEND:20220301T170000
SEQUENCE:0
TRANSP:OPAQUE
END:VEVENT
END:VCALENDAR