BEGIN:VCALENDAR
VERSION:2.0
PRODID:-//jEvents 2.0 for Joomla//EN
CALSCALE:GREGORIAN
METHOD:PUBLISH
BEGIN:VEVENT
UID:58dc1e02b2851b8b9beb06f3a0987db2
CATEGORIES:8. Bezirk
CREATED:20220208T123127
SUMMARY:PLAYDATE Sensorybottles im MuPP
LOCATION:Mama &amp; Papa Pur
DESCRIPTION:Miteinander Zeit verbringen und dabeiSpiele mit und für unsere Kinder gesta
 lten!  Wir gestalten miteinander Sensorybottles. Im Anschluss an die 10-15 
 minütige "Wie geht das" Runde können unsere Kids auch gleich mit dem neuen 
 Spielzeug spielen und/oder die ganze Zeit den Spielraum erkunden. Für Elter
 n gibts Tipps: wie spiele ich mit meinem Kind damit ich es unterstütze selb
 st zu forschen und es auch mal alleine spielt? Welche Flasche ist für welch
 es Alter geeignet und warum? Wie setze ich Spielimpulse?   Kosten €19,00 pr
 o Team (1 Kind/ 1Erwachsener)5€ jede weitere PersonIhr könnt anschließend 3
  Flaschen mit nach Hause nehmen.3€ für jede weitere Flasche \nANMELDUNG ERF
 ORDERLICHMelanie Waldbauer\ninfomupp@icloud.com\n0690 10018258\n\nMehr Info
  auf www.mupp.at
X-ALT-DESC;FMTTYPE=text/html:<div class="kvgmc6g5 cxmmr5t8 oygrvhab hcukyx3x c1et5uql" style="text-align
 : center;">Miteinander Zeit verbringen und dabei</div><div class="kvgmc6g5 
 cxmmr5t8 oygrvhab hcukyx3x c1et5uql" style="text-align: center;">Spiele mit
  und für unsere Kinder gestalten! </div><div class="kvgmc6g5 cxmmr5t8 oygrv
 hab hcukyx3x c1et5uql" style="text-align: center;"> </div><div class="kvgmc
 6g5 cxmmr5t8 oygrvhab hcukyx3x c1et5uql" style="text-align: center;">Wir ge
 stalten miteinander Sensorybottles. Im Anschluss an die 10-15 minütige "Wie
  geht das" Runde können unsere Kids auch gleich mit dem neuen Spielzeug spi
 elen und/oder die ganze Zeit den Spielraum erkunden. Für Eltern gibts Tipps
 : wie spiele ich mit meinem Kind damit ich es unterstütze selbst zu forsche
 n und es auch mal alleine spielt? Welche Flasche ist für welches Alter geei
 gnet und warum? Wie setze ich Spielimpulse? </div><div class="kvgmc6g5 cxmm
 r5t8 oygrvhab hcukyx3x c1et5uql" style="text-align: center;"> </div><div cl
 ass="kvgmc6g5 cxmmr5t8 oygrvhab hcukyx3x c1et5uql" style="text-align: cente
 r;"> </div><div class="kvgmc6g5 cxmmr5t8 oygrvhab hcukyx3x c1et5uql" style=
 "text-align: center;">Kosten €19,00 pro Team (1 Kind/ 1Erwachsener)</div><d
 iv class="kvgmc6g5 cxmmr5t8 oygrvhab hcukyx3x c1et5uql" style="text-align: 
 center;">5€ jede weitere Person</div><div class="kvgmc6g5 cxmmr5t8 oygrvhab
  hcukyx3x c1et5uql" style="text-align: center;">Ihr könnt anschließend 3 Fl
 aschen mit nach Hause nehmen.</div><div class="kvgmc6g5 cxmmr5t8 oygrvhab h
 cukyx3x c1et5uql" style="text-align: center;">3€ für jede weitere Flasche</
 div><div class="o9v6fnle cxmmr5t8 oygrvhab hcukyx3x c1et5uql" style="text-a
 lign: center;"> </div><div class="o9v6fnle cxmmr5t8 oygrvhab hcukyx3x c1et5
 uql" style="text-align: center;"><br />ANMELDUNG ERFORDERLICH</div><div cla
 ss="o9v6fnle cxmmr5t8 oygrvhab hcukyx3x c1et5uql" style="text-align: center
 ;">Melanie Waldbauer<br />infomupp@icloud.com<br />0690 10018258<br /><br /
 ></div><div class="o9v6fnle cxmmr5t8 oygrvhab hcukyx3x c1et5uql" style="tex
 t-align: center;">Mehr Info auf www.mupp.at</div>
CONTACT:infomupp@icloud.com / 0690 10018258
X-EXTRAINFO:[preis='1900'][anmeldung='true']
DTSTAMP:20260423T162611
DTSTART:20220225T090000
DTEND:20220225T110000
SEQUENCE:0
TRANSP:OPAQUE
END:VEVENT
END:VCALENDAR