BEGIN:VCALENDAR
VERSION:2.0
PRODID:-//jEvents 2.0 for Joomla//EN
CALSCALE:GREGORIAN
METHOD:PUBLISH
BEGIN:VEVENT
UID:7d3f98004d4b51cad773bfccdbd0bc77
CATEGORIES:6. Bezirk
CREATED:20220209T171852
SUMMARY:Sinnesspielgruppe (8-18 Monate)
LOCATION:6.\, sandwirtgasse 13/12
DESCRIPTION:Spielgruppe Biolino SinnesspielFür Kinder von 10 bis 24 MonatenDie Sinnessp
 ielgruppe ist für Kinder von 10 bis 24 Monaten. Beim Spielen und Experiment
 ieren mit unterschiedlichen Materialien aus Holz, Stoff, Kork, Porzellan un
 d vielem mehr, werden alle Sinne deines Kindes angesprochen. Wir hören, rie
 chen, schmecken, tasten, sehen und bewegen uns durch den Sinnesraum, der in
  jeder Einheit neue Anregungen bereit hält. So wird spielerisch die gesamte
  Entwicklung deines Kindes gefördert und es kann in seinem Tempo die Welt e
 ntdecken. \nTermine im Sommersemester 2022Februar 2022 17., 24.02 \nMärz 20
 22 3., 10., 17., 24., 31.03 \nApril 2022 7., 21., 28.04 \nMai 2022 5., 12.,
  19.05 \nJuni 2022 02., 09., 23., 30.06 \nEinstieg jederzeit möglich mit de
 r flexiblen Blockkarte (https://www.app.anoah.at/page/f?apiKey=d5ba690e0904
 42e0adb5861b99d5425f)! \nwww.biolino.at (http://www.biolino.at)\nmartina.no
 vak@biolino.at, (mailto:martina.novak@biolino.at,) 0677 628 929 70\nSandwir
 tgasse 13/12, 1060 Wien\n \nWir freuen uns auf euch! &lt;3\nConny und Marti
 na\n
X-ALT-DESC;FMTTYPE=text/html:<h2><span lang="DE-AT">Spielgruppe Biolino Sinnesspiel</span></h2><h3><span
  lang="DE-AT">Für Kinder von 10 bis 24 Monaten</span></h3><p><span lang="DE
 -AT">Die <strong>Sinnesspielgruppe</strong><b> </b>ist für Kinder von <stro
 ng>10 bis 24 Monaten</strong>. Beim Spielen und Experimentieren mit untersc
 hiedlichen Materialien aus Holz, Stoff, Kork, Porzellan und vielem mehr, we
 rden alle Sinne deines Kindes angesprochen. Wir hören, riechen, schmecken, 
 tasten, sehen und bewegen uns durch den Sinnesraum, der in jeder Einheit ne
 ue Anregungen bereit hält. So wird spielerisch die gesamte Entwicklung dein
 es Kindes gefördert und es kann in seinem Tempo die Welt entdecken. </span>
 </p><h3 style="margin: 0cm; margin-bottom: .0001pt;"><span lang="DE-AT">Ter
 mine im Sommersemester 2022</span></h3><p style="margin: 0cm; margin-bottom
 : .0001pt;"><strong><span lang="DE-AT">Februar 2022</span></strong><span la
 ng="DE-AT"> 17., 24.02 </span></p><p style="margin: 0cm; margin-bottom: .00
 01pt;"><strong><span lang="DE-AT">März 2022</span></strong> <span lang="DE-
 AT">3., 10., 17., 24., 31.03 </span></p><p style="margin: 0cm; margin-botto
 m: .0001pt;"><strong><span lang="DE-AT">April 2022</span></strong><span lan
 g="DE-AT"> 7., 21., 28.04 </span></p><p style="margin: 0cm; margin-bottom: 
 .0001pt;"><strong><span lang="DE-AT">Mai 2022</span></strong><span lang="DE
 -AT"> 5., 12., 19.05 </span></p><p style="margin: 0cm; margin-bottom: .0001
 pt;"><strong><span lang="DE-AT">Juni 2022</span></strong><span lang="DE-AT"
 > 02., 09., 23., 30.06 </span></p><p><span lang="DE-AT">Einstieg jederzeit 
 möglich mit der flexiblen <a href="https://www.app.anoah.at/page/f?apiKey=d
 5ba690e090442e0adb5861b99d5425f">Blockkarte</a>! </span></p><p><span lang="
 DE-AT"><a href="http://www.biolino.at">www.biolino.at</a></span></p><p><spa
 n lang="DE-AT"><a href="mailto:martina.novak@biolino.at,">martina.novak@bio
 lino.at,</a> 0677 628 929 70</span></p><p><span lang="DE-AT">Sandwirtgasse 
 13/12, 1060 Wien</span></p><p><span lang="DE-AT"> </span></p><p><span lang=
 "DE-AT">Wir freuen uns auf euch! &lt;3</span></p><p><span lang="DE-AT">Conn
 y und Martina</span></p>
CONTACT:martina.novak@biolino.at, 067762829270
X-EXTRAINFO:[preis='1700'][anmeldung='true']
DTSTAMP:20260423T082210
DTSTART:20220217T100000
DTEND:20220217T110000
SEQUENCE:0
TRANSP:OPAQUE
END:VEVENT
END:VCALENDAR