BEGIN:VCALENDAR
VERSION:2.0
PRODID:-//jEvents 2.0 for Joomla//EN
CALSCALE:GREGORIAN
METHOD:PUBLISH
BEGIN:VEVENT
UID:12f6e000c401c9098ecedb30bb6e5698
CATEGORIES:8. Bezirk
CREATED:20220216T114727
SUMMARY:Trotz und Autonomie - Entwicklung des Kindes im 2. und 3. Lebensjahr
LOCATION:Piaristengasse 32
DESCRIPTION:Vortragende:\nMag. Brigitte Wysoudil-Dobrowsky \n\nIBCLC, Pädagogin, Mutter
  von drei Kindern, Familienberaterin, ausgebildet bei Jesper Juul\n \nIn ei
 ner intakten Familie gibt es permanent größere uns kleinere Konflikte.\nJe 
 mehr man versucht ihnen aus dem Weg zu gehen, desto größer werden sie und s
 chaden der Beziehung. \nIn diesen 2 Jahren wird Ihr Kind nach Unabhängigkei
 t streben, es beginnt zu gehen, die ersten Worte zu sprechen und mit Ihnen 
 sprachlich zu kommunizieren. Es wird seine motorischen Fertigkeiten weitere
 ntwickeln.\nIm 3. Lebensjahr wird sich viel in seinem Denken ändern. In sei
 nem Kopf beginnen Vorstellungen zu entstehen, Begriffe werden Kategorien zu
 geordnet und Dinge nach System sortiert. Auch sein Erinnerungsvermögen entw
 ickelt sich. Sein Verständnis für sich als eigenständige Person wächst.\nDi
 ese neue Sicht auf Dinge kann zu Konflikten führen, wenn Sie nicht auf sein
 e Gefühle eingehen.\nGeduld und Ausdauer sind gefragt. \n\n - Über die Bede
 utung dieses sehr wichtigen Lebensabschnittes\n - Über die Wichtigkeit für 
 die emotionale Entwicklung des Kindes\n - Verschiedene Sichtweisen der emot
 ionalen Wechselbeziehung zwischen Kind und Eltern\n - Wenn Kinder ständig "
 Nein" sagen und alles selber machen wollen\n - Grundregeln für Eltern im Um
 gang mit „Trotz“, Machtkämpfen und häufigen Wutanfällen\n - Umgang mit den 
 starken Emotionen des Kindes – unter Achtsamkeit seiner Integrität \nANMELD
 UNG ERFORDERLICH\nTermin: Fr, 23. Sept. 2022\n\n
X-ALT-DESC;FMTTYPE=text/html:<p><span style="font-family: arial,helvetica,sans-serif; font-size: 14pt; t
 ext-decoration: underline;"><strong>Vortragende:</strong></span></p><p><spa
 n style="font-family: arial,helvetica,sans-serif; font-size: 12pt;"><strong
 >Mag. Brigitte Wysoudil-Dobrowsky <br /></strong></span></p><p><span style=
 "font-family: arial,helvetica,sans-serif; font-size: 12pt;">IBCLC, Pädagogi
 n, Mutter von drei Kindern, Familienberaterin, ausgebildet bei Jesper Juul<
 /span></p><p> </p><p><span style="font-family: arial,helvetica,sans-serif; 
 font-size: 12pt;"><strong>In einer intakten Familie gibt es permanent größe
 re uns kleinere Konflikte.</strong></span></p><p><span style="font-family: 
 arial,helvetica,sans-serif; font-size: 12pt;"><strong>Je mehr man versucht 
 ihnen aus dem Weg zu gehen, desto größer werden sie und schaden der Beziehu
 ng.</strong> </span></p><p><span style="font-family: arial,helvetica,sans-s
 erif; font-size: 12pt;">In diesen 2 Jahren wird Ihr Kind nach Unabhängigkei
 t streben, es beginnt zu gehen, die ersten Worte zu sprechen und mit Ihnen 
 sprachlich zu kommunizieren. Es wird seine motorischen Fertigkeiten weitere
 ntwickeln.</span></p><p><span style="font-family: arial,helvetica,sans-seri
 f; font-size: 12pt;">Im 3. Lebensjahr wird sich viel in seinem Denken änder
 n. In seinem Kopf beginnen Vorstellungen zu entstehen, Begriffe werden Kate
 gorien zugeordnet und Dinge nach System sortiert. Auch sein Erinnerungsverm
 ögen entwickelt sich. Sein Verständnis für sich als eigenständige Person wä
 chst.</span></p><p><span style="font-family: arial,helvetica,sans-serif; fo
 nt-size: 12pt;"><strong>Diese neue Sicht auf Dinge kann zu Konflikten führe
 n, wenn Sie nicht auf seine Gefühle eingehen.</strong></span></p><p><span s
 tyle="font-family: arial,helvetica,sans-serif; font-size: 12pt;">Geduld und
  Ausdauer sind gefragt. </span></p><ul><li><span style="font-family: arial,
 helvetica,sans-serif; font-size: 12pt;">Über die Bedeutung dieses sehr wich
 tigen Lebensabschnittes</span></li><li><span style="font-family: arial,helv
 etica,sans-serif; font-size: 12pt;">Über die Wichtigkeit für die emotionale
  Entwicklung des Kindes</span></li><li><span style="font-family: arial,helv
 etica,sans-serif; font-size: 12pt;">Verschiedene Sichtweisen der emotionale
 n Wechselbeziehung zwischen Kind und Eltern</span></li><li><span style="fon
 t-family: arial,helvetica,sans-serif; font-size: 12pt;">Wenn Kinder ständig
  "Nein" sagen und alles selber machen wollen</span></li><li><span style="fo
 nt-family: arial,helvetica,sans-serif; font-size: 12pt;">Grundregeln für El
 tern im Umgang mit „Trotz“, Machtkämpfen und häufigen Wutanfällen</span></l
 i><li><span style="font-family: arial,helvetica,sans-serif; font-size: 12pt
 ;">Umgang mit den starken Emotionen des Kindes – unter Achtsamkeit seiner I
 ntegrität</span></li></ul><p> </p><p><strong>ANMELDUNG ERFORDERLICH</strong
 ></p><p><strong>Termin: Fr, 23. Sept. 2022<br /></strong></p>
CONTACT:https://www.elternkindzentrum.com/veranstaltungen/vortraege/67/entwicklung-des-kindes-im-zweiten-und-dritten-lebensjahr-
X-EXTRAINFO:[preis='4500'][anmeldung='true']
DTSTAMP:20260423T142625
DTSTART:20220923T130000
DTEND:20220923T160000
SEQUENCE:0
TRANSP:OPAQUE
END:VEVENT
END:VCALENDAR