BEGIN:VCALENDAR
VERSION:2.0
PRODID:-//jEvents 2.0 for Joomla//EN
CALSCALE:GREGORIAN
METHOD:PUBLISH
BEGIN:VEVENT
UID:876e1bed2a661e5795345450cbcfc961
CATEGORIES:8. Bezirk
CREATED:20220216T115219
SUMMARY: Wie kläre ich mein Kind auf!? Körper, Liebe, Doktorspiele - alles normal? Psychosexuelle Entwicklung des Kindes und ihr Umgang damit
LOCATION:EKIZ Wien\, Piaristengasse 32\, 1080 Wien
DESCRIPTION:Vortragende:\nMag. Brigitte Wysoudil-Dobrowsky\nSexualpädagogin und akademi
 sche Expertin für Sexualberatung\n \nWie können Eltern dazu beitragen, dass
  ihre Kinder eine gesunde psychosexuelle Entwicklung erleben.\nUnd was brin
 gt das überhaupt!?\n \nDer Aspekt der Sexualität von Säuglingen und Kleinki
 ndern wird in Erziehungsratgebern oder Fachbüchern zur Entwicklungspsycholo
 gie kaum bis gar nicht behandelt. Es herrscht eine auffällige Tabuisierung 
 dieses wichtigen Teilbereichs menschlicher Entwicklung. Nach gängigen Vorst
 ellungen ist Sexualität etwas für Jugendliche und Erwachsene. Kinder gelten
  demgegenüber als „unschuldig“, ihre lustvollen Äußerungen werden nicht als
  sexuelle interpretiert.\n \n\nThemen:\nWas verstehen wir heute unter Sexua
 lität!? Sexualpädagogik – Sexuelle Bildung\nPsychosexuelle Entwicklung des 
 Kindes, wie kann sexuelle Entwicklung gefördert werden!\nWelche Art von Beg
 leitung und Unterstützung brauchen die Kinder von uns!?\nKonkrete Antworten
  auf Fragen wie:\nWann beginnt Aufklärung, wann ist der beste Zeitpunkt zur
  Aufklärung?\nWarte ich bis das Kind fragt, oder spreche ich von selbst dar
 über? Und in welcher Wortwahl?\nWie gehe ich damit um, wenn die Freunde mei
 ner Kinder schmutzige Witze oder Bilder verbreiten? Was tun, wenn mein Kind
  sich etwas in den Po steckt?\nSelbstbefriedigung - wie reagiere ich? Dokto
 rspiele - sind die denn normal!?\nGemeinsam in der Badewanne sitzen - ist d
 as heute noch ok!?\nNackt sein in häuslicher Umgebung\nWann beginnt sexuell
 e Übergrifflichkeit und wann beginnt sexueller Missbrauch?\n \nLiteraturemp
 fehlungen\n \nWorkshop zu 3 Stunden\n\nTermin:\nFreitag, 14. Oktober 2022, 
 15.00 – 18.00 Uhr\n
X-ALT-DESC;FMTTYPE=text/html:<p>Vortragende:<br /><strong>Mag. Brigitte Wysoudil-Dobrowsky</strong><br /
 >Sexualpädagogin und akademische Expertin für Sexualberatung</p><p> <br />W
 ie können Eltern dazu beitragen, dass ihre Kinder eine gesunde psychosexuel
 le Entwicklung erleben.<br />Und was bringt das überhaupt!?<br /> <br />Der
  Aspekt der Sexualität von Säuglingen und Kleinkindern wird in Erziehungsra
 tgebern oder Fachbüchern zur Entwicklungspsychologie kaum bis gar nicht beh
 andelt. Es herrscht eine auffällige Tabuisierung dieses wichtigen Teilberei
 chs menschlicher Entwicklung. Nach gängigen Vorstellungen ist Sexualität et
 was für Jugendliche und Erwachsene. Kinder gelten demgegenüber als „unschul
 dig“, ihre lustvollen Äußerungen werden nicht als sexuelle interpretiert.</
 p><p> </p><p><br />Themen:<br />Was verstehen wir heute unter Sexualität!? 
 Sexualpädagogik – Sexuelle Bildung<br />Psychosexuelle Entwicklung des Kind
 es, wie kann sexuelle Entwicklung gefördert werden!<br />Welche Art von Beg
 leitung und Unterstützung brauchen die Kinder von uns!?<br />Konkrete Antwo
 rten auf Fragen wie:<br />Wann beginnt Aufklärung, wann ist der beste Zeitp
 unkt zur Aufklärung?<br />Warte ich bis das Kind fragt, oder spreche ich vo
 n selbst darüber? Und in welcher Wortwahl?<br />Wie gehe ich damit um, wenn
  die Freunde meiner Kinder schmutzige Witze oder Bilder verbreiten? Was tun
 , wenn mein Kind sich etwas in den Po steckt?<br />Selbstbefriedigung - wie
  reagiere ich? Doktorspiele - sind die denn normal!?<br />Gemeinsam in der 
 Badewanne sitzen - ist das heute noch ok!?<br />Nackt sein in häuslicher Um
 gebung<br />Wann beginnt sexuelle Übergrifflichkeit und wann beginnt sexuel
 ler Missbrauch?<br /> <br />Literaturempfehlungen<br /> <br />Workshop zu 3
  Stunden</p><p><br />Termin:<br />Freitag, 14. Oktober 2022, 15.00 – 18.00 
 Uhr</p>
CONTACT:https://www.elternkindzentrum.com/veranstaltungen/vortraege/83/psychosexuelle-entwicklung-des-kindes-und-ihr-umgang-dami
X-EXTRAINFO:[preis='4500'][anmeldung='true']
DTSTAMP:20260423T081817
DTSTART:20221014T130000
DTEND:20221014T160000
SEQUENCE:0
TRANSP:OPAQUE
END:VEVENT
END:VCALENDAR