BEGIN:VCALENDAR
VERSION:2.0
PRODID:-//jEvents 2.0 for Joomla//EN
CALSCALE:GREGORIAN
METHOD:PUBLISH
BEGIN:VEVENT
UID:a874cbb0277580b720cbd2e5ea68993f
CATEGORIES:8. Bezirk
CREATED:20220216T115637
SUMMARY:Entwicklung des Kindes im 1. Lebensjahr
LOCATION:EKIZ Wien\, Piaristengasse 32\, 1080 Wien
DESCRIPTION:<p><strong>Kursleitung:</strong></p><p><strong>Mag. Brigitte Wysoudil-Dobro
 wsky</strong><br />IBCLC, Pädagogin, Mutter von drei Kindern, Familienberat
 erin, ausgebildet bei Jesper Juul</p><p><br /><strong>Die Geburt des ersten
  Kindes bringt die größten Veränderungen im Leben einer Frau und eines Paar
 es.</strong> Wir freuen uns auf die Herausforderung und haben das Bedürfnis
  unserem Kind das Beste zu bieten und alles richtig zu machen! Wir wollen i
 hm alles geben, was es braucht! Manchmal sind wir verunsichert und unser Ge
 fühlsleben schwankt zwischen Glückseligkeit und Verzweiflung. Vertrauen Sie
  Ihrer Intuition! Geben Sie sich die Zeit und haben Sie Geduld in das neue 
 Familienglück langsam hinein zu wachsen!</p><p> </p><p><strong>Kursinhalt:<
 /strong><br />Dieser Workshop bietet die Möglichkeit mehr Wissen über die P
 rozesse, die in der Familie ablaufen, zu bekommen.</p><p><br /><strong>Die 
 Themen:</strong></p><ul><li>Körperliche, geistige und soziale Entwicklung</
 li><li>Ernährung im 1. Lebensjahr</li><li>Stillen, Teil-Stillen, Nicht-Stil
 len, Beikost ab 6 Monaten</li><li>Schlafen, Schreien, Tragen und "viel Kusc
 heln"</li><li>Motorische Entwicklung</li><li>"Fremdeln"</li><li>Kommunikati
 on auf verbaler und nonverbaler Ebene</li><li>Literatur</li><li>Was sind di
 e Kompetenzen des Kindes?</li><li>Wie gelingt es eine liebevolle Beziehung 
 aufzubauen?</li><li>Was bedeuten Integrität und persönliche Grenzen?</li></
 ul><p><br /><strong>Das Baby kann mitgenommen werden.</strong></p><p> </p><
 p><strong>Termin: </strong></p><p><strong>Do, 10. Nov. 2022, 10 -13 Uhr</st
 rong></p>
CONTACT:https://www.elternkindzentrum.com/veranstaltungen/vortraege/66/entwicklung-des-kindes-im-ersten-lebensjahr.html
X-EXTRAINFO:[preis='4500'][anmeldung='true']
DTSTAMP:20260423T113706
DTSTART:20221110T090000
DTEND:20221110T120000
SEQUENCE:0
TRANSP:OPAQUE
END:VEVENT
END:VCALENDAR