BEGIN:VCALENDAR
VERSION:2.0
PRODID:-//jEvents 2.0 for Joomla//EN
CALSCALE:GREGORIAN
METHOD:PUBLISH
BEGIN:VEVENT
UID:b382cebc3a47e7f9e4186aab43708b67
CATEGORIES:8. Bezirk
CREATED:20220216T120010
SUMMARY:Stärken Sie das Selbstwertgefühl Ihres Kindes (Seminarreihe Jesper Juul)
LOCATION:EKIZ Wien\, Piaristengasse 32\, 1080 Wien
DESCRIPTION:Vortragende:\n\nMag. Brigitte Wysoudil-Dobrowsky\nPädagogin, Familienberate
 rin ausgebildet bei Jesper Juul\n \nDieser Workshop ist eine Einführung in 
 die Begriffe „Selbstwertgefühl“ und „Selbstvertrauen“ für Eltern, Pflege- u
 nd Adoptiveltern, Au-Pairs, Großeltern und Kinderbetreuungspersonen von Kin
 dern im Alter von 0-13 Jahren.\n\nDie Fähigkeit von Eltern ihr Kind wahrzun
 ehmen und anzuerkennen, entscheidet darüber, wie das Kind sich selber erfäh
 rt und wie sich sein Selbstgefühl entwickeln kann. Auch Pflege- und Adoptiv
 eltern können mit eben dieser Fähigkeit, mit ihrer eigenen Haltung und inne
 ren Einstellung dazu beitragen.\nEin gesundes Selbstgefühl ist die Vorausse
 tzung für Wohlbefinden, Lebensfreude und Beziehungsfähigkeit.\nEin starkes 
 Selbstwertgefühl erleichtert es Ihrem Kind auch mit neuen, schwierigen oder
  belastenden Situationen umzugehen, wie z.B. Kindergarten- oder Schulbeginn
 , Trennung von den Eltern, Gruppendruck unter Gleichaltrigen, Mobbing, Umga
 ng mit Suchttmitteln wie Alkohol und Drogen etc.\n \nThemen:\nWie kann Ihr 
 Kind ein gesundes Selbstwertgefühl entwickeln?\nWie vermeiden Sie das Selbs
 twertgefühl zu schwächen?\nWie ein gesunder Selbstwert Beziehungen erleicht
 ert!\nWie beeinflusst Ihr eigener Selbstwert den Selbstwert Ihres Kindes?\n
 Neben theoretischen Inhalten werden praktische Übungen präsentiert, Beispie
 le aus dem Alltag besprochen, um einen konkrete Umsatz in die Praxis zu erm
 öglichen und Literaturempfehlungen gegeben.\n \nTermin:\nDo, 17. Nov 2022, 
 17.30 - 20.30 Uhr\n
X-ALT-DESC;FMTTYPE=text/html:<p><span style="text-decoration: underline;">Vortragende:<br /></span><br /
 ><strong>Mag. Brigitte Wysoudil-Dobrowsky</strong><br />Pädagogin, Familien
 beraterin ausgebildet bei Jesper Juul</p><p> <br />Dieser Workshop ist eine
  Einführung in die Begriffe „Selbstwertgefühl“ und „Selbstvertrauen“ für El
 tern, Pflege- und Adoptiveltern, Au-Pairs, Großeltern und Kinderbetreuungsp
 ersonen von Kindern im Alter von 0-13 Jahren.</p><p><br />Die Fähigkeit von
  Eltern ihr Kind wahrzunehmen und anzuerkennen, entscheidet darüber, wie da
 s Kind sich selber erfährt und wie sich sein Selbstgefühl entwickeln kann. 
 Auch Pflege- und Adoptiveltern können mit eben dieser Fähigkeit, mit ihrer 
 eigenen Haltung und inneren Einstellung dazu beitragen.<br />Ein gesundes S
 elbstgefühl ist die Voraussetzung für Wohlbefinden, Lebensfreude und Bezieh
 ungsfähigkeit.<br />Ein starkes Selbstwertgefühl erleichtert es Ihrem Kind 
 auch mit neuen, schwierigen oder belastenden Situationen umzugehen, wie z.B
 . Kindergarten- oder Schulbeginn, Trennung von den Eltern, Gruppendruck unt
 er Gleichaltrigen, Mobbing, Umgang mit Suchttmitteln wie Alkohol und Drogen
  etc.</p><p> </p><p>Themen:<br />Wie kann Ihr Kind ein gesundes Selbstwertg
 efühl entwickeln?<br />Wie vermeiden Sie das Selbstwertgefühl zu schwächen?
 <br />Wie ein gesunder Selbstwert Beziehungen erleichtert!<br />Wie beeinfl
 usst Ihr eigener Selbstwert den Selbstwert Ihres Kindes?<br />Neben theoret
 ischen Inhalten werden praktische Übungen präsentiert, Beispiele aus dem Al
 ltag besprochen, um einen konkrete Umsatz in die Praxis zu ermöglichen und 
 Literaturempfehlungen gegeben.</p><p> </p><p>Termin:</p><p>Do, 17. Nov 2022
 , 17.30 - 20.30 Uhr</p>
CONTACT:https://www.elternkindzentrum.com/kurse/kurse-fuer-eltern/33/staerken-sie-das-selbstwertgefuehl-ihres-kindes.html
X-EXTRAINFO:[preis='4500'][anmeldung='true']
DTSTAMP:20260425T103754
DTSTART:20221117T163000
DTEND:20221117T193000
SEQUENCE:0
TRANSP:OPAQUE
END:VEVENT
END:VCALENDAR