BEGIN:VCALENDAR
VERSION:2.0
PRODID:-//jEvents 2.0 for Joomla//EN
CALSCALE:GREGORIAN
METHOD:PUBLISH
BEGIN:VEVENT
UID:452650d7698df3d2d473e26cff6fdd42
CATEGORIES:8. Bezirk
CREATED:20220216T122340
SUMMARY:Was Kinder zum Wachsen brauchen
LOCATION:EKIZ Wien\, Piaristengasse 32\, 1080 Wien
DESCRIPTION:Vortragende:\n\nMag. Brigitte Wysoudil-Dobrowsky\nPädagogin, Familienberate
 rin ausgebildet bei Jesper Juul\n Zwischen Computer und Waldkindergarten\n-
  vom Wert des Spielens und der Bedeutung der Natur als Entwicklungsraum\nUn
 ter den Gesichtspunkten der gesellschaftlichen Veränderungen der letzten Ja
 hrzehnte begeben wir uns auf die Spurensuche, was Kinder heute zum Wachsen 
 brauchen.\nWas lässt Kinder zu aufgeschlossenen und kompetenten Erwachsenen
  heranreifen?\nWelche Quellen sind es, von denen eine gelungene Entwicklung
  abhängt. Was können wir Eltern dafür tun?\nFreiheit erleben, Widerstände ü
 berwinden, einander auf Augenhöhe begegnen und dabei sich selbst finden. \n
 Ob draußen oder drinnen: Wir spannen einen Bogen von der Natur bis zum Comp
 uter und fragen nach der Balance zwischen realer und virtueller Welt. \n\nT
 hemen:\n\n - Woher kommt die Freiheit eigenen Wege zu gehen!\n - Die Fahrt 
 ins Neuland - Selbstwirksamkeit und Selbstorganisation führen zu Manövrierf
 ähigkeit und Wendigkeit - am allerbesten mit Rückenwind!\n - Vom "Loch in d
 er Wand"\n - Natur als artgerechter Entwicklungsraum\n - Die Bedeutung des 
 Spiels: Spielen der Schlüssel zum Herzen\n - Die vier Quellen der Entwicklu
 ng\n - Ist heute wirklich alles anders?!\n - Natur und Gesundheit, Musik un
 d Bücher\n - Das große Drinnen - von Computern &amp; Co, Medienkonsum und D
 rinnenspielen\n - Was können wir Eltern tun?\n - Literaturempfehlungen \nTe
 rmin:\nFr. 6. September 2022, 15 - 18 Uhr\n
X-ALT-DESC;FMTTYPE=text/html:<p><span style="text-decoration: underline;">Vortragende:<br /></span><br /
 ><strong>Mag. Brigitte Wysoudil-Dobrowsky</strong><br />Pädagogin, Familien
 beraterin ausgebildet bei Jesper Juul</p><p> <em>Zwischen Computer und Wald
 kindergarten</em></p><p><em>- vom Wert des Spielens und der Bedeutung der N
 atur als Entwicklungsraum</em></p><p>Unter den Gesichtspunkten der gesellsc
 haftlichen Veränderungen der letzten Jahrzehnte begeben wir uns auf die Spu
 rensuche, was Kinder heute zum Wachsen brauchen.</p><p>Was lässt Kinder zu 
 aufgeschlossenen und kompetenten Erwachsenen heranreifen?</p><p>Welche Quel
 len sind es, von denen eine gelungene Entwicklung abhängt. Was können wir E
 ltern dafür tun?</p><p>Freiheit erleben, Widerstände überwinden, einander a
 uf Augenhöhe begegnen und dabei sich selbst finden. <br />Ob draußen oder d
 rinnen: Wir spannen einen Bogen von der Natur bis zum Computer und fragen n
 ach der Balance zwischen realer und virtueller Welt. <br /><strong><br />Th
 emen:</strong></p><ul><li>Woher kommt die Freiheit eigenen Wege zu gehen!</
 li><li>Die Fahrt ins Neuland - Selbstwirksamkeit und Selbstorganisation füh
 ren zu Manövrierfähigkeit und Wendigkeit - am allerbesten mit Rückenwind!</
 li><li>Vom "Loch in der Wand"</li><li>Natur als artgerechter Entwicklungsra
 um</li><li>Die Bedeutung des Spiels: Spielen der Schlüssel zum Herzen</li><
 li>Die vier Quellen der Entwicklung</li><li>Ist heute wirklich alles anders
 ?!</li><li>Natur und Gesundheit, Musik und Bücher</li><li>Das große Drinnen
  - von Computern &amp; Co, Medienkonsum und Drinnenspielen</li><li>Was könn
 en wir Eltern tun?</li><li>Literaturempfehlungen</li></ul><p> </p><p>Termin
 :</p><p>Fr. 6. September 2022, 15 - 18 Uhr</p>
CONTACT:https://www.elternkindzentrum.com/kurse/kurse-fuer-eltern/84/was-kinder-heute-zum-wachsen-brauchen.html
X-EXTRAINFO:[preis='4500'][anmeldung='true']
DTSTAMP:20260423T094356
DTSTART:20220916T130000
DTEND:20220916T160000
SEQUENCE:0
TRANSP:OPAQUE
END:VEVENT
END:VCALENDAR