BEGIN:VCALENDAR
VERSION:2.0
PRODID:-//jEvents 2.0 for Joomla//EN
CALSCALE:GREGORIAN
METHOD:PUBLISH
BEGIN:VEVENT
UID:80d1d3ea30413288b01f686d00af7b98
CATEGORIES:8. Bezirk
CREATED:20220216T145347
SUMMARY:Stillvorbereitung
LOCATION:EKIZ Wien\, Piaristengasse 32\, 1080 Wien
DESCRIPTION:Liebe werdende Mütter und Väter, Großeltern und Interessierte!\nStillvorber
 eitung bedeutet:\n\n - Viel Wissen über gute Anlegetechniken\n - Kompetenz 
 im Umgang mit Startschwierigkeiten\n - Sicherheit bei verschiedenen Stillpo
 sition\n - Handwerkszeug zur Brustpflege\n - Gelassenheit und Ruhe durch ho
 he Eigenkompetenz\n - Wissen, wo ich mir Rat holen kannMit Maga Bri Wysoudi
 l-Dobrowsky, IBCLC\nInternational zertifizierte Still- und Laktationsberate
 rin\n\n\nThemen des Workshops:\n\n - Thema Muttermilch: Vorteile der Mutter
 milch für das Baby, die Mutter, die Familie und die Umwelt\n Optimale Ernäh
 rung, Schutz vor Infektionen, langfristige Schutzfunktionen sowohl für das 
 Kind als auch für die Mutter\n - Was ist vor der Geburt zu tun! Müssen die 
 Mamillen (Brustwarzen) wirklich auf das Stillen vorbereitet werden oder ist
  das ein Mythos!?\n - Was können die frischgebackenen Eltern unmittelbar na
 ch der Geburt für einen optimalen Stillbeginn tun!\n - Was ist beim ersten 
 Anlegen zu beachten!\n - Richtige Stillpositionen und richtige Anlegetechni
 ken \n - Die hohe Bedeutung und Wirkung des Kolostrums - die allererste Nah
 rung für das Neugeborene\n - Effizientes Saugen des Babys\n - Milcheinschus
 s der reifen Muttermilch in den Tagen nach der Geburt\n - Nachfrage über da
 s Saugen des Babys ergibt das Angebot von Muttermilch – "Ich habe zu wenig 
 Milch!" Gibt es das wirklich?\n - Woraus besteht eine Stillmahlzeit - Vorde
 rmilch und Hintermilch - ein 3-Gänge-Menü\n - Häufigkeit des Anlegens und d
 es Stillens, Länge einer Stillmahlzeit\n - Was ist "Clusterfeeding"!?\n - W
 as ist Wechselstillen?\n - Optimale Gewichtszunahme\n - Stillen ist viel me
 hr als nur Nahrung - über die Bindung und das Bindungsverhalten von Mutter 
 und Kind\n - Falls es mit dem Stillen nicht so klappen sollte - was kann ic
 h tun!?\n - Literaturempfehlungen runden das Angebot ab\n - Alle Fragen der
  TeilnehmerInnen sind herzlich willkommenRichtige Stillpositionen und die r
 ichtige Anlegetechnik können entscheidend zum Stillerfolg beitragen.\n \nPr
 eis: € 39 ,- pro Person/ € 19,- für den anderen werdenden Elternteil\n \n
X-ALT-DESC;FMTTYPE=text/html:<p>Liebe werdende Mütter und Väter, Großeltern und Interessierte!</p><p><st
 rong><u>Stillvorbereitung</u></strong><u> <strong>bedeutet</strong></u><str
 ong>:</strong></p><ul><li>Viel Wissen über gute Anlegetechniken</li><li>Kom
 petenz im Umgang mit Startschwierigkeiten</li><li>Sicherheit bei verschiede
 nen Stillposition</li><li>Handwerkszeug zur Brustpflege</li><li>Gelassenhei
 t und Ruhe durch hohe Eigenkompetenz</li><li>Wissen, wo ich mir Rat holen k
 ann</li></ul><p>Mit <strong>Mag<sup>a</sup> Bri Wysoudil-Dobrowsky, IBCLC</
 strong><br />International zertifizierte Still- und Laktationsberaterin<br 
 /><br /></p><p><strong><u>Themen des Workshops:</u></strong></p><ul><li>The
 ma Muttermilch: Vorteile der Muttermilch für das Baby, die Mutter, die Fami
 lie und die Umwelt<br /> Optimale Ernährung, Schutz vor Infektionen, langfr
 istige Schutzfunktionen sowohl für das Kind als auch für die Mutter</li><li
 >Was ist vor der Geburt zu tun! Müssen die Mamillen (Brustwarzen) wirklich 
 auf das Stillen vorbereitet werden oder ist das ein Mythos!?</li><li>Was kö
 nnen die frischgebackenen Eltern unmittelbar nach der Geburt für einen opti
 malen Stillbeginn tun!</li><li>Was ist beim ersten Anlegen zu beachten!</li
 ><li>Richtige Stillpositionen und richtige Anlegetechniken </li><li>Die hoh
 e Bedeutung und Wirkung des Kolostrums - die allererste Nahrung für das Neu
 geborene</li><li>Effizientes Saugen des Babys</li><li>Milcheinschuss der re
 ifen Muttermilch in den Tagen nach der Geburt</li><li>Nachfrage über das Sa
 ugen des Babys ergibt das Angebot von Muttermilch – "Ich habe zu wenig Milc
 h!" Gibt es das wirklich?</li><li>Woraus besteht eine Stillmahlzeit - Vorde
 rmilch und Hintermilch - ein 3-Gänge-Menü</li><li>Häufigkeit des Anlegens u
 nd des Stillens, Länge einer Stillmahlzeit</li><li>Was ist "Clusterfeeding"
 !?</li><li>Was ist Wechselstillen?</li><li>Optimale Gewichtszunahme</li><li
 >Stillen ist viel mehr als nur Nahrung - über die Bindung und das Bindungsv
 erhalten von Mutter und Kind</li><li>Falls es mit dem Stillen nicht so klap
 pen sollte - was kann ich tun!?</li><li>Literaturempfehlungen runden das An
 gebot ab</li><li>Alle Fragen der TeilnehmerInnen sind herzlich willkommen</
 li></ul><p><strong>Richtige Stillpositionen und die richtige Anlegetechnik 
 können entscheidend zum Stillerfolg beitragen.</strong></p><p> </p><p><stro
 ng>Preis: </strong>€ 39 ,- pro Person/ € 19,- für den anderen werdenden Elt
 ernteil</p><p> </p>
CONTACT:https://www.elternkindzentrum.com/kurse/kurse-vor-der-geburt/104/stillvorbereitung.html
X-EXTRAINFO:[preis='3900'][anmeldung='true']
DTSTAMP:20260423T162552
DTSTART:20220519T113000
DTEND:20220519T143000
SEQUENCE:0
TRANSP:OPAQUE
END:VEVENT
END:VCALENDAR