BEGIN:VCALENDAR
VERSION:2.0
PRODID:-//jEvents 2.0 for Joomla//EN
CALSCALE:GREGORIAN
METHOD:PUBLISH
BEGIN:VEVENT
UID:a24ac1f382d1605bc81d337d718135f8
CATEGORIES:23. Bezirk
CREATED:20220221T165923
SUMMARY:fitdankbaby OUTDOOR mit Claudia - Aktiv mit Kinderwagen
LOCATION:PaN-Park Trainingspark\, Carlbergergasse 72\, 1230 Wien
DESCRIPTION:Für Mamas mit Babys ab 3 Monaten\nDich erwartet ein effektives Ganzkörperwo
 rkout an der frischen Luft und Dein Baby ist die ganze Zeit im Kinderwagen 
 mit dabei. Wir kombinieren Kraft- und Ausdauerübungen und werden so gemeins
 am fit. \n \nWir treffen uns immer Montags um 09:45 Uhr im PaN-Park Trainin
 gspark, Carlbergergasse 72, 1230 Wien.\nEin Einstieg in den laufenden Kurs 
 ist jederzeit möglich. Der ganze Kurs dauert 5 Wochen ab 25.04.2022. Der 5-
 Wochen-Kurs kostet EUR 65,00. \n \nBuche jetzt Deinen Kurs unter:\nwww.fitd
 ankbaby.at/claudia.klinger (http://www.fitdankbaby.at/claudia.klinger) \n \
 nVerpasse keine News: \nwww.facebook.com/fitdankbabyClaudia (http://www.fac
 ebook.com/fitdankbabyClaudia) \n\nBei Fragen oder wenn du Interesse an eine
 r unverbindlichen Schnupperstunde hast kannst Du mich gerne unter claudia.k
 linger@fitdankbaby.at (mailto:claudia.klinger@fitdankbaby.at) kontaktieren.
  \n \nIch freue mich darauf schon bald gemeinsam mit Dir zu trainieren! \n
X-ALT-DESC;FMTTYPE=text/html:<p>Für Mamas mit Babys ab 3 Monaten</p><p>Dich erwartet ein effektives Ganz
 körperworkout an der frischen Luft und Dein Baby ist die ganze Zeit im Kind
 erwagen mit dabei. Wir kombinieren Kraft- und Ausdauerübungen und werden so
  gemeinsam fit. </p><p> </p><p>Wir treffen uns immer Montags um 09:45 Uhr i
 m PaN-Park Trainingspark, Carlbergergasse 72, 1230 Wien.</p><p>Ein Einstieg
  in den laufenden Kurs ist jederzeit möglich. Der ganze Kurs dauert 5 Woche
 n ab 25.04.2022. Der 5-Wochen-Kurs kostet EUR 65,00. </p><p> </p><p>Buche j
 etzt Deinen Kurs unter:</p><p><a href="http://www.fitdankbaby.at/claudia.kl
 inger">www.fitdankbaby.at/claudia.klinger</a> </p><p> </p><p>Verpasse keine
  News: </p><p><a href="http://www.facebook.com/fitdankbabyClaudia">www.face
 book.com/fitdankbabyClaudia</a> </p><p><br />Bei Fragen oder wenn du Intere
 sse an einer unverbindlichen <strong>Schnupperstunde</strong> hast kannst D
 u mich gerne unter <a href="mailto:claudia.klinger@fitdankbaby.at">claudia.
 klinger@fitdankbaby.at</a> kontaktieren. </p><p> </p><p>Ich freue mich dara
 uf schon bald gemeinsam mit Dir zu trainieren! </p>
CONTACT:Claudia Klinger - claudia.klinger@fitdankbaby.at
X-EXTRAINFO:[preis='1300'][anmeldung='true']
DTSTAMP:20260423T141646
DTSTART:20220502T074500
DTEND:20220502T084500
SEQUENCE:0
TRANSP:OPAQUE
END:VEVENT
END:VCALENDAR