BEGIN:VCALENDAR
VERSION:2.0
PRODID:-//jEvents 2.0 for Joomla//EN
CALSCALE:GREGORIAN
METHOD:PUBLISH
BEGIN:VEVENT
UID:051936571293d019c672dcad9a32bab3
CATEGORIES:12. Bezirk
CREATED:20220222T095602
SUMMARY:FamilyMUSIC 
LOCATION:ZOOM
DESCRIPTION:FAMILY MUSIC GITARRE KURS über ZOOM\nSTART\nAb Mi. 23. März 2022, 30.3.,13.
 4.,20.4.,4.5.\n16:00 Uhr \n5 x 40min. per Zoom\n5-10 Mama-Kind Paare (weite
 re Familienteilnehmer zusätzlich möglich - 10,-/Einheit)\nIn diesem Kurs tr
 effen wir uns in gemütlicher Runde live per Zoom - hier lernst Du mit meine
 r Anleitung spielerisch &amp; lustig erste Lieder &amp; Techniken auf der G
 itarre.\nPerfekt wenn:\nMama/Papa/Tante &amp; Kind gemeinsam lernen möchten
 \nwenn ihr erst mal das Gitarrenspiel ausprobieren wollt\nfür Kinder ab 5J.
  schon geeignet\nauch für erwachsene Freundinnen, die das Instrument spiele
 risch ausprobieren möchten\nDeine Fragen kannst Du am Ende stellen oder Du 
 nutzt die Q&amp;A‘s, die gelegentlich separat stattfinden werden und für Di
 ch kostenfrei ist.\nDeine Kamera kannst Du einschalten, ich freue mich mit 
 euch direkt zu kommunizieren, du musst aber nicht. Somit alles gemütlich un
 d es gibt auch den Chat zur Kommunikation!\nAnmeldung erforderlich unter\ns
 tudio@2-Klang.at\nMelde Dich zu meinem monatlichen Newsletter auf der Homep
 age an - hier erhältst Du alle Infos, Preise sowie Frühbucherrabatte!\nLike
  meine FB Seite „Seelenkisterl - Klang &amp; Musikworkshops“\nkomme gerne i
 n die FB Austauschgruppe „Musik &amp; Klang Kisterl“\n
X-ALT-DESC;FMTTYPE=text/html:<p>FAMILY MUSIC GITARRE KURS über ZOOM</p><p>START<br />Ab Mi. 23. März 202
 2, 30.3.,13.4.,20.4.,4.5.<br />16:00 Uhr <br />5 x 40min. per Zoom<br />5-1
 0 Mama-Kind Paare (weitere Familienteilnehmer zusätzlich möglich - 10,-/Ein
 heit)</p><p>In diesem Kurs treffen wir uns in gemütlicher Runde live per Zo
 om - hier lernst Du mit meiner Anleitung spielerisch &amp; lustig erste Lie
 der &amp; Techniken auf der Gitarre.</p><p>Perfekt wenn:<br />Mama/Papa/Tan
 te &amp; Kind gemeinsam lernen möchten<br />wenn ihr erst mal das Gitarrens
 piel ausprobieren wollt<br />für Kinder ab 5J. schon geeignet<br />auch für
  erwachsene Freundinnen, die das Instrument spielerisch ausprobieren möchte
 n</p><p>Deine Fragen kannst Du am Ende stellen oder Du nutzt die Q&amp;A‘s,
  die gelegentlich separat stattfinden werden und für Dich kostenfrei ist.</
 p><p>Deine Kamera kannst Du einschalten, ich freue mich mit euch direkt zu 
 kommunizieren, du musst aber nicht. Somit alles gemütlich und es gibt auch 
 den Chat zur Kommunikation!</p><p>Anmeldung erforderlich unter<br />studio@
 2-Klang.at</p><p>Melde Dich zu meinem monatlichen Newsletter auf der Homepa
 ge an - hier erhältst Du alle Infos, Preise sowie Frühbucherrabatte!</p><p>
 Like meine FB Seite „Seelenkisterl - Klang &amp; Musikworkshops“</p><p>komm
 e gerne in die FB Austauschgruppe „Musik &amp; Klang Kisterl“</p>
CONTACT:studio@2-Klang.at
X-EXTRAINFO:[preis='21000'][anmeldung='true']
DTSTAMP:20260423T142700
DTSTART:20220323T150000
DTEND:20220323T154500
SEQUENCE:0
TRANSP:OPAQUE
END:VEVENT
END:VCALENDAR