BEGIN:VCALENDAR
VERSION:2.0
PRODID:-//jEvents 2.0 for Joomla//EN
CALSCALE:GREGORIAN
METHOD:PUBLISH
BEGIN:VEVENT
UID:861485775dba240e3ce72ae0ecfe4168
CATEGORIES:3. Bezirk
CREATED:20220223T145134
SUMMARY:Kreatives Malen& Gestalten
LOCATION:derkreativraum
DESCRIPTION:Malen &amp; Kreatives GestaltenIm Vordergrund steht das spielerieche Auspro
 bieren &amp; Experimentieren.\nKursleiterin: Katharina Hanzal (https://www.
 derkreativraum.at/kursleiter/katharina-hanzal/)\nAlter: 1,5 – 6 Jahre\nKost
 en: € 102 (6 x 17€, inklusive Material)\nTermine: 23. Februar, 2., 16., 23.
 , 30. März, 6. April 2022\nBeim Malen und kreativen Gestalten für die Klein
 en wird es einen kreativen Mix aus den verschiedensten Materialien zum Grei
 fen, Malen, Kleben, Ausstechen, Reißen uvm. geben mit viel Spaß zum Ausprob
 ieren. Die Werke können im Anschluss mit nach Hause genommen werden.\nIm Ma
 l und Kreativlabor für Kinder von 4 – 6 Jahre werden wir unter der Verwendu
 ng von Materialien wie Guache, Papier, Karton, Pappmasché, Stoff, Perlen uv
 m. die verschiedensten Werke kreieren. Im Vordergrund steht das spieleriech
 e Ausprobieren &amp; Experimentieren. Der Mix aus Methoden und Materialien 
 lässt jede Stunde ein ganz persönliches Werk zum Mitnachhause nehmen entste
 hen. Geschwisterkinder willkommen!\nWann findet dieser Kurs statt?Mittwoch 
 (https://www.derkreativraum.at/stundenplan/spalte/mittwoch/)\n14:10 - 15:00
 \nStart: 23.2.2022\nfür ca. 1,5 - 4 Jahre\nMittwoch (https://www.derkreativ
 raum.at/stundenplan/spalte/mittwoch/)\n15:20 - 16:10\nStart: 23.2.2022\nfür
  ca. 4 - 6 Jahre\n
X-ALT-DESC;FMTTYPE=text/html:<section class="l-section wpb_row us_custom_4d0e78a5 height_auto color_prim
 ary"><div class="l-section-h i-cf"><div class="g-cols vc_row via_grid cols_
 2-3 laptops-cols_inherit tablets-cols_1 mobiles-cols_1 valign_middle type_d
 efault"><div class="wpb_column vc_column_container"><div class="vc_column-i
 nner"><h1 class="w-post-elm post_title us_custom_0e7c631c entry-title color
 _link_inherit">Malen &amp; Kreatives Gestalten</h1><div class="w-post-elm p
 ost_content"><p>Im Vordergrund steht das spielerieche Ausprobieren &amp; Ex
 perimentieren.</p></div></div></div></div></div></section><section class="l
 -section wpb_row us_custom_e11ab399 height_huge"><div class="l-section-h i-
 cf"><div class="g-cols vc_row via_grid cols_1 laptops-cols_inherit tablets-
 cols_inherit mobiles-cols_1 valign_top type_default"><div class="wpb_column
  vc_column_container"><div class="vc_column-inner"><div class="w-post-elm p
 ost_content without_sections"><p><strong>Kursleiterin:</strong> <a href="ht
 tps://www.derkreativraum.at/kursleiter/katharina-hanzal/">Katharina Hanzal<
 /a><br /><strong>Alter:</strong> 1,5 – 6 Jahre<br /><strong>Kosten:</strong
 > € 102 (6 x 17€, inklusive Material)<br /><strong>Termine:</strong> 23. Fe
 bruar, 2., 16., 23., 30. März, 6. April 2022</p><p>Beim Malen und kreativen
  Gestalten <strong>für die Kleinen</strong> wird es einen kreativen Mix aus
  den verschiedensten Materialien zum Greifen, Malen, Kleben, Ausstechen, Re
 ißen uvm. geben mit viel Spaß zum Ausprobieren. Die Werke können im Anschlu
 ss mit nach Hause genommen werden.</p><p>Im Mal und <strong>Kreativlabor fü
 r Kinder von 4 – 6 Jahre</strong> werden wir unter der Verwendung von Mater
 ialien wie Guache, Papier, Karton, Pappmasché, Stoff, Perlen uvm. die versc
 hiedensten Werke kreieren. Im Vordergrund steht das spielerieche Ausprobier
 en &amp; Experimentieren. Der Mix aus Methoden und Materialien lässt jede S
 tunde ein ganz persönliches Werk zum Mitnachhause nehmen entstehen. <strong
 >Geschwisterkinder willkommen!</strong></p><h3 class="timeslots-title">Wann
  findet dieser Kurs statt?</h3><p class="timeslot"><a class="timeslot-link"
  href="https://www.derkreativraum.at/stundenplan/spalte/mittwoch/">Mittwoch
 </a><br /><time class="timeslot-start" datetime="14:10">14:10</time> - <tim
 e class="timeslot-end" datetime="15:00">15:00</time><br /><span class="time
 slot-subtitle">Start: 23.2.2022</span><br /><span class="timeslot-descripti
 on">für ca. 1,5 - 4 Jahre</span></p><p class="timeslot"><a class="timeslot-
 link" href="https://www.derkreativraum.at/stundenplan/spalte/mittwoch/">Mit
 twoch</a><br /><time class="timeslot-start" datetime="15:20">15:20</time> -
  <time class="timeslot-end" datetime="16:10">16:10</time><br /><span class=
 "timeslot-subtitle">Start: 23.2.2022</span><br /><span class="timeslot-desc
 ription">für ca. 4 - 6 Jahre</span></p></div></div></div></div></div></sect
 ion>
CONTACT:06643935509 oder office@derkreativraum.at
X-EXTRAINFO:[preis='10200'][anmeldung='true']
DTSTAMP:20260423T162610
DTSTART:20220223T142000
DTEND:20220223T151000
SEQUENCE:0
TRANSP:OPAQUE
END:VEVENT
END:VCALENDAR