BEGIN:VCALENDAR
VERSION:2.0
PRODID:-//jEvents 2.0 for Joomla//EN
CALSCALE:GREGORIAN
METHOD:PUBLISH
BEGIN:VEVENT
UID:8d2e768189539ade7c298077fc9b5d26
CATEGORIES:6. Bezirk
CREATED:20220224T203344
SUMMARY:Mentale Geburtsvorbereitung- Positive Birth® 
LOCATION:Biolino Institut\, Sandwirtgasse 13/12\, 1060 Wien
DESCRIPTION:In diesem Positive Birth®-Kurs möchte ich dich an deine innere Kraft und de
 inen Instinkt erinnern, den jede Frau für ihre bevorstehende, selbstbestimm
 te Geburt bereits in sich trägt! Lerne in einem kleinen, intimen Frauenkrei
 s Mentaltechniken kennen, die du bereits in der Schwangerschaft vertiefen k
 annst und welche dich durch euer Geburtserlebnis bestärkt tragen werden. De
 r Kurs bietet Erstgebärenden sowie Mehrfach-Mamas intensive &amp; exklusive
  Zeit in Verbindung zu ihrem/n Ungeborenen und ist als ideale Ergänzung zur
  Vorbereitung bei deiner Hebamme zu sehen.\n \nDieser Kurs hilft dir dabei…
 \n…gezielt einsetzbare Mental-, Atem- und Entspannungstechniken für dein Ge
 burtserlebnis zu verinnerlichen.\n…der Geburt deines Kindes voller Vorfreud
 e und Selbstvertrauen entgegenzublicken.\n…ungünstige Prägungen zu verabsch
 ieden und dein positives Mindset rund um das Thema Geburt zu stärken.\n…das
  Vertrauen in deinen Körper und (Ur)Instinkt zu intensivieren.\n…in einem i
 ntimen Rahmen die Möglichkeit zu nutzen, Ängste und Sorgen rund um die Gebu
 rt anzusprechen.\n…vielleicht sogar neue Bekanntschaften für dein späteres 
 Mama-Dasein zu knüpfen!\n \nExklusive kleine Gruppe mit max. 4 Frauen!\nKur
 seinheiten (gesamt 12 Stunden):\nFreitag, 6. Mai 2022, 17-20 Uhr\nFreitag, 
 20. Mai 2022, 17-20 Uhr\nFreitag, 27. Mai 2022, 17-20 Uhr und\nSamstag, 28.
  Mai, 09-12 Uhr\n \ninkl. original Positive Birth® Kurs- &amp; Zusatzunterl
 agen, Goodies, -10% Gutschein auf Hausmittel-Workshops von AMILOU, Getränke
  und Snacks (Positive Birth®- Affirmationskarten und Buch können im Kurs er
 worben werden)\n \nAnmeldungen: www.amilou.at\n
X-ALT-DESC;FMTTYPE=text/html:<p>In diesem <strong>Positive Birth®-Kurs</strong> möchte ich dich an deine
  innere Kraft und deinen Instinkt erinnern, den jede Frau für ihre bevorste
 hende, selbstbestimmte Geburt bereits in sich trägt! Lerne in einem kleinen
 , intimen Frauenkreis Mentaltechniken kennen, die du bereits in der Schwang
 erschaft vertiefen kannst und welche dich durch euer Geburtserlebnis bestär
 kt tragen werden. Der Kurs bietet Erstgebärenden sowie Mehrfach-Mamas inten
 sive &amp; exklusive Zeit in Verbindung zu ihrem/n Ungeborenen und ist als 
 ideale Ergänzung zur Vorbereitung bei deiner Hebamme zu sehen.</p><p> </p><
 p><strong>Dieser Kurs hilft dir dabei…</strong></p><p>…gezielt einsetzbare 
 Mental-, Atem- und Entspannungstechniken für dein Geburtserlebnis zu verinn
 erlichen.</p><p>…der Geburt deines Kindes voller Vorfreude und Selbstvertra
 uen entgegenzublicken.</p><p>…ungünstige Prägungen zu verabschieden und dei
 n positives Mindset rund um das Thema Geburt zu stärken.</p><p>…das Vertrau
 en in deinen Körper und (Ur)Instinkt zu intensivieren.</p><p>…in einem inti
 men Rahmen die Möglichkeit zu nutzen, Ängste und Sorgen rund um die Geburt 
 anzusprechen.</p><p>…vielleicht sogar neue Bekanntschaften für dein spätere
 s Mama-Dasein zu knüpfen!</p><p> </p><p><strong>Exklusive kleine Gruppe mit
  max. 4 Frauen!</strong></p><p><strong>Kurseinheiten (gesamt 12 Stunden):</
 strong></p><p>Freitag, 6. Mai 2022, 17-20 Uhr</p><p>Freitag, 20. Mai 2022, 
 17-20 Uhr</p><p>Freitag, 27. Mai 2022, 17-20 Uhr und</p><p>Samstag, 28. Mai
 , 09-12 Uhr</p><p> </p><p>inkl. original Positive Birth® Kurs- &amp; Zusatz
 unterlagen, Goodies, -10% Gutschein auf Hausmittel-Workshops von AMILOU, Ge
 tränke und Snacks (Positive Birth®- Affirmationskarten und Buch können im K
 urs erworben werden)</p><p> </p><p>Anmeldungen: www.amilou.at</p>
CONTACT:Daniela Stecher- Köhler, BSc (Positive Birth® -Trainerin), AMILOU- Bewusst &amp; natürlich von Anfang an, www.amilou.at
X-EXTRAINFO:[preis='29000'][anmeldung='true']
DTSTAMP:20260423T160135
DTSTART:20220506T150000
DTEND:20220506T180000
SEQUENCE:0
TRANSP:OPAQUE
END:VEVENT
END:VCALENDAR