BEGIN:VCALENDAR
VERSION:2.0
PRODID:-//jEvents 2.0 for Joomla//EN
CALSCALE:GREGORIAN
METHOD:PUBLISH
BEGIN:VEVENT
UID:eec289622e3e21c366a8b25e7ec53afe
CATEGORIES:7. Bezirk
CREATED:20220224T212654
SUMMARY:Wochenendkurs zur Vorbereitung von Geburt und Elternschaft
LOCATION:Nanaya
DESCRIPTION:<div class="kvgmc6g5 cxmmr5t8 oygrvhab hcukyx3x c1et5uql">In unserem Wochen
 endkurs bieten wir unabhängige Informationen und Beratung rund um die Gebur
 t und die erste Zeit mit dem Baby an.<br />Die kleine Gruppe hat den Vortei
 l, auf individuelle Lebenssituationen und persönliche Fragen gut eingehen z
 u können.</div><div class="cxmmr5t8 oygrvhab hcukyx3x c1et5uql o9v6fnle">In
 halt des Kurses:<br />* Kontakt, Austausch und Diskussion mit anderen Fraue
 n und Paaren in einer ähnlichen Situation<br />* erste Informationen zum Wo
 chenbett und zum Elternwerden<br />* Informationen über den Geburtsablauf, 
 die Rolle/Unterstützung der Begleitperson, mögliche Eingriffe, die Kaisersc
 hnittgeburt<br />* Körperliche Vorbereitung, z.B. Atem- und Entspannungsübu
 ngen, Bewegung und Körperarbeit, das Ausprobieren möglicher Geburtsposition
 en, Massagen<br />* Psychologische Vorbereitung, z.B. Strategien zum Umgang
  mit Angst und Schmerz, Kontaktaufnahme zum Baby, Mutterrolle, Vaterrolle<b
 r />* Vortrag "Ein guter Stillbeginn"<br />* Babytreffen nach der Geburt</d
 iv><div class="cxmmr5t8 oygrvhab hcukyx3x c1et5uql o9v6fnle"> </div><div cl
 ass="cxmmr5t8 oygrvhab hcukyx3x c1et5uql o9v6fnle">4.3. 17:30 - 21:00</div>
 <div class="cxmmr5t8 oygrvhab hcukyx3x c1et5uql o9v6fnle">5.3. 9:30 - 16:00
 </div>
CONTACT: rundumgeburt@nanaya.at
X-EXTRAINFO:[preis='9600'][anmeldung='true']
DTSTAMP:20260423T100108
DTSTART:20220304T163000
DTEND:20220304T200000
SEQUENCE:0
TRANSP:OPAQUE
END:VEVENT
END:VCALENDAR