BEGIN:VCALENDAR
VERSION:2.0
PRODID:-//jEvents 2.0 for Joomla//EN
CALSCALE:GREGORIAN
METHOD:PUBLISH
BEGIN:VEVENT
UID:509b222123185f65e8cf3eb9e31c4c43
CATEGORIES:3. Bezirk
CREATED:20220228T135503
SUMMARY:Baby-Kinder-Flohmarkt Wien
LOCATION:Parkplatz neben Marxhalle\, Karl-Farkas-Gasse 2\, 1030 Wien
DESCRIPTION:<p><strong>Baby-Kinder-Frauen-Flohmarkt</strong></p><p>Kinderkleidung, Baby
 ausstattung, Spielzeug, Kinderbücher, Kinderfahrräder, Damenmode, Schuhe, S
 chmuck, Kosmetik, alles Sport und Spiel!</p><p>Eintritt frei! Viele Parkplä
 tze vorhanden, Buffet!</p><p>Alle Infos und Preise hier <a href="http://www
 .flohmarkt.geburtsallianz.at">www.flohmarkt.geburtsallianz.at</a></p><p>Fac
 ebook <a href="https://www.facebook.com/events/499314501748463/">https://ww
 w.facebook.com/events/499314501748463/</a></p><p> </p><p>Ort:</p><p><strong
 >Parkplatz neben der Marxhalle</strong></p><p><strong>Karl-Farkas-Gasse 2</
 strong></p><p><strong>1030 Wien</strong></p><p>(PKW Einfahrt im Kreisverkeh
 r Maria-Jacobi-Gasse/Hermine-Jursa-Gasse, 1030 Wien)</p><p><strong> </stron
 g></p><p>Datum:</p><p><strong>Samstag 26.März</strong></p><p><strong>Samsta
 g 23.April</strong></p><p><strong>Samstag 14. Mai</strong></p><p><strong>Sa
 mstag 11. Juni</strong></p><p><strong>Samstag 2.Juli</strong></p><p>9-13h</
 p><p> </p><p>Für AusstellerInnen:</p><p>Jetzt Standplatz um 30 Euro online 
 buchen auf unserer Homepage <a href="http://www.flohmarkt.geburtsallianz.at
 ">www.flohmarkt.geburtsallianz.at</a></p><p>Auto parkt am Standplatz, 5x4 M
 eter (20 Quadratmeter), Tische, Sessel, Kleiderstange bitte selbst mitbring
 en!</p><p><a href="http://www.flohmarkt.geburtsallianz.at/">www.flohmarkt.g
 eburtsallianz.at</a></p><p> </p>
CONTACT:www.flohmarkt.geburtsallianz.at   flohmarkt@geburtsallianz.at   Tel.06504455577 (Whatsapp)
DTSTAMP:20260423T124009
DTSTART:20220423T070000
DTEND:20220423T110000
SEQUENCE:0
TRANSP:OPAQUE
END:VEVENT
END:VCALENDAR