BEGIN:VCALENDAR
VERSION:2.0
PRODID:-//jEvents 2.0 for Joomla//EN
CALSCALE:GREGORIAN
METHOD:PUBLISH
BEGIN:VEVENT
UID:20b48d4f9301b8a1cc4cc0f99763d076
CATEGORIES:3. Bezirk
CREATED:20220228T135915
SUMMARY:Baby-Kinder-Frauen-Flohmarkt
LOCATION:Parkplatz neben Marxhalle\, Karl-Farkas-Gasse 2\, 1030 Wien
DESCRIPTION:Baby-Kinder-Frauen-Flohmarkt\nKinderkleidung, Babyausstattung, Spielzeug, K
 inderbücher, Kinderfahrräder, Damenmode, Schuhe, Schmuck, Kosmetik, alles S
 port und Spiel!\nEintritt frei! Viele Parkplätze vorhanden, Buffet!\nAlle I
 nfos und Preise hier www.flohmarkt.geburtsallianz.at (http://www.flohmarkt.
 geburtsallianz.at)\nFacebook https://www.facebook.com/events/49931450174846
 3/\n \nOrt:\nParkplatz neben der Marxhalle\nKarl-Farkas-Gasse 2\n1030 Wien\
 n(PKW Einfahrt im Kreisverkehr Maria-Jacobi-Gasse/Hermine-Jursa-Gasse, 1030
  Wien)\n \nDatum:\nSamstag 26.März\nSamstag 23.April\nSamstag 14. Mai\nSams
 tag 11. Juni\nSamstag 2.Juli\n9-13h\n \nFür AusstellerInnen:\nJetzt Standpl
 atz um 30 Euro online buchen auf unserer Homepage www.flohmarkt.geburtsalli
 anz.at (http://www.flohmarkt.geburtsallianz.at)\nAuto parkt am Standplatz, 
 5x4 Meter (20 Quadratmeter), Tische, Sessel, Kleiderstange bitte selbst mit
 bringen!\nwww.flohmarkt.geburtsallianz.at (http://www.flohmarkt.geburtsalli
 anz.at/)\n
X-ALT-DESC;FMTTYPE=text/html:<p><strong>Baby-Kinder-Frauen-Flohmarkt</strong></p><p>Kinderkleidung, Baby
 ausstattung, Spielzeug, Kinderbücher, Kinderfahrräder, Damenmode, Schuhe, S
 chmuck, Kosmetik, alles Sport und Spiel!</p><p><strong>Eintritt frei! Viele
  Parkplätze vorhanden, Buffet!</strong></p><p>Alle Infos und Preise hier <a
  href="http://www.flohmarkt.geburtsallianz.at">www.flohmarkt.geburtsallianz
 .at</a></p><p>Facebook <a href="https://www.facebook.com/events/49931450174
 8463/">https://www.facebook.com/events/499314501748463/</a></p><p> </p><p>O
 rt:</p><p><strong>Parkplatz neben der Marxhalle</strong></p><p><strong>Karl
 -Farkas-Gasse 2</strong></p><p><strong>1030 Wien</strong></p><p>(PKW Einfah
 rt im Kreisverkehr Maria-Jacobi-Gasse/Hermine-Jursa-Gasse, 1030 Wien)</p><p
 ><strong> </strong></p><p>Datum:</p><p><strong>Samstag 26.März</strong></p>
 <p><strong>Samstag 23.April</strong></p><p><strong>Samstag 14. Mai</strong>
 </p><p><strong>Samstag 11. Juni</strong></p><p><strong>Samstag 2.Juli</stro
 ng></p><p>9-13h</p><p> </p><p>Für AusstellerInnen:</p><p>Jetzt Standplatz u
 m 30 Euro online buchen auf unserer Homepage <a href="http://www.flohmarkt.
 geburtsallianz.at">www.flohmarkt.geburtsallianz.at</a></p><p>Auto parkt am 
 Standplatz, 5x4 Meter (20 Quadratmeter), Tische, Sessel, Kleiderstange bitt
 e selbst mitbringen!</p><p><a href="http://www.flohmarkt.geburtsallianz.at/
 ">www.flohmarkt.geburtsallianz.at</a></p>
CONTACT:www.flohmarkt.geburtsallianz.at   flohmarkt@geburtsallianz.at   Tel.06504455577 (Whatsapp)
DTSTAMP:20260423T233941
DTSTART:20220611T070000
DTEND:20220611T110000
SEQUENCE:0
TRANSP:OPAQUE
END:VEVENT
END:VCALENDAR