BEGIN:VCALENDAR
VERSION:2.0
PRODID:-//jEvents 2.0 for Joomla//EN
CALSCALE:GREGORIAN
METHOD:PUBLISH
BEGIN:VEVENT
UID:40fcc2acc697c58b4b5b7f952c570901
CATEGORIES:23. Bezirk
CREATED:20220303T184104
SUMMARY:SUPER SALE bei POPOLINI in Wien 23
LOCATION:popolini - Schuhfarbikgasse 17\, 1230 Wien
DESCRIPTION:<div class="row"><div class="offset-md-1 col-md-5 col-12"><h1 class="left">
 Super Sale Pop-Up Store von Popolini</h1><p class="left">Bis zu -80% Sale a
 uf neue Bio Baby- und Kindermode, Stoffwindeln und vieles mehr. Sei dabei v
 on 10.-12. März 2022 in bei <a href="https://popolini.com/events" target="_
 blank" rel="noopener noreferrer">popolini </a>im 23. in der Schuhfabrikgass
 e 17 im 3. Obergeschoß! Wir freuen uns auf dich und deine kleinen Begleiter
  - tolle Spielecke inklusive. </p></div></div><div class="row"><div class="
 col-12"><h3 class="left">Was erwartet dich:</h3><p class="left">Wir brauche
 n Platz im Lager, deswegen öffnen wir unseren Pop-Up Store im 3. OG für dic
 h! Stoffwindeln, Sommermode, Baby-Ausstattung (Bodys, Schlafanzüge, Schlafs
 äcke, Hauben usw) Accessoires, praktische Helferlein und vieles mehr gibt e
 s zu unschlagbar günstigen Preisen.</p><p class="left">Und das Beste: unser
 e Textilien sind zum Großteil in GOTS zertifizierter Bio-Qualität und werde
 n in Europa hergestellt. Mit einem Einkauf beim <a href="https://popolini.c
 om/events" target="_blank" rel="noopener noreferrer">popolini Pop-Up Sale</
 a>, schonst du nicht nur dein Geldbörserl, sondern auch die Umwelt: denn ku
 rze Transportwege, eine schonende Produktion in der EU sowie Bio-Produkte g
 arantieren ein nachhaltiges Einkaufen – für eine lebenswerte Zukunft unsere
 r Kinder!</p></div></div><p class="left"> </p><div class="row"><div class="
 col-12"><p class="left"><strong>Datum:</strong> 10. - 12.März 2022</p><p cl
 ass="left"><strong>Do. und Fr.:</strong> 10:00 - 18:00 Uhr</p><p class="lef
 t"><strong>Sa.:</strong> 10:00 - 15:00 Uhr</p><p class="left"><strong>Ort:<
 /strong> Schuhfabrikgasse 17 im 3. OG</p><p class="left"><strong>Achtung:</
 strong> Wir haben bei uns ab März auch die Kurzparkzone!</p><p><strong>So k
 ommt ihr öffentlich zu uns:</strong> Bushaltestelle 62A Gregorygasse, dann 
 200 Meter bis zu unserem Pop up Store!</p><p> </p><p>Mehr Infos: <a href="h
 ttps://popolini.com/events" target="_blank" rel="noopener noreferrer">https
 ://popolini.com/events</a></p></div></div>
CONTACT:https://popolini.com/events
DTSTAMP:20260423T100720
DTSTART:20220310T090000
DTEND:20220312T140000
SEQUENCE:0
TRANSP:OPAQUE
END:VEVENT
END:VCALENDAR