BEGIN:VCALENDAR
VERSION:2.0
PRODID:-//jEvents 2.0 for Joomla//EN
CALSCALE:GREGORIAN
METHOD:PUBLISH
BEGIN:VEVENT
UID:737bf810e6ffc6d4a56e42d5456ed76b
CATEGORIES:7. Bezirk
CREATED:20220308T163358
SUMMARY:Vorbereitung auf Geburt und Elternschaft
LOCATION:Nanaya
DESCRIPTION:In unseren Wochenendkursen bieten wir unabhängige Informationen und Beratun
 g rund um die Geburt und die erste Zeit mit dem Baby an. \nDie kleine Grupp
 e hat den Vorteil, auf individuelle Lebenssituationen und persönliche Frage
 n gut eingehen zu können. Daher können schwangere Frauen alleine, mit dem/d
 er PartnerIn oder einer anderen Begleitperson teilnehmen, Erstschwangere ge
 nauso wie Eltern, die bereits Kinder haben, Paare mit einem geplanten Kaise
 rschnitt genauso wie Personen, die eine vaginale Geburt anstreben.\nWir emp
 fehlen die Teilnahme am Kurs ab der ca. 28. Schwangerschaftswoche, Ausnahme
 n können natürlich besprochen werden. \nInhalt des Kurses:\n\n - Kontakt, A
 ustausch und Diskussion mit anderen Frauen und Paaren in einer ähnlichen Si
 tuation\n - erste Informationen zum Wochenbett und zum Elternwerden (Bitte 
 beachten: Zur Vertiefung und zum Thema Babypflege gibt es einen eigenen Vor
 trag: "Wochenbett und Babypflege" (https://nanaya.at/wochenbett-und-babypfl
 ege)!)\n - Informationen über den Geburtsablauf, die Rolle/Unterstützung de
 r Begleitperson, mögliche Eingriffe, die Kaiserschnittgeburt\n - Körperlich
 e Vorbereitung, z.B. Atem- und Entspannungsübungen, Bewegung und Körperarbe
 it, das Ausprobieren möglicher Geburtspositionen, Massagen\n - Psychologisc
 he Vorbereitung, z.B. Strategien zum Umgang mit Angst und Schmerz, Kontakta
 ufnahme zum Baby, Mutterrolle, Vaterrolle\n - Vortrag "Ein guter Stillbegin
 n": Er ist Bestandteil des Geburtsvorbereitungskurses und daher im Kursbeit
 rag inkludiert. Bitte hier  (https://nanaya.at/ein-guter-stillbeginn) geson
 dert und rechtzeitig dafür anmelden, automatische Zahlungsaufforderung igno
 rieren!\n - Babytreffen nach der Geburt: Es ist ebenfalls Teil des Kurses u
 nd daher im Kursbeitrag inkludiert.FR: 17:30-21, SA 9:30-16:00\n
X-ALT-DESC;FMTTYPE=text/html:<p>In unseren Wochenendkursen bieten wir unabhängige Informationen und Bera
 tung rund um die Geburt und die erste Zeit mit dem Baby an. </p><p>Die klei
 ne Gruppe hat den Vorteil, auf individuelle Lebenssituationen und persönlic
 he Fragen gut eingehen zu können. Daher können schwangere Frauen alleine, m
 it dem/der PartnerIn oder einer anderen Begleitperson teilnehmen, Erstschwa
 ngere genauso wie Eltern, die bereits Kinder haben, Paare mit einem geplant
 en Kaiserschnitt genauso wie Personen, die eine vaginale Geburt anstreben.<
 /p><p>Wir empfehlen die Teilnahme am Kurs ab der ca. 28. Schwangerschaftswo
 che, Ausnahmen können natürlich besprochen werden. </p><p><strong>Inhalt de
 s Kurses:</strong></p><ul><li>Kontakt, Austausch und Diskussion mit anderen
  Frauen und Paaren in einer ähnlichen Situation</li><li>erste Informationen
  zum Wochenbett und zum Elternwerden (<em>Bitte beachten: Zur Vertiefung un
 d zum Thema Babypflege gibt es einen eigenen Vortrag:<a href="https://nanay
 a.at/wochenbett-und-babypflege"> "Wochenbett und Babypflege"</a>!)</em></li
 ><li>Informationen über den Geburtsablauf, die Rolle/Unterstützung der Begl
 eitperson, mögliche Eingriffe, die Kaiserschnittgeburt</li><li>Körperliche 
 Vorbereitung, z.B. Atem- und Entspannungsübungen, Bewegung und Körperarbeit
 , das Ausprobieren möglicher Geburtspositionen, Massagen</li><li>Psychologi
 sche Vorbereitung, z.B. Strategien zum Umgang mit Angst und Schmerz, Kontak
 taufnahme zum Baby, Mutterrolle, Vaterrolle</li><li>Vortrag "Ein guter Stil
 lbeginn": Er ist Bestandteil des Geburtsvorbereitungskurses und daher im Ku
 rsbeitrag inkludiert. Bitte <a href="https://nanaya.at/ein-guter-stillbegin
 n"><em>hier</em> </a> gesondert und rechtzeitig dafür anmelden, automatisch
 e Zahlungsaufforderung ignorieren!</li><li>Babytreffen nach der Geburt: Es 
 ist ebenfalls Teil des Kurses und daher im Kursbeitrag inkludiert.</li></ul
 ><p>FR: 17:30-21, SA 9:30-16:00</p>
CONTACT: rundumgeburt@nanaya.at
X-EXTRAINFO:[preis='9600'][anmeldung='true']
DTSTAMP:20260423T184151
DTSTART:20220311T163000
DTEND:20220311T200000
SEQUENCE:0
TRANSP:OPAQUE
END:VEVENT
END:VCALENDAR