BEGIN:VCALENDAR
VERSION:2.0
PRODID:-//jEvents 2.0 for Joomla//EN
CALSCALE:GREGORIAN
METHOD:PUBLISH
BEGIN:VEVENT
UID:50cb943696f9383e72fc895f4db19b35
CATEGORIES:2. Bezirk
CREATED:19700101T010000
SUMMARY:Kreativer Kindertanz in Tini's Kinderzimmer
LOCATION:Tini's Kinderzimmer\, Wolfgang-Schmälzlgasse 18\, 1020 Wien
DESCRIPTION:Spaß - Lachen - Tanzen!\nJedes Kind besitzt eine natürliche Bewegungsfreude
 . Mit dieser Freude wollen wir zusammen auf Entdeckungsreise in die Welt de
 s Tanzes gehen.\nWir lernen unserer Fantasie in Tanz und Improvisationsspie
 len freien Lauf zu lassen und schulen dabei ganz nebenbei Motorik, Körperko
 ntrolle, Beweglichkeit, Musikalität, Kreativität und Kraft.\nGemeinsam wage
 n wir uns an die ersten tänzerischen Grundbewegungsformen und haben somit e
 ine optimale Grundlage für jede Tanz- und Bewegungstechnik.\n \nFür Kinder 
 von 4 bis 6 Jahren\n \nKursleitung: Beatrix (https://www.tiniskinderzimmer.
 at/kontakt#A2EEF5E7-2267-4351-82D5-F5D8F0E845C7)\nDienstag, 16:00 bis 16:50
  Uhr\nKosten: 4 Einheiten 64€ \nGeschwisterkind: 56€\nTermine: 15. März, 22
 .März, 29. März, 5. April\n \nDer Einstieg in den Kurs ist jederzeit möglic
 h- sofern Platz ist. Es gilt der aliquote Kursbeitrag ab Einstiegsdatum.\n
X-ALT-DESC;FMTTYPE=text/html:<p>Spaß - Lachen - Tanzen!<br />Jedes Kind besitzt eine natürliche Bewegung
 sfreude. Mit dieser Freude wollen wir zusammen auf Entdeckungsreise in die 
 Welt des Tanzes gehen.<br />Wir lernen unserer Fantasie in Tanz und Improvi
 sationsspielen freien Lauf zu lassen und schulen dabei ganz nebenbei Motori
 k, Körperkontrolle, Beweglichkeit, Musikalität, Kreativität und Kraft.<br /
 >Gemeinsam wagen wir uns an die ersten tänzerischen Grundbewegungsformen un
 d haben somit eine optimale Grundlage für jede Tanz- und Bewegungstechnik.<
 /p><p> </p><p>Für Kinder von 4 bis 6 Jahren</p><p> </p><p>Kursleitung: <a c
 lass="link1" href="https://www.tiniskinderzimmer.at/kontakt#A2EEF5E7-2267-4
 351-82D5-F5D8F0E845C7">Beatrix</a></p><p>Dienstag, 16:00 bis 16:50 Uhr</p><
 p>Kosten: 4 Einheiten 64€ </p><p>Geschwisterkind: 56€</p><p>Termine: 15. Mä
 rz, 22.März, 29. März, 5. April</p><p> </p><p>Der Einstieg in den Kurs ist 
 jederzeit möglich- sofern Platz ist. Es gilt der aliquote Kursbeitrag ab Ei
 nstiegsdatum.</p>
CONTACT:www.tiniskinderzimmer.at
X-EXTRAINFO:[preis='1600'][anmeldung='true']
DTSTAMP:20260423T155314
DTSTART:20220315T150000
DTEND:20220315T155000
SEQUENCE:0
RRULE:FREQ=WEEKLY;COUNT=9999;INTERVAL=1;BYDAY=TU,TU,TU,TU,TU
TRANSP:OPAQUE
END:VEVENT
END:VCALENDAR