BEGIN:VCALENDAR
VERSION:2.0
PRODID:-//jEvents 2.0 for Joomla//EN
CALSCALE:GREGORIAN
METHOD:PUBLISH
BEGIN:VEVENT
UID:20d5b34b8eeace3d382559be132ded68
CATEGORIES:3. Bezirk
CREATED:19700101T010000
SUMMARY:Lustvoll Trotzen
LOCATION:LieblingsMAMA Praxis: Apostelgasse 29-31/1/9 1030 Wien
DESCRIPTION:Authentische Begleitung von starken Gefühlen und der körperlichen Entwicklu
 ng von Kindern zwischen 1- 6 Jahren.\nDein Kind ist wütend, traurig, glückl
 ich und dass alles innerhalb von Minuten? Du liebst dein Kind, aber manchma
 l läuft einfach alles aus dem Ruder und du weißt selbst nicht mehr wohin mi
 t deiner Emotion? Und was hat das jetzt mit kindlicher sexueller Entwicklun
 g zu tun?\nÜberschäumende Freude und unbändige Wut liegen ganz nah beisamme
 n. So ein Gefühlsausbruch fordert ganz schön viel – und zwar von allen Bete
 iligten. Das Erlernen und Einordnen von Gefühlen ist eine wichtige Präventi
 on vor sexuellen Übergriffen. Ziel ist es, Kindern eine Sprache für ihren K
 örper zu geben. Sie sollen angenehme von unangenehmen Berührungen und gute 
 von schlechten Gefühlen unterscheiden können. Dafür braucht es nicht „das A
 ufklärungsgespräch“, sondern eine offene und neugierige Haltung deinem Kind
  gegenüber.\nWir richten den Blick auf eure ureigenen Werte und zeigen euch
  wie das Bewusstsein darüber für Entlastung sorgen kann.\nNach diesem Nachm
 ittag …\n… erhältst du wichtigen Input zur Autonomiephase\n… lernst du Stra
 tegien für den Umgang mit dieser herausfordernden Zeit\n… gewinnst du einen
  Einblick in die kindliche sexuelle Entwicklung\n… lernst du Do’s and Dont’
 s zu dieser Altersgruppe\n… geben wir dir praktische und theoretische Tipps
 \nOn top erhältst du:\n… maßgeschneiderte Handlungswerkzeuge für den Alltag
  in deiner Familie\n… Mut und Sicherheit mit dem Thema Sexualität\n… eine u
 mfangreiche Bücherliste für Kinder\n… einen Mutmacher für zu Hause\n \nWir 
 freuen uns auf Austausch und eure persönlichen Erfahrungen. In einem geschü
 tzten Rahmen gehen wir auf jede Familiensituationen individuell ein.\n \nIn
  Kooperation mit der wunderbaren Tamara Felbinger, BA: Sexualpädagogin.\nww
 w.tamara-felbinger.at (https://www.tamara-felbinger.at)
X-ALT-DESC;FMTTYPE=text/html:<p class="sqsrte-large" style="white-space: pre-wrap;">Authentische Begleit
 ung von starken Gefühlen und der körperlichen Entwicklung von Kindern zwisc
 hen 1- 6 Jahren.</p><p class="" style="white-space: pre-wrap;">Dein Kind is
 t wütend, traurig, glücklich und dass alles innerhalb von Minuten? Du liebs
 t dein Kind, aber manchmal läuft einfach alles aus dem Ruder und du weißt s
 elbst nicht mehr wohin mit deiner Emotion? Und was hat das jetzt mit kindli
 cher sexueller Entwicklung zu tun?</p><p class="" style="white-space: pre-w
 rap;">Überschäumende Freude und unbändige Wut liegen ganz nah beisammen. So
  ein Gefühlsausbruch fordert ganz schön viel – und zwar von allen Beteiligt
 en. Das Erlernen und Einordnen von Gefühlen ist eine wichtige Prävention vo
 r sexuellen Übergriffen. Ziel ist es, Kindern eine Sprache für ihren Körper
  zu geben. Sie sollen angenehme von unangenehmen Berührungen und gute von s
 chlechten Gefühlen unterscheiden können. Dafür braucht es nicht „das Aufklä
 rungsgespräch“, sondern eine offene und neugierige Haltung deinem Kind gege
 nüber.</p><p class="" style="white-space: pre-wrap;">Wir richten den Blick 
 auf eure ureigenen Werte und zeigen euch wie das Bewusstsein darüber für En
 tlastung sorgen kann.</p><p class="sqsrte-large" style="white-space: pre-wr
 ap;">Nach diesem Nachmittag …</p><p class="" style="white-space: pre-wrap;"
 >… erhältst du wichtigen Input zur Autonomiephase</p><p class="" style="whi
 te-space: pre-wrap;">… lernst du Strategien für den Umgang mit dieser herau
 sfordernden Zeit</p><p class="" style="white-space: pre-wrap;">… gewinnst d
 u einen Einblick in die kindliche sexuelle Entwicklung</p><p class="" style
 ="white-space: pre-wrap;">… lernst du Do’s and Dont’s zu dieser Altersgrupp
 e</p><p class="" style="white-space: pre-wrap;">… geben wir dir praktische 
 und theoretische Tipps</p><p class="" style="white-space: pre-wrap;"><stron
 g>On top erhältst du:</strong></p><p class="" style="white-space: pre-wrap;
 ">… maßgeschneiderte Handlungswerkzeuge für den Alltag in deiner Familie</p
 ><p class="" style="white-space: pre-wrap;">… Mut und Sicherheit mit dem Th
 ema Sexualität</p><p class="" style="white-space: pre-wrap;">… eine umfangr
 eiche Bücherliste für Kinder</p><p class="" style="white-space: pre-wrap;">
 … einen Mutmacher für zu Hause</p><p class="" style="white-space: pre-wrap;
 " data-rte-preserve-empty="true"> </p><p class="" style="white-space: pre-w
 rap;">Wir freuen uns auf Austausch und eure persönlichen Erfahrungen. In ei
 nem geschützten Rahmen gehen wir auf jede Familiensituationen individuell e
 in.</p><p class="" style="white-space: pre-wrap;"> </p><h4 style="white-spa
 ce: pre-wrap;">In Kooperation mit der wunderbaren Tamara Felbinger, BA: Sex
 ualpädagogin.<br /><a href="https://www.tamara-felbinger.at" target="_blank
 " rel="noopener noreferrer">www.tamara-felbinger.at</a></h4>
CONTACT:Sabine Grasmuk-Siegl, MSc Familienberaterin, Psychologische Beraterin, https://www.lieblingsmama.at/spezialangebote
X-EXTRAINFO:[preis='12400'][anmeldung='true']
DTSTAMP:20260423T125011
DTSTART:20220410T143000
DTEND:20220410T180000
SEQUENCE:0
TRANSP:OPAQUE
END:VEVENT
END:VCALENDAR