BEGIN:VCALENDAR
VERSION:2.0
PRODID:-//jEvents 2.0 for Joomla//EN
CALSCALE:GREGORIAN
METHOD:PUBLISH
BEGIN:VEVENT
UID:78821e7649575127901f0023496a8c01
CATEGORIES:3. Bezirk
CREATED:20220321T101904
SUMMARY:GeburtsNACHbereitung
LOCATION:LieblingsMAMA Praxis: Apostelgasse 29-31/1/9\, 1030 Wien
DESCRIPTION:Wir widmen uns dir und deiner individuellen Geschichte. Egal wie lange die 
 Geburt zurück liegt.\nEin Erlebnis, das mit nichts zu vergleichen ist: Die 
 Geburt deines Kindes. \nGeknüpft an so viele Erinnerungen und Emotionen. Üb
 er ein so bedeutendes Erlebnis ist es wert zu sprechen. Für dich, für ander
 e Mamas und für dein Kind.\nHast du schon über deine Geburt gesprochen? \nS
 ie in eigene Worte gefasst? \nSie angenommen, akzeptiert, deine Leistung ge
 würdigt?\nBei diesem Workshop schauen wir gemeinsam nocheinmal genau hin. W
 ir widmen uns dem Schönen, dem Herausfordernden, dem Emotionalen. Wir widme
 n uns DIR und deiner Geschichte.\nAm Ende des Workshops . . .\n… hast du de
 ine Geburt visualisiert\n… dich mit jedem Abschnitt deiner Geburt auseinand
 ergesetzt\n… hat Schönes und Belastendes seinen Platz in deiner Geburtsgesc
 hichte gefunden\n… hast du einen wohlwollenden, anerkennenden Blick auf dic
 h und deine Leistung\n… kreierst du dein persönliches Symbol für deine Gebu
 rtsgeschichte\nAufgrund der Intimität des Workshops gibt es nur eine sehr l
 imitierte Teilnehmerinnenzahl. Damit möchten wir gewährleisten, dass jede v
 on euch, den Raum bekommt, den sie benötigt.\n \nIn Kooperation mit der wun
 derbaren Mag. Martina Novak: Pädagogin und Sonder- &amp; Heilpädagogin, Mal
 - und Gestaltungstherapeutin.\nwww.biolino.at (https://l.facebook.com/l.php
 ?u=http%3A%2F%2Fwww.biolino.at%2F%3Ffbclid%3DIwAR30h9IOZk7DYVODNSSOegvTkhNs
 i63e8xMT8kBunDyl6WS7ybxCq0vhCTU&amp;h=AT2pW9yAUu1n9HPyK-v9siHKGQkUkgjsNQJWf
 31Fo21eENKo8PA_wSnww-BqwmT_c1BQ5tP_mG1lI8bg7qq8Ao8pwCXusiOK-O0yAf3AitrvwMqC
 8RFeVRhMMa8Wq-xqU2IuEjMYK6PYHTN-Yclr&amp;__tn__=q&amp;c[0]=AT2B4NDI5tryTIPY
 2UJgyW-PNbzqefDBDPkIhlIQEy2uUyqWQ443V9VLUTZnqxnnyM7rKt_Xt1untWLA5A12yCyVUpx
 _O2pyWQ9JYvLgcfhlQuKPnP_j8qRS-1HTmGGTideDXPFo27LploBRpqYvgy5xUoXEdTCMezAbRy
 LUJuUwwFs6gA) Sie begleitet deine Kinder, damit du von deiner Geburt erzähl
 en kannst.
X-ALT-DESC;FMTTYPE=text/html:<p class="sqsrte-large" style="white-space: pre-wrap;">Wir widmen uns dir u
 nd deiner individuellen Geschichte. Egal wie lange die Geburt zurück liegt.
 </p><p class="" style="white-space: pre-wrap;">Ein Erlebnis, das mit nichts
  zu vergleichen ist: Die Geburt deines Kindes. <br />Geknüpft an so viele E
 rinnerungen und Emotionen. Über ein so bedeutendes Erlebnis ist es wert zu 
 sprechen. Für dich, für andere Mamas und für dein Kind.</p><p class="" styl
 e="white-space: pre-wrap;">Hast du schon über deine Geburt gesprochen? <br 
 />Sie in eigene Worte gefasst? <br />Sie angenommen, akzeptiert, deine Leis
 tung gewürdigt?</p><p class="" style="white-space: pre-wrap;">Bei diesem Wo
 rkshop schauen wir gemeinsam nocheinmal genau hin. Wir widmen uns dem Schön
 en, dem Herausfordernden, dem Emotionalen. Wir widmen uns DIR und deiner Ge
 schichte.</p><p class="sqsrte-large" style="white-space: pre-wrap;">Am Ende
  des Workshops . . .</p><p class="" style="white-space: pre-wrap;">… hast d
 u deine Geburt visualisiert</p><p class="" style="white-space: pre-wrap;">…
  dich mit jedem Abschnitt deiner Geburt auseinandergesetzt</p><p class="" s
 tyle="white-space: pre-wrap;">… hat Schönes und Belastendes seinen Platz in
  deiner Geburtsgeschichte gefunden</p><p class="" style="white-space: pre-w
 rap;">… hast du einen wohlwollenden, anerkennenden Blick auf dich und deine
  Leistung</p><p class="" style="white-space: pre-wrap;">… kreierst du dein 
 persönliches Symbol für deine Geburtsgeschichte</p><p class="sqsrte-small" 
 style="white-space: pre-wrap;"><em>Aufgrund der Intimität des Workshops gib
 t es nur eine sehr limitierte Teilnehmerinnenzahl. Damit möchten wir gewähr
 leisten, dass jede von euch, den Raum bekommt, den sie benötigt.</em></p><p
  class="sqsrte-small" style="white-space: pre-wrap;"> </p><h4 style="white-
 space: pre-wrap;">In Kooperation mit der wunderbaren Mag. Martina Novak: Pä
 dagogin und Sonder- &amp; Heilpädagogin, Mal- und Gestaltungstherapeutin.<b
 r /><a href="https://l.facebook.com/l.php?u=http%3A%2F%2Fwww.biolino.at%2F%
 3Ffbclid%3DIwAR30h9IOZk7DYVODNSSOegvTkhNsi63e8xMT8kBunDyl6WS7ybxCq0vhCTU&am
 p;h=AT2pW9yAUu1n9HPyK-v9siHKGQkUkgjsNQJWf31Fo21eENKo8PA_wSnww-BqwmT_c1BQ5tP
 _mG1lI8bg7qq8Ao8pwCXusiOK-O0yAf3AitrvwMqC8RFeVRhMMa8Wq-xqU2IuEjMYK6PYHTN-Yc
 lr&amp;__tn__=q&amp;c[0]=AT2B4NDI5tryTIPY2UJgyW-PNbzqefDBDPkIhlIQEy2uUyqWQ4
 43V9VLUTZnqxnnyM7rKt_Xt1untWLA5A12yCyVUpx_O2pyWQ9JYvLgcfhlQuKPnP_j8qRS-1HTm
 GGTideDXPFo27LploBRpqYvgy5xUoXEdTCMezAbRyLUJuUwwFs6gA" target="_blank" rel=
 "noopener noreferrer">www.biolino.at</a> Sie begleitet deine Kinder, damit 
 du von deiner Geburt erzählen kannst.</h4>
CONTACT:Sabine Grasmuk-Siegl, MSc Familienberaterin, Psychologische Beraterin, https://www.lieblingsmama.at/spezialangebote
X-EXTRAINFO:[preis='13300'][anmeldung='true']
DTSTAMP:20260425T121801
DTSTART:20220405T071500
DTEND:20220405T100000
SEQUENCE:0
TRANSP:OPAQUE
END:VEVENT
END:VCALENDAR