BEGIN:VCALENDAR
VERSION:2.0
PRODID:-//jEvents 2.0 for Joomla//EN
CALSCALE:GREGORIAN
METHOD:PUBLISH
BEGIN:VEVENT
UID:3353981d6d78a23f726753b35913c2c7
CATEGORIES:10. Bezirk
CREATED:20220325T121103
SUMMARY:Hüpf, Flatter, Platsch (Outdoor-Workshop)
LOCATION:Erholungsgebiet Wienerberg
DESCRIPTION:<div class="group-header"><br /><h4 class="sharethis-buttons">Tierische Kre
 ativ-Workshops</h4></div><div class="group-left"><div class="field-text"><p
 >Bei diesen Workshops erforschen wir die unterschiedlichen Lebensräume der 
 Tiere genauer und toben uns dabei kreativ aus. Eltern und Kinder verbringen
  2 Stunden an der frischen Luft und lassen sich inspirieren.</p><p>Während 
 wir den Lebensraum der Tiere erkunden, lernen wir diese spielerisch kennen.
  Zwischen den Entdeckungsspaziergängen machen wir immer wieder Pausen und b
 eschäftigen uns kreativ mit den Tieren die wir entdeckt haben. Je nach Lebe
 nsraum und Jahreszeit, arbeiten wir mit den dementsprechenden Materialien, 
 z.B. Wasser holen und Farben mischen, Naturmaterialien sammeln und verarbei
 ten, Pusteblumen sammeln und Bilder pusten und mehr.</p><p>Spaziergänge, ac
 htsames Beobachten und Sammeln, gehören genauso dazu, wie kleine Abenteuer 
 und natürlich viele kreative Ideen und Anregungen.</p><p>Es gelten die aktu
 ellen Covid-19 Regeln.</p><p> </p><p><strong>Themen</strong>:</p><strong>So
 nntag, 10.4.2022, 09:30 – 11:30 Uhr</strong><p>FLATTERN &amp; BRUMMEN (Schm
 etterling, Biene und Co.)</p> <h4>Alter</h4><p>1,5 - 8 Jahre</p><p> </p><h4
 >Kosten</h4><p>24 Euro (2 Stunden) pro Kind</p><p>Mama und Papa zahlen nich
 ts.</p><p>Weitere erwachsene Personen und Geschwisterrabatt auf Anfrage!</p
 ><p> </p><h4>Kursort</h4><p>Erholungsgebiet Wienerberg - gegenüber vom Park
 platz</p><p>Grohnergasse 1, 1100 Wien</p><p>Öffentliche Erreichbarkeit:<br 
 /> U6 bis Station „Am Schöpfwerk”, Autobuslinie 16A bis Station “ Computers
 traße”, ca. 5 Gehminuten</p><p> </p><h4>Anmeldung</h4><p>Einfach per E-Mail
  an <a href="mailto:anmeldung@tierischerkreativgarten.at">anmeldung@tierisc
 herkreativgarten.at</a></p><p>Weitere Infos unter <a href="https://tierisch
 erkreativgarten.at/kurse/hüpf-flatter-platsch-0">https://tierischerkreativg
 arten.at/kurse/hüpf-flatter-platsch-0</a></p></div></div>
CONTACT:anmeldung@tierischerkreativgarten.at
X-EXTRAINFO:[preis='2400'][anmeldung='true']
DTSTAMP:20260423T124631
DTSTART:20220410T073000
DTEND:20220410T093000
SEQUENCE:0
TRANSP:OPAQUE
END:VEVENT
END:VCALENDAR