BEGIN:VCALENDAR
VERSION:2.0
PRODID:-//jEvents 2.0 for Joomla//EN
CALSCALE:GREGORIAN
METHOD:PUBLISH
BEGIN:VEVENT
UID:b6aabd373f7d3d38d178de6c515cc5d7
CATEGORIES:9. Bezirk
CREATED:20220328T114806
SUMMARY:HERZLICH WILLKOMMEN - sanfte Aromapflege zur Hautpflege der Kleinsten und Linderung möglicher Beschwerden
LOCATION:Hebammenzentrum; Lazarettgasse 6/2/1; 1090 Wien
DESCRIPTION:<div class="kvgmc6g5 cxmmr5t8 oygrvhab hcukyx3x c1et5uql">WAS ERWARTET DICH
 ?</div><div class="kvgmc6g5 cxmmr5t8 oygrvhab hcukyx3x c1et5uql"> </div><di
 v class="cxmmr5t8 oygrvhab hcukyx3x c1et5uql o9v6fnle">Ätherische Öle und i
 hre "Pflanzenpower" sind für die Kleinsten nur bedingt geeignet.<br />Uns s
 tehen jedoch viele fette Pflanzenöle und Hydrolate zur Verfügung, um die er
 sten Beschwerden auf eine sanfte Weise zu lindern und die Haut auf eine gan
 z natürliche Weise zu pflegen!</div><div class="cxmmr5t8 oygrvhab hcukyx3x 
 c1et5uql o9v6fnle"><br />* Wir widmen uns unter anderem der Hautpflege nach
  dem Bad und der Pflege der Haut im strapazierten Windelbereich.</div><div 
 class="cxmmr5t8 oygrvhab hcukyx3x c1et5uql o9v6fnle"> </div><div class="cxm
 mr5t8 oygrvhab hcukyx3x c1et5uql o9v6fnle">* Ich zeige dir, wie du dein Bab
 y entsprechend der Jahreszeiten optimal pflegst - je nachdem ob ein eisiger
  Wind ums Näschen weht oder die ersten Sonnenstrahlen die Zehenspitzen kitz
 eln.<br /><br />* Natürliche Badezusätze, Reinigungstücher und vieles mehr 
 kannst du (nach den persönlichen Duftvorlieben) selbst herstellen. Ich gebe
  dir Tipps für eine unkomplizierte (familienalltagstaugliche) Umsetzung dah
 eim.?</div><div class="cxmmr5t8 oygrvhab hcukyx3x c1et5uql o9v6fnle"> </div
 ><div class="cxmmr5t8 oygrvhab hcukyx3x c1et5uql o9v6fnle">* Beschwerden wi
 e Schmerzen beim Zahnen, Blähungen oder Schnupfennasen können durch die san
 fte Anwendung der Aromapflege sowie bewährte Hausmittel gelindert werden. A
 uch dazu gibt es bewährte Tipps und Anwendungsempfehlungen.</div><div class
 ="cxmmr5t8 oygrvhab hcukyx3x c1et5uql o9v6fnle"> </div><div class="cxmmr5t8
  oygrvhab hcukyx3x c1et5uql o9v6fnle"> </div><div class="cxmmr5t8 oygrvhab 
 hcukyx3x c1et5uql o9v6fnle">PREISE:<br />pro Person: 45.-<br />Paarpreis au
 f Anfrage</div><div class="cxmmr5t8 oygrvhab hcukyx3x c1et5uql o9v6fnle">in
 kl. Handout sowie die besprochenen fetten Pflanzenöle, Hydrolate und Anscha
 uungsmaterial zum Kennenlernen vor Ort.</div><div class="cxmmr5t8 oygrvhab 
 hcukyx3x c1et5uql o9v6fnle"> </div><div class="cxmmr5t8 oygrvhab hcukyx3x c
 1et5uql o9v6fnle"> </div><div class="cxmmr5t8 oygrvhab hcukyx3x c1et5uql o9
 v6fnle">KEINEN BABYSITTER GEFUNDEN?<br />Kein Problem, dein Kleines kann di
 ch ruhig zu unserem Workshop begleiten!</div><div class="cxmmr5t8 oygrvhab 
 hcukyx3x c1et5uql o9v6fnle"> </div><div class="cxmmr5t8 oygrvhab hcukyx3x c
 1et5uql o9v6fnle">weitere Infos und Anmeldung unter <a class="oajrlxb2 g5ia
 77u1 qu0x051f esr5mh6w e9989ue4 r7d6kgcz rq0escxv nhd2j8a9 nc684nl6 p7hjln8
 o kvgmc6g5 cxmmr5t8 oygrvhab hcukyx3x jb3vyjys rz4wbd8a qt6c0cv9 a8nywdso i
 1ao9s8h esuyzwwr f1sip0of lzcic4wl gpro0wi8 py34i1dx" tabindex="0" href="ht
 tp://www.makili.at/?fbclid=IwAR2nyFwAZc6PASfIZLNVDf_6hRoTJy-tY6XafM1pVXT7Zc
 6_dtTer7gwsPw" target="_blank" rel="nofollow noopener noreferrer">www.makil
 i.at</a></div><p> </p>
CONTACT:www.makili.at; makili@gmx.at
X-EXTRAINFO:[preis='4500'][anmeldung='true']
DTSTAMP:20260423T112033
DTSTART:20220518T073000
DTEND:20220518T100000
SEQUENCE:0
TRANSP:OPAQUE
END:VEVENT
END:VCALENDAR