BEGIN:VCALENDAR
VERSION:2.0
PRODID:-//jEvents 2.0 for Joomla//EN
CALSCALE:GREGORIAN
METHOD:PUBLISH
BEGIN:VEVENT
UID:ffe02cb7206fd60445e5b9e5d9f6b5d1
CATEGORIES:6. Bezirk
CREATED:20220330T231255
SUMMARY:BABYMASSAGE in Kleingruppe
LOCATION:6.\, Sandwirtgasse 13/12
DESCRIPTION:Babymassage  (https://www.biolino.at/babymassage/kleingruppen-babymassage/)
 im Biolino Institut\n "Beziehung durch Berührung"\nFür dein Baby sind deine
  Berührungen und deine körperliche Nähe sehr wichtig, damit es sich geistig
  und seelisch gesund entwickeln kann. Die innige Zeit stärkt eure Beziehung
  und ist das Fundament für das Urvertrauen deines Babys. Deine Berührungen 
 beim Streicheln, Massieren, Tragen und Kuscheln, vermitteln ihm Geborgenhei
 t und Sicherheit.\nWas erwartet dich:\n Wie dein Baby all dies genießen und
  davon körperlich und emotional profitieren kann, zeige ich dir in ruhiger 
 Wohlfühl-Atmosphäre im Biolino Institut.\nKursinformationen\n - 3 Einheiten
  zu je 60 Minuten\n - gemütliche Kleingruppe mit maximal 4 Babys\nTermine:2
 ., 9., und 16. Mai 2022\n Uhrzeit: 13.00 - 14.00 Uhr\n Kosten: € 79,-\nInfo
 s und Anmeldung: https://www.biolino.at/babymassage/kleingruppen-babymassag
 e/ (https://www.biolino.at/babymassage/kleingruppen-babymassage/)\nDu erfäh
 rst alle wichtigen Grundlagen der Babymassage  (https://www.biolino.at/baby
 massage/kleingruppen-babymassage/)und kannst am Ende des Kurses dein Baby b
 ei körperlichen und emotionalen Beschwerden unterstützen. Für die Massage w
 ird ein biologisches Öl zur Verfügung gestellt. Du erhältst außerdem ein au
 sführliches Handout mit allen Techniken und Griffen und ein eklusives Goodi
 e-Bag.\n \n\n Ich freue mich auf eine entspannte, gemütliche Babymassage  (
 https://www.biolino.at/babymassage/kleingruppen-babymassage/)mit euch!\nAll
 es Liebe,\n Martina\n
X-ALT-DESC;FMTTYPE=text/html:<p><a href="https://www.biolino.at/babymassage/kleingruppen-babymassage/">B
 abymassage </a>im Biolino Institut<br /> "Beziehung durch Berührung"</p><p>
 Für dein Baby sind deine Berührungen und deine körperliche Nähe sehr wichti
 g, damit es sich geistig und seelisch gesund entwickeln kann. Die innige Ze
 it stärkt eure Beziehung und ist das Fundament für das Urvertrauen deines B
 abys. Deine Berührungen beim Streicheln, Massieren, Tragen und Kuscheln, ve
 rmitteln ihm Geborgenheit und Sicherheit.</p><p>Was erwartet dich:<br /> Wi
 e dein Baby all dies genießen und davon körperlich und emotional profitiere
 n kann, zeige ich dir in ruhiger Wohlfühl-Atmosphäre im Biolino Institut.</
 p><p>Kursinformationen<br /> - 3 Einheiten zu je 60 Minuten<br /> - gemütli
 che Kleingruppe mit maximal 4 Babys</p><p>Termine:2., 9., und 16. Mai 2022<
 br /> Uhrzeit: 13.00 - 14.00 Uhr<br /> Kosten: € 79,-</p><p>Infos und Anmel
 dung: <a href="https://www.biolino.at/babymassage/kleingruppen-babymassage/
 ">https://www.biolino.at/babymassage/kleingruppen-babymassage/</a></p><p>Du
  erfährst alle wichtigen Grundlagen der <a href="https://www.biolino.at/bab
 ymassage/kleingruppen-babymassage/">Babymassage </a>und kannst am Ende des 
 Kurses dein Baby bei körperlichen und emotionalen Beschwerden unterstützen.
  Für die Massage wird ein biologisches Öl zur Verfügung gestellt. Du erhält
 st außerdem ein ausführliches Handout mit allen Techniken und Griffen und e
 in eklusives Goodie-Bag.</p><p> </p><p><br /> Ich freue mich auf eine entsp
 annte, gemütliche <a href="https://www.biolino.at/babymassage/kleingruppen-
 babymassage/">Babymassage </a>mit euch!</p><p>Alles Liebe,<br /> Martina</p
 >
CONTACT:martina.novak@biolino.at, 067762892970
X-EXTRAINFO:[preis='7900'][anmeldung='true']
DTSTAMP:20260423T161708
DTSTART:20220502T110000
DTEND:20220502T120000
SEQUENCE:0
TRANSP:OPAQUE
END:VEVENT
END:VCALENDAR